BEGIN:VCALENDAR
VERSION:2.0
PRODID:-//Stonehouse Town Council - ECPv6.15.20//NONSGML v1.0//EN
CALSCALE:GREGORIAN
METHOD:PUBLISH
X-WR-CALNAME:Stonehouse Town Council
X-ORIGINAL-URL:https://stonehousetowncouncil.gov.uk
X-WR-CALDESC:Events for Stonehouse Town Council
REFRESH-INTERVAL;VALUE=DURATION:PT1H
X-Robots-Tag:noindex
X-PUBLISHED-TTL:PT1H
BEGIN:VTIMEZONE
TZID:Europe/London
BEGIN:DAYLIGHT
TZOFFSETFROM:+0000
TZOFFSETTO:+0100
TZNAME:BST
DTSTART:20230326T010000
END:DAYLIGHT
BEGIN:STANDARD
TZOFFSETFROM:+0100
TZOFFSETTO:+0000
TZNAME:GMT
DTSTART:20231029T010000
END:STANDARD
BEGIN:DAYLIGHT
TZOFFSETFROM:+0000
TZOFFSETTO:+0100
TZNAME:BST
DTSTART:20240331T010000
END:DAYLIGHT
BEGIN:STANDARD
TZOFFSETFROM:+0100
TZOFFSETTO:+0000
TZNAME:GMT
DTSTART:20241027T010000
END:STANDARD
BEGIN:DAYLIGHT
TZOFFSETFROM:+0000
TZOFFSETTO:+0100
TZNAME:BST
DTSTART:20250330T010000
END:DAYLIGHT
BEGIN:STANDARD
TZOFFSETFROM:+0100
TZOFFSETTO:+0000
TZNAME:GMT
DTSTART:20251026T010000
END:STANDARD
END:VTIMEZONE
BEGIN:VEVENT
DTSTART;VALUE=DATE:20240713
DTEND;VALUE=DATE:20240714
DTSTAMP:20260421T041709
CREATED:20240711T122249Z
LAST-MODIFIED:20240711T123317Z
UID:10007770-1720828800-1720915199@stonehousetowncouncil.gov.uk
SUMMARY:Flower Sculpture Trail
DESCRIPTION:Discover the flower sculptures along the trail and vote for your favourite sculpture.\nPick up a trail map from The Old Chapel Garden on Saturday 13th July (2-4:30pm) or from Stonehouse Town Council weekdays between 15th -26th July or by emailing contactus@stonehousetowncouncil.gov.uk\nReturn your entries to Stonehouse Town Council by 26th July.\nBrought to you by Stonehouse Town Council in support of Stonehouse in Bloom.
URL:https://stonehousetowncouncil.gov.uk/event/flower-sculpture-trail/2024-07-13/
CATEGORIES:Community,Free,Stonehouse in Bloom,Stonehouse Town Council
ATTACH;FMTTYPE=image/jpeg:https://stonehousetowncouncil.gov.uk/wp-content/uploads/2024/07/SIB-Flower-Sculpture-Trail-Poster-2024.jpg
ORGANIZER;CN="Stonehouse Town Council":MAILTO:contactus@stonehousetowncouncil.gov.uk
END:VEVENT
BEGIN:VEVENT
DTSTART;TZID=Europe/London:20240713T110000
DTEND;TZID=Europe/London:20240713T163000
DTSTAMP:20260421T041709
CREATED:20240626T104229Z
LAST-MODIFIED:20240626T104550Z
UID:10007757-1720868400-1720888200@stonehousetowncouncil.gov.uk
SUMMARY:Highways and Byways Exhibition
DESCRIPTION:Highways and Byways – How did people get about 200 years ago? A free exhibition about local turnpikes\, toll gates\, coaching inns\, ancient tracks and footpaths\, the people who travelled them and how they carried their goods. Old maps\, turnpike riots and complaints\, potholes\, road accidents and highway robbery!\nBy local historians from Amberley\, Bisley\, Chalford\, Minchinhampton\, Oakridge\, Painswick\, Pitchcombe\, Randwick\, Rodborough\, Sheepscombe\, Stinchcombe\, Stonehouse\, Stroud and Woodchester.\nAdmission free\, donations welcome\, books for sale.
URL:https://stonehousetowncouncil.gov.uk/event/highways-and-byways-exhibition/2024-07-13/
LOCATION:Museum in the Park\, Stratford Park\, Stratford Road\, Stroud\, GL5 4AF\, United Kingdom
CATEGORIES:Community,History
ATTACH;FMTTYPE=image/jpeg:https://stonehousetowncouncil.gov.uk/wp-content/uploads/2024/06/Highways-and-Byways-Talk.jpg
ORGANIZER;CN="Museum in the Park":MAILTO:museum@stroud.gov.uk
END:VEVENT
BEGIN:VEVENT
DTSTART;TZID=Europe/London:20240713T140000
DTEND;TZID=Europe/London:20240713T163000
DTSTAMP:20260421T041709
CREATED:20240711T121849Z
LAST-MODIFIED:20240711T122935Z
UID:10007769-1720879200-1720888200@stonehousetowncouncil.gov.uk
SUMMARY:Stonehouse in Bloom Afternoon Tea
DESCRIPTION:Please come and join us this Saturday for some tasty cakes and refreshments in The Old Chapel Garden\, all in aid of Stonehouse in Bloom. Keeping our green-fingers crossed for good weather!\nIt’s also the launch of the Stonehouse Flower Sculpture Trail (see separate event)\nParking available in the main High Street car park\, although we encourage you to take public transport where viable. Public toilets are also within the car park. The Old Chapel Garden is wheelchair/mobility scooter accessible.\nWe look forward to seeing you there!
URL:https://stonehousetowncouncil.gov.uk/event/stonehouse-in-bloom-afternoon-tea/
LOCATION:The Old Chapel Garden\, High Street\, Stonehouse\, GL10 2NA\, United Kingdom
CATEGORIES:Community,Fundraising,Stonehouse in Bloom
ATTACH;FMTTYPE=image/jpeg:https://stonehousetowncouncil.gov.uk/wp-content/uploads/2024/07/SIB-Afternoon-Tea-13-7-24.jpg
ORGANIZER;CN="Stonehouse in Bloom":MAILTO:deborah.curtis647580@gmail.com
END:VEVENT
END:VCALENDAR