BEGIN:VCALENDAR
VERSION:2.0
PRODID:-//Stonehouse Town Council - ECPv6.15.20//NONSGML v1.0//EN
CALSCALE:GREGORIAN
METHOD:PUBLISH
X-WR-CALNAME:Stonehouse Town Council
X-ORIGINAL-URL:https://stonehousetowncouncil.gov.uk
X-WR-CALDESC:Events for Stonehouse Town Council
REFRESH-INTERVAL;VALUE=DURATION:PT1H
X-Robots-Tag:noindex
X-PUBLISHED-TTL:PT1H
BEGIN:VTIMEZONE
TZID:Europe/London
BEGIN:DAYLIGHT
TZOFFSETFROM:+0000
TZOFFSETTO:+0100
TZNAME:BST
DTSTART:20230326T010000
END:DAYLIGHT
BEGIN:STANDARD
TZOFFSETFROM:+0100
TZOFFSETTO:+0000
TZNAME:GMT
DTSTART:20231029T010000
END:STANDARD
BEGIN:DAYLIGHT
TZOFFSETFROM:+0000
TZOFFSETTO:+0100
TZNAME:BST
DTSTART:20240331T010000
END:DAYLIGHT
BEGIN:STANDARD
TZOFFSETFROM:+0100
TZOFFSETTO:+0000
TZNAME:GMT
DTSTART:20241027T010000
END:STANDARD
BEGIN:DAYLIGHT
TZOFFSETFROM:+0000
TZOFFSETTO:+0100
TZNAME:BST
DTSTART:20250330T010000
END:DAYLIGHT
BEGIN:STANDARD
TZOFFSETFROM:+0100
TZOFFSETTO:+0000
TZNAME:GMT
DTSTART:20251026T010000
END:STANDARD
END:VTIMEZONE
BEGIN:VEVENT
DTSTART;VALUE=DATE:20240716
DTEND;VALUE=DATE:20240717
DTSTAMP:20260421T041711
CREATED:20240711T122249Z
LAST-MODIFIED:20240711T123317Z
UID:10007773-1721088000-1721174399@stonehousetowncouncil.gov.uk
SUMMARY:Flower Sculpture Trail
DESCRIPTION:Discover the flower sculptures along the trail and vote for your favourite sculpture.\nPick up a trail map from The Old Chapel Garden on Saturday 13th July (2-4:30pm) or from Stonehouse Town Council weekdays between 15th -26th July or by emailing contactus@stonehousetowncouncil.gov.uk\nReturn your entries to Stonehouse Town Council by 26th July.\nBrought to you by Stonehouse Town Council in support of Stonehouse in Bloom.
URL:https://stonehousetowncouncil.gov.uk/event/flower-sculpture-trail/2024-07-16/
CATEGORIES:Community,Free,Stonehouse in Bloom,Stonehouse Town Council
ATTACH;FMTTYPE=image/jpeg:https://stonehousetowncouncil.gov.uk/wp-content/uploads/2024/07/SIB-Flower-Sculpture-Trail-Poster-2024.jpg
ORGANIZER;CN="Stonehouse Town Council":MAILTO:contactus@stonehousetowncouncil.gov.uk
END:VEVENT
BEGIN:VEVENT
DTSTART;TZID=Europe/London:20240716T110000
DTEND;TZID=Europe/London:20240716T163000
DTSTAMP:20260421T041711
CREATED:20240626T104229Z
LAST-MODIFIED:20240626T104550Z
UID:10007760-1721127600-1721147400@stonehousetowncouncil.gov.uk
SUMMARY:Highways and Byways Exhibition
DESCRIPTION:Highways and Byways – How did people get about 200 years ago? A free exhibition about local turnpikes\, toll gates\, coaching inns\, ancient tracks and footpaths\, the people who travelled them and how they carried their goods. Old maps\, turnpike riots and complaints\, potholes\, road accidents and highway robbery!\nBy local historians from Amberley\, Bisley\, Chalford\, Minchinhampton\, Oakridge\, Painswick\, Pitchcombe\, Randwick\, Rodborough\, Sheepscombe\, Stinchcombe\, Stonehouse\, Stroud and Woodchester.\nAdmission free\, donations welcome\, books for sale.
URL:https://stonehousetowncouncil.gov.uk/event/highways-and-byways-exhibition/2024-07-16/
LOCATION:Museum in the Park\, Stratford Park\, Stratford Road\, Stroud\, GL5 4AF\, United Kingdom
CATEGORIES:Community,History
ATTACH;FMTTYPE=image/jpeg:https://stonehousetowncouncil.gov.uk/wp-content/uploads/2024/06/Highways-and-Byways-Talk.jpg
ORGANIZER;CN="Museum in the Park":MAILTO:museum@stroud.gov.uk
END:VEVENT
BEGIN:VEVENT
DTSTART;TZID=Europe/London:20240716T190000
DTEND;TZID=Europe/London:20240716T200000
DTSTAMP:20260421T041711
CREATED:20240425T094312Z
LAST-MODIFIED:20240425T094312Z
UID:10007235-1721156400-1721160000@stonehousetowncouncil.gov.uk
SUMMARY:Karate Lessons with Cotswold Karate Club
DESCRIPTION:Karate lessons for those aged 10 and over at\nSt Joseph’s Church Hall\nOldends Lane\nStonehouse. \nTraining Fees are £4 a week\, payable on the night. \nThere are No Joining Fees \nCome and see what you think – First lesson is free.
URL:https://stonehousetowncouncil.gov.uk/event/karate-lessons-with-cotswold-karate-club/2024-07-16/
LOCATION:St Josephs Church Hall\, Oldends Lane\, Stonehouse\, GL10 2DG\, United Kingdom
CATEGORIES:Sport
ATTACH;FMTTYPE=image/png:https://stonehousetowncouncil.gov.uk/wp-content/uploads/2024/04/ckc-.png
ORGANIZER;CN="Cotswold Karate Club":MAILTO:cotswoldkarateclub@gmail.com
END:VEVENT
END:VCALENDAR