BEGIN:VCALENDAR
VERSION:2.0
PRODID:-//Stonehouse Town Council - ECPv6.15.20//NONSGML v1.0//EN
CALSCALE:GREGORIAN
METHOD:PUBLISH
X-WR-CALNAME:Stonehouse Town Council
X-ORIGINAL-URL:https://stonehousetowncouncil.gov.uk
X-WR-CALDESC:Events for Stonehouse Town Council
REFRESH-INTERVAL;VALUE=DURATION:PT1H
X-Robots-Tag:noindex
X-PUBLISHED-TTL:PT1H
BEGIN:VTIMEZONE
TZID:Europe/London
BEGIN:DAYLIGHT
TZOFFSETFROM:+0000
TZOFFSETTO:+0100
TZNAME:BST
DTSTART:20230326T010000
END:DAYLIGHT
BEGIN:STANDARD
TZOFFSETFROM:+0100
TZOFFSETTO:+0000
TZNAME:GMT
DTSTART:20231029T010000
END:STANDARD
BEGIN:DAYLIGHT
TZOFFSETFROM:+0000
TZOFFSETTO:+0100
TZNAME:BST
DTSTART:20240331T010000
END:DAYLIGHT
BEGIN:STANDARD
TZOFFSETFROM:+0100
TZOFFSETTO:+0000
TZNAME:GMT
DTSTART:20241027T010000
END:STANDARD
BEGIN:DAYLIGHT
TZOFFSETFROM:+0000
TZOFFSETTO:+0100
TZNAME:BST
DTSTART:20250330T010000
END:DAYLIGHT
BEGIN:STANDARD
TZOFFSETFROM:+0100
TZOFFSETTO:+0000
TZNAME:GMT
DTSTART:20251026T010000
END:STANDARD
END:VTIMEZONE
BEGIN:VEVENT
DTSTART;VALUE=DATE:20240717
DTEND;VALUE=DATE:20240718
DTSTAMP:20260421T060640
CREATED:20240711T122249Z
LAST-MODIFIED:20240711T123317Z
UID:10007774-1721174400-1721260799@stonehousetowncouncil.gov.uk
SUMMARY:Flower Sculpture Trail
DESCRIPTION:Discover the flower sculptures along the trail and vote for your favourite sculpture.\nPick up a trail map from The Old Chapel Garden on Saturday 13th July (2-4:30pm) or from Stonehouse Town Council weekdays between 15th -26th July or by emailing contactus@stonehousetowncouncil.gov.uk\nReturn your entries to Stonehouse Town Council by 26th July.\nBrought to you by Stonehouse Town Council in support of Stonehouse in Bloom.
URL:https://stonehousetowncouncil.gov.uk/event/flower-sculpture-trail/2024-07-17/
CATEGORIES:Community,Free,Stonehouse in Bloom,Stonehouse Town Council
ATTACH;FMTTYPE=image/jpeg:https://stonehousetowncouncil.gov.uk/wp-content/uploads/2024/07/SIB-Flower-Sculpture-Trail-Poster-2024.jpg
ORGANIZER;CN="Stonehouse Town Council":MAILTO:contactus@stonehousetowncouncil.gov.uk
END:VEVENT
BEGIN:VEVENT
DTSTART;TZID=Europe/London:20240717T110000
DTEND;TZID=Europe/London:20240717T163000
DTSTAMP:20260421T060640
CREATED:20240626T104229Z
LAST-MODIFIED:20240626T104550Z
UID:10007761-1721214000-1721233800@stonehousetowncouncil.gov.uk
SUMMARY:Highways and Byways Exhibition
DESCRIPTION:Highways and Byways – How did people get about 200 years ago? A free exhibition about local turnpikes\, toll gates\, coaching inns\, ancient tracks and footpaths\, the people who travelled them and how they carried their goods. Old maps\, turnpike riots and complaints\, potholes\, road accidents and highway robbery!\nBy local historians from Amberley\, Bisley\, Chalford\, Minchinhampton\, Oakridge\, Painswick\, Pitchcombe\, Randwick\, Rodborough\, Sheepscombe\, Stinchcombe\, Stonehouse\, Stroud and Woodchester.\nAdmission free\, donations welcome\, books for sale.
URL:https://stonehousetowncouncil.gov.uk/event/highways-and-byways-exhibition/2024-07-17/
LOCATION:Museum in the Park\, Stratford Park\, Stratford Road\, Stroud\, GL5 4AF\, United Kingdom
CATEGORIES:Community,History
ATTACH;FMTTYPE=image/jpeg:https://stonehousetowncouncil.gov.uk/wp-content/uploads/2024/06/Highways-and-Byways-Talk.jpg
ORGANIZER;CN="Museum in the Park":MAILTO:museum@stroud.gov.uk
END:VEVENT
BEGIN:VEVENT
DTSTART;TZID=Europe/London:20240717T190000
DTEND;TZID=Europe/London:20240717T200000
DTSTAMP:20260421T060640
CREATED:20240715T102207Z
LAST-MODIFIED:20240715T102207Z
UID:10008163-1721242800-1721246400@stonehousetowncouncil.gov.uk
SUMMARY:New Yoga Class
DESCRIPTION:Vinyasa Yoga\, lead by Bethany starts Wednesday 17th July at 7pm at the Douglas Morley Hall.\n£5 per person.\nEnergising\, empowering flow for mind\, body and soul!
URL:https://stonehousetowncouncil.gov.uk/event/new-yoga-class/
LOCATION:Douglas Morley Hall\, Park Road\, Stonehouse\, GL10 2DW\, United Kingdom
CATEGORIES:Community,Events,Health and Wellbeing,Sport
ATTACH;FMTTYPE=image/jpeg:https://stonehousetowncouncil.gov.uk/wp-content/uploads/2024/07/download.jpg
END:VEVENT
END:VCALENDAR