BEGIN:VCALENDAR
VERSION:2.0
PRODID:-//Stonehouse Town Council - ECPv6.15.20//NONSGML v1.0//EN
CALSCALE:GREGORIAN
METHOD:PUBLISH
X-WR-CALNAME:Stonehouse Town Council
X-ORIGINAL-URL:https://stonehousetowncouncil.gov.uk
X-WR-CALDESC:Events for Stonehouse Town Council
REFRESH-INTERVAL;VALUE=DURATION:PT1H
X-Robots-Tag:noindex
X-PUBLISHED-TTL:PT1H
BEGIN:VTIMEZONE
TZID:Europe/London
BEGIN:DAYLIGHT
TZOFFSETFROM:+0000
TZOFFSETTO:+0100
TZNAME:BST
DTSTART:20240331T010000
END:DAYLIGHT
BEGIN:STANDARD
TZOFFSETFROM:+0100
TZOFFSETTO:+0000
TZNAME:GMT
DTSTART:20241027T010000
END:STANDARD
BEGIN:DAYLIGHT
TZOFFSETFROM:+0000
TZOFFSETTO:+0100
TZNAME:BST
DTSTART:20250330T010000
END:DAYLIGHT
BEGIN:STANDARD
TZOFFSETFROM:+0100
TZOFFSETTO:+0000
TZNAME:GMT
DTSTART:20251026T010000
END:STANDARD
BEGIN:DAYLIGHT
TZOFFSETFROM:+0000
TZOFFSETTO:+0100
TZNAME:BST
DTSTART:20260329T010000
END:DAYLIGHT
BEGIN:STANDARD
TZOFFSETFROM:+0100
TZOFFSETTO:+0000
TZNAME:GMT
DTSTART:20261025T010000
END:STANDARD
END:VTIMEZONE
BEGIN:VEVENT
DTSTART;TZID=Europe/London:20250318T070000
DTEND;TZID=Europe/London:20250318T220000
DTSTAMP:20260420T171225
CREATED:20250225T141314Z
LAST-MODIFIED:20250225T141314Z
UID:10008573-1742281200-1742335200@stonehousetowncouncil.gov.uk
SUMMARY:Stonehouse Councillors Election
DESCRIPTION:Elections are taking place in the parish wards of Stonehouse on Tuesday 18 March:\nCentral Ward\nNorth Ward \nCheck now that you’re registered to vote!\nRegistration deadline – midnight on Friday 28 February\nPostal vote deadline – 5pm on Monday 3 March\nProxy vote deadline – 5pm on Monday 10 March \nThere’s more information here \nIf you have any enquiries\, please email elections@stroud.gov.uk or call 01453 766321.
URL:https://stonehousetowncouncil.gov.uk/event/stonehouse-councillors-election/
LOCATION:Stonehouse\, United Kingdom
CATEGORIES:Stonehouse Town Council
ORGANIZER;CN="Stroud District Council":MAILTO:elections@stroud.gov.uk
END:VEVENT
BEGIN:VEVENT
DTSTART;TZID=Europe/London:20250318T190000
DTEND;TZID=Europe/London:20250318T200000
DTSTAMP:20260420T171225
CREATED:20240425T094312Z
LAST-MODIFIED:20240425T094312Z
UID:10007270-1742324400-1742328000@stonehousetowncouncil.gov.uk
SUMMARY:Karate Lessons with Cotswold Karate Club
DESCRIPTION:Karate lessons for those aged 10 and over at\nSt Joseph’s Church Hall\nOldends Lane\nStonehouse. \nTraining Fees are £4 a week\, payable on the night. \nThere are No Joining Fees \nCome and see what you think – First lesson is free.
URL:https://stonehousetowncouncil.gov.uk/event/karate-lessons-with-cotswold-karate-club/2025-03-18/
LOCATION:St Josephs Church Hall\, Oldends Lane\, Stonehouse\, GL10 2DG\, United Kingdom
CATEGORIES:Sport
ATTACH;FMTTYPE=image/png:https://stonehousetowncouncil.gov.uk/wp-content/uploads/2024/04/ckc-.png
ORGANIZER;CN="Cotswold Karate Club":MAILTO:cotswoldkarateclub@gmail.com
END:VEVENT
END:VCALENDAR