BEGIN:VCALENDAR
VERSION:2.0
PRODID:-//Stonehouse Town Council - ECPv6.15.20//NONSGML v1.0//EN
CALSCALE:GREGORIAN
METHOD:PUBLISH
X-ORIGINAL-URL:https://stonehousetowncouncil.gov.uk
X-WR-CALDESC:Events for Stonehouse Town Council
REFRESH-INTERVAL;VALUE=DURATION:PT1H
X-Robots-Tag:noindex
X-PUBLISHED-TTL:PT1H
BEGIN:VTIMEZONE
TZID:Europe/London
BEGIN:DAYLIGHT
TZOFFSETFROM:+0000
TZOFFSETTO:+0100
TZNAME:BST
DTSTART:20240331T010000
END:DAYLIGHT
BEGIN:STANDARD
TZOFFSETFROM:+0100
TZOFFSETTO:+0000
TZNAME:GMT
DTSTART:20241027T010000
END:STANDARD
BEGIN:DAYLIGHT
TZOFFSETFROM:+0000
TZOFFSETTO:+0100
TZNAME:BST
DTSTART:20250330T010000
END:DAYLIGHT
BEGIN:STANDARD
TZOFFSETFROM:+0100
TZOFFSETTO:+0000
TZNAME:GMT
DTSTART:20251026T010000
END:STANDARD
BEGIN:DAYLIGHT
TZOFFSETFROM:+0000
TZOFFSETTO:+0100
TZNAME:BST
DTSTART:20260329T010000
END:DAYLIGHT
BEGIN:STANDARD
TZOFFSETFROM:+0100
TZOFFSETTO:+0000
TZNAME:GMT
DTSTART:20261025T010000
END:STANDARD
BEGIN:DAYLIGHT
TZOFFSETFROM:+0000
TZOFFSETTO:+0100
TZNAME:BST
DTSTART:20270328T010000
END:DAYLIGHT
BEGIN:STANDARD
TZOFFSETFROM:+0100
TZOFFSETTO:+0000
TZNAME:GMT
DTSTART:20271031T010000
END:STANDARD
END:VTIMEZONE
BEGIN:VEVENT
DTSTART;VALUE=DATE:20250812
DTEND;VALUE=DATE:20250813
DTSTAMP:20260421T061736
CREATED:20250803T122754Z
LAST-MODIFIED:20250803T123756Z
UID:10008977-1754956800-1755043199@stonehousetowncouncil.gov.uk
SUMMARY:APT Nature Trail
DESCRIPTION:Looking for something to do with the family? Collect your trail sheet from APT or the All Pets in Quietways. Find all the pictures around the town and then return your sheet to APT with a chance to win a chocolate bunny. The trail starts on the 4th August and ends on Monday 18th August. So plenty of time to find all the pictures.
URL:https://stonehousetowncouncil.gov.uk/event/apt-nature-trail/2025-08-12/
LOCATION:Stonehouse\, United Kingdom
CATEGORIES:Community,Nature
ORGANIZER;CN="All Pulling Together":MAILTO:aptcentral@btconnect.com
END:VEVENT
BEGIN:VEVENT
DTSTART;VALUE=DATE:20250813
DTEND;VALUE=DATE:20250814
DTSTAMP:20260421T061736
CREATED:20250803T122754Z
LAST-MODIFIED:20250803T123756Z
UID:10008978-1755043200-1755129599@stonehousetowncouncil.gov.uk
SUMMARY:APT Nature Trail
DESCRIPTION:Looking for something to do with the family? Collect your trail sheet from APT or the All Pets in Quietways. Find all the pictures around the town and then return your sheet to APT with a chance to win a chocolate bunny. The trail starts on the 4th August and ends on Monday 18th August. So plenty of time to find all the pictures.
URL:https://stonehousetowncouncil.gov.uk/event/apt-nature-trail/2025-08-13/
LOCATION:Stonehouse\, United Kingdom
CATEGORIES:Community,Nature
ORGANIZER;CN="All Pulling Together":MAILTO:aptcentral@btconnect.com
END:VEVENT
BEGIN:VEVENT
DTSTART;VALUE=DATE:20250814
DTEND;VALUE=DATE:20250815
DTSTAMP:20260421T061736
CREATED:20250803T122754Z
LAST-MODIFIED:20250803T123756Z
UID:10008979-1755129600-1755215999@stonehousetowncouncil.gov.uk
SUMMARY:APT Nature Trail
DESCRIPTION:Looking for something to do with the family? Collect your trail sheet from APT or the All Pets in Quietways. Find all the pictures around the town and then return your sheet to APT with a chance to win a chocolate bunny. The trail starts on the 4th August and ends on Monday 18th August. So plenty of time to find all the pictures.
URL:https://stonehousetowncouncil.gov.uk/event/apt-nature-trail/2025-08-14/
LOCATION:Stonehouse\, United Kingdom
CATEGORIES:Community,Nature
ORGANIZER;CN="All Pulling Together":MAILTO:aptcentral@btconnect.com
END:VEVENT
BEGIN:VEVENT
DTSTART;VALUE=DATE:20250815
DTEND;VALUE=DATE:20250816
DTSTAMP:20260421T061736
CREATED:20250803T122754Z
LAST-MODIFIED:20250803T123756Z
UID:10008980-1755216000-1755302399@stonehousetowncouncil.gov.uk
SUMMARY:APT Nature Trail
DESCRIPTION:Looking for something to do with the family? Collect your trail sheet from APT or the All Pets in Quietways. Find all the pictures around the town and then return your sheet to APT with a chance to win a chocolate bunny. The trail starts on the 4th August and ends on Monday 18th August. So plenty of time to find all the pictures.
URL:https://stonehousetowncouncil.gov.uk/event/apt-nature-trail/2025-08-15/
LOCATION:Stonehouse\, United Kingdom
CATEGORIES:Community,Nature
ORGANIZER;CN="All Pulling Together":MAILTO:aptcentral@btconnect.com
END:VEVENT
BEGIN:VEVENT
DTSTART;TZID=Europe/London:20250815T090000
DTEND;TZID=Europe/London:20250815T100000
DTSTAMP:20260421T061736
CREATED:20250803T123501Z
LAST-MODIFIED:20250803T123526Z
UID:10008969-1755248400-1755252000@stonehousetowncouncil.gov.uk
SUMMARY:VJ Day 80th Anniversary Celebration Event
DESCRIPTION:Friday August 15th 9am on the Memorial Green.\nRaising the Union Flag\, laying the VJ Day 80 Wreath on behalf of the Stonehouse RBL Branch and a short service by a RBL Chaplain.\nEmail Stonehouse.Secretary@RBL.Community or call 07764 253582
URL:https://stonehousetowncouncil.gov.uk/event/vj-day-80th-anniversary-celebration-event/
LOCATION:Memorial Green\, High Street\, Stonehouse\, GL10 2NA
CATEGORIES:Celebration,Community,RBL,Remembrance
ATTACH;FMTTYPE=image/jpeg:https://stonehousetowncouncil.gov.uk/wp-content/uploads/2025/08/RBL-Stonehouse-VJ-Day-80-2025.jpg
END:VEVENT
BEGIN:VEVENT
DTSTART;VALUE=DATE:20250816
DTEND;VALUE=DATE:20250817
DTSTAMP:20260421T061736
CREATED:20250803T122754Z
LAST-MODIFIED:20250803T123756Z
UID:10008981-1755302400-1755388799@stonehousetowncouncil.gov.uk
SUMMARY:APT Nature Trail
DESCRIPTION:Looking for something to do with the family? Collect your trail sheet from APT or the All Pets in Quietways. Find all the pictures around the town and then return your sheet to APT with a chance to win a chocolate bunny. The trail starts on the 4th August and ends on Monday 18th August. So plenty of time to find all the pictures.
URL:https://stonehousetowncouncil.gov.uk/event/apt-nature-trail/2025-08-16/
LOCATION:Stonehouse\, United Kingdom
CATEGORIES:Community,Nature
ORGANIZER;CN="All Pulling Together":MAILTO:aptcentral@btconnect.com
END:VEVENT
BEGIN:VEVENT
DTSTART;TZID=Europe/London:20250816T120000
DTEND;TZID=Europe/London:20250816T160000
DTSTAMP:20260421T061736
CREATED:20250710T161036Z
LAST-MODIFIED:20250710T161142Z
UID:10008966-1755345600-1755360000@stonehousetowncouncil.gov.uk
SUMMARY:APT Family Fun Day
DESCRIPTION:Our Family Fun Day is back! Saturday 16th August 12 noon till 4pm on the Three Greens in Park Estate.\nWe have a few spaces left for stalls\, so if you have a business or a hobby and would like to have a stall\, get in contact with us. It could be cakes\, craft\, plants anything to sell on the day. There is no charge for a pitch\, just bring a prize for our raffle.\nOur Fun Days are always popular so book in and make sure you are part of the fun!!\nMessage us on Facebook or phone the office on 01453 822705 to book a pitch for your stall.
URL:https://stonehousetowncouncil.gov.uk/event/apt-family-fun-day/
LOCATION:Three Greens – Park Estate\, 36 Severn Road\, Stonehouse\, GL10 2DL\, United Kingdom
CATEGORIES:Community,Events,Free
ATTACH;FMTTYPE=image/jpeg:https://stonehousetowncouncil.gov.uk/wp-content/uploads/2025/07/514862072_1136896371808900_4945692660244164280_n.jpg
ORGANIZER;CN="All Pulling Together":MAILTO:aptcentral@btconnect.com
END:VEVENT
BEGIN:VEVENT
DTSTART;VALUE=DATE:20250817
DTEND;VALUE=DATE:20250818
DTSTAMP:20260421T061736
CREATED:20250803T122754Z
LAST-MODIFIED:20250803T123756Z
UID:10008982-1755388800-1755475199@stonehousetowncouncil.gov.uk
SUMMARY:APT Nature Trail
DESCRIPTION:Looking for something to do with the family? Collect your trail sheet from APT or the All Pets in Quietways. Find all the pictures around the town and then return your sheet to APT with a chance to win a chocolate bunny. The trail starts on the 4th August and ends on Monday 18th August. So plenty of time to find all the pictures.
URL:https://stonehousetowncouncil.gov.uk/event/apt-nature-trail/2025-08-17/
LOCATION:Stonehouse\, United Kingdom
CATEGORIES:Community,Nature
ORGANIZER;CN="All Pulling Together":MAILTO:aptcentral@btconnect.com
END:VEVENT
BEGIN:VEVENT
DTSTART;VALUE=DATE:20250818
DTEND;VALUE=DATE:20250819
DTSTAMP:20260421T061736
CREATED:20250803T122754Z
LAST-MODIFIED:20250803T123756Z
UID:10008983-1755475200-1755561599@stonehousetowncouncil.gov.uk
SUMMARY:APT Nature Trail
DESCRIPTION:Looking for something to do with the family? Collect your trail sheet from APT or the All Pets in Quietways. Find all the pictures around the town and then return your sheet to APT with a chance to win a chocolate bunny. The trail starts on the 4th August and ends on Monday 18th August. So plenty of time to find all the pictures.
URL:https://stonehousetowncouncil.gov.uk/event/apt-nature-trail/2025-08-18/
LOCATION:Stonehouse\, United Kingdom
CATEGORIES:Community,Nature
ORGANIZER;CN="All Pulling Together":MAILTO:aptcentral@btconnect.com
END:VEVENT
BEGIN:VEVENT
DTSTART;TZID=Europe/London:20250905T180000
DTEND;TZID=Europe/London:20250914T200000
DTSTAMP:20260421T061736
CREATED:20250701T132213Z
LAST-MODIFIED:20250710T153235Z
UID:10008578-1757095200-1757880000@stonehousetowncouncil.gov.uk
SUMMARY:Stonehouse Walking Festival (2025)
DESCRIPTION:The Festival includes a wide variety of guided walks for all ages and abilities – and it’s free! The walks on offer range from short walks and strolls\, to day-long hikes for fitter walkers. There may also be a boat trip suitable for wheelchair users and pushchairs. In addition there will be walks with added special interests including family fun\, history\, canal and trees. \nStonehouse town is an ideal base for exploring this area of Outstanding Natural Beauty. Pathways including the Cotswold Way lead in all directions across fields\, through woodlands\, along canal\, river and rail trails\, and onto rolling countryside\, hills and valleys. Panoramic views can be enjoyed all around\, including across to the Severn valley and beyond. \nJoin us for the walking festival. It’s a great opportunity to meet like-minded people\, and to find out more about Stonehouse and its beautiful surroundings. \nFor a schedule and full details\, visit the festival’s website: stonehousewalks.co.uk\nor Facebook: facebook.com/Stonehousewalkingfestival\nor pick up full brochures from the Town Hall\, Library\, Coop\, Cotswold Canals Trust Bookshop\, Share & Repair
URL:https://stonehousetowncouncil.gov.uk/event/stonehouse-walking-festival-2025/
LOCATION:Stonehouse\, United Kingdom
CATEGORIES:Canal,Community,Environment,Events,Health and Wellbeing,Walking Festival
ATTACH;FMTTYPE=image/png:https://stonehousetowncouncil.gov.uk/wp-content/uploads/2025/07/SWF-banner-1200-x-621px-2025.png
ORGANIZER;CN="Stonehouse Walking Festival":MAILTO:stonehousewalkfest@gmail.com
END:VEVENT
BEGIN:VEVENT
DTSTART;TZID=Europe/London:20250906T150000
DTEND;TZID=Europe/London:20250906T200000
DTSTAMP:20260421T061736
CREATED:20250721T154545Z
LAST-MODIFIED:20250721T154545Z
UID:10008967-1757170800-1757188800@stonehousetowncouncil.gov.uk
SUMMARY:Stonehouse Community Festival
DESCRIPTION:Saturday 6th September 3 – 8pm in Laburnum Park.\nCircus Skills\, Dog Show\, Live Music\, Food Stalls and Craft Stalls.\nFREE parking available in the High Street Car Park.
URL:https://stonehousetowncouncil.gov.uk/event/stonehouse-community-festival/
LOCATION:Laburnum Park\, 29 Laburnum Walk\, Stonehouse\, GL10 2NR\, United Kingdom
CATEGORIES:Community,Events,Free,Stonehouse Town Council
ATTACH;FMTTYPE=image/jpeg:https://stonehousetowncouncil.gov.uk/wp-content/uploads/2025/07/Stonehouse-Community-Festival.jpg
ORGANIZER;CN="Stonehouse Town Council":MAILTO:contactus@stonehousetowncouncil.gov.uk
END:VEVENT
BEGIN:VEVENT
DTSTART;TZID=Europe/London:20251101T143000
DTEND;TZID=Europe/London:20251101T163000
DTSTAMP:20260421T061736
CREATED:20251031T105453Z
LAST-MODIFIED:20251031T105453Z
UID:10009350-1762007400-1762014600@stonehousetowncouncil.gov.uk
SUMMARY:Stonehouse in Bloom Tea & Cake
DESCRIPTION:Tea & Cake Event\nThis Saturday 1st November 2:30-4:30pm\nStonehouse Library\nWith the days getting darker and danker\, we thought a ‘Tea & Cake’ event may brighten up the town!\nJoin us for some yummy baked delights and refreshments.\nWe’ll also have musical accompaniment from ‘The Elastic Band’.\nThere will also be Stonehouse in Bloom card sets (£5 each) and brand new Stonehouse in Bloom Tea Towels (£10 each) – see image.\nIt will be a great relaxing afternoon in aid of Stonehouse in Bloom.\nWe look forward to seeing you there!
URL:https://stonehousetowncouncil.gov.uk/event/stonehouse-in-bloom-tea-cake/
LOCATION:Stonehouse Library\, High Street\, Stonehouse\, GL10 2NG\, United Kingdom
CATEGORIES:Community,Fundraising,Stonehouse in Bloom
ATTACH;FMTTYPE=image/jpeg:https://stonehousetowncouncil.gov.uk/wp-content/uploads/2025/10/SIB-Tea-and-Cake-Nov-25-scaled.jpg
ORGANIZER;CN="Stonehouse in Bloom":MAILTO:deborah.curtis647580@gmail.com
END:VEVENT
BEGIN:VEVENT
DTSTART;TZID=Europe/London:20251206T140000
DTEND;TZID=Europe/London:20251206T173000
DTSTAMP:20260421T061736
CREATED:20251128T174328Z
LAST-MODIFIED:20251128T174328Z
UID:10009866-1765029600-1765042200@stonehousetowncouncil.gov.uk
SUMMARY:Goodwill Fest
DESCRIPTION:Stonehouse Town Council organises the annual Goodwill Fest\, that marks the start of the town’s Christmas celebrations. \nThere are lots of stalls selling seasonal goods and potential Christmas presents\, children activities\, Father Christmas in his makeshift grotto and street entertainers and music. Several local businesses join in the fun of the day by decorating their shop windows and a wide range of seasonal food and drink is also on offer. \nFather Christmas will be driven up the High Street in an open-top car to switch on the town lights on the main Town Green outside of the Medical Centre. \nWe look forward to welcoming you all to this year’s Goodwill Fest. \nSee our Goodwill Fest page for more information.
URL:https://stonehousetowncouncil.gov.uk/event/goodwill-fest-2/
LOCATION:Stonehouse Community Centre\, Laburnum Walk\, Stonehouse\, GL10 2NS\, United Kingdom
CATEGORIES:Christmas,Community,Stonehouse Town Council
ATTACH;FMTTYPE=image/jpeg:https://stonehousetowncouncil.gov.uk/wp-content/uploads/2025/09/Goodwill-Fest-Poster-2025-scaled.jpg
ORGANIZER;CN="Stonehouse Town Council":MAILTO:contactus@stonehousetowncouncil.gov.uk
END:VEVENT
BEGIN:VEVENT
DTSTART;TZID=Europe/London:20251220T110000
DTEND;TZID=Europe/London:20251220T120000
DTSTAMP:20260421T061736
CREATED:20251209T101157Z
LAST-MODIFIED:20251209T101157Z
UID:10009867-1766228400-1766232000@stonehousetowncouncil.gov.uk
SUMMARY:Stonehouse Civic Carol Singing
DESCRIPTION:Stonehouse Civic Carol Singing with the Nailsworth Silver Band. There will also be Mince Pies!
URL:https://stonehousetowncouncil.gov.uk/event/stonehouse-civic-carol-singing-2/
LOCATION:Town Green
CATEGORIES:Christmas,Community,Free
ATTACH;FMTTYPE=image/jpeg:https://stonehousetowncouncil.gov.uk/wp-content/uploads/2025/12/Stonehouse-Civic-Carol-Service-2025-scaled.jpg
END:VEVENT
BEGIN:VEVENT
DTSTART;TZID=Europe/London:20260228T143000
DTEND;TZID=Europe/London:20260228T163000
DTSTAMP:20260421T061736
CREATED:20260223T180302Z
LAST-MODIFIED:20260223T180302Z
UID:10009868-1772289000-1772296200@stonehousetowncouncil.gov.uk
SUMMARY:Stonehouse in Bloom Tea & Cake
DESCRIPTION:Tea & Cake Event\nSaturday 28th February 2:30-4:30pm\nStonehouse Library\nIt’s that time… cake\, community and convivial company in Stonehouse.\nJoin us for some yummy baked delights and refreshments.\nWe’ll also have musical accompaniment from ‘The Elastic Band’.\nThere will be new ‘Springtime’ Stonehouse in Bloom greetings cards sets (£5 each) and we’ve restocked our beautiful Stonehouse in Bloom Tea Towels (£10 each). We can take both cash and card payments.\nIt will be a great relaxing afternoon in aid of Stonehouse in Bloom.\nWe look forward to seeing you there!
URL:https://stonehousetowncouncil.gov.uk/event/stonehouse-in-bloom-tea-cake-2/
LOCATION:Stonehouse Library\, High Street\, Stonehouse\, GL10 2NG\, United Kingdom
CATEGORIES:Community,Fundraising,Stonehouse in Bloom
ATTACH;FMTTYPE=image/jpeg:https://stonehousetowncouncil.gov.uk/wp-content/uploads/2026/02/SIB-Tea-and-Cake-Feb-26.jpg
ORGANIZER;CN="Stonehouse in Bloom":MAILTO:deborah.curtis647580@gmail.com
END:VEVENT
END:VCALENDAR