BEGIN:VCALENDAR
VERSION:2.0
PRODID:-//Stonehouse Town Council - ECPv6.15.20//NONSGML v1.0//EN
CALSCALE:GREGORIAN
METHOD:PUBLISH
X-ORIGINAL-URL:https://stonehousetowncouncil.gov.uk
X-WR-CALDESC:Events for Stonehouse Town Council
REFRESH-INTERVAL;VALUE=DURATION:PT1H
X-Robots-Tag:noindex
X-PUBLISHED-TTL:PT1H
BEGIN:VTIMEZONE
TZID:Europe/London
BEGIN:DAYLIGHT
TZOFFSETFROM:+0000
TZOFFSETTO:+0100
TZNAME:BST
DTSTART:20260329T010000
END:DAYLIGHT
BEGIN:STANDARD
TZOFFSETFROM:+0100
TZOFFSETTO:+0000
TZNAME:GMT
DTSTART:20261025T010000
END:STANDARD
BEGIN:DAYLIGHT
TZOFFSETFROM:+0000
TZOFFSETTO:+0100
TZNAME:BST
DTSTART:20270328T010000
END:DAYLIGHT
BEGIN:STANDARD
TZOFFSETFROM:+0100
TZOFFSETTO:+0000
TZNAME:GMT
DTSTART:20271031T010000
END:STANDARD
BEGIN:DAYLIGHT
TZOFFSETFROM:+0000
TZOFFSETTO:+0100
TZNAME:BST
DTSTART:20280326T010000
END:DAYLIGHT
BEGIN:STANDARD
TZOFFSETFROM:+0100
TZOFFSETTO:+0000
TZNAME:GMT
DTSTART:20281029T010000
END:STANDARD
BEGIN:DAYLIGHT
TZOFFSETFROM:+0000
TZOFFSETTO:+0100
TZNAME:BST
DTSTART:20290325T010000
END:DAYLIGHT
BEGIN:STANDARD
TZOFFSETFROM:+0100
TZOFFSETTO:+0000
TZNAME:GMT
DTSTART:20291028T010000
END:STANDARD
END:VTIMEZONE
BEGIN:VEVENT
DTSTART;TZID=Europe/London:20270727T190000
DTEND;TZID=Europe/London:20270727T200000
DTSTAMP:20260421T000044
CREATED:20240425T094312Z
LAST-MODIFIED:20240425T094312Z
UID:10007393-1816714800-1816718400@stonehousetowncouncil.gov.uk
SUMMARY:Karate Lessons with Cotswold Karate Club
DESCRIPTION:Karate lessons for those aged 10 and over at\nSt Joseph’s Church Hall\nOldends Lane\nStonehouse. \nTraining Fees are £4 a week\, payable on the night. \nThere are No Joining Fees \nCome and see what you think – First lesson is free.
URL:https://stonehousetowncouncil.gov.uk/event/karate-lessons-with-cotswold-karate-club/2027-07-27/
LOCATION:St Josephs Church Hall\, Oldends Lane\, Stonehouse\, GL10 2DG\, United Kingdom
CATEGORIES:Sport
ATTACH;FMTTYPE=image/png:https://stonehousetowncouncil.gov.uk/wp-content/uploads/2024/04/ckc-.png
ORGANIZER;CN="Cotswold Karate Club":MAILTO:cotswoldkarateclub@gmail.com
END:VEVENT
BEGIN:VEVENT
DTSTART;TZID=Europe/London:20270803T190000
DTEND;TZID=Europe/London:20270803T200000
DTSTAMP:20260421T000044
CREATED:20240425T094312Z
LAST-MODIFIED:20240425T094312Z
UID:10007394-1817319600-1817323200@stonehousetowncouncil.gov.uk
SUMMARY:Karate Lessons with Cotswold Karate Club
DESCRIPTION:Karate lessons for those aged 10 and over at\nSt Joseph’s Church Hall\nOldends Lane\nStonehouse. \nTraining Fees are £4 a week\, payable on the night. \nThere are No Joining Fees \nCome and see what you think – First lesson is free.
URL:https://stonehousetowncouncil.gov.uk/event/karate-lessons-with-cotswold-karate-club/2027-08-03/
LOCATION:St Josephs Church Hall\, Oldends Lane\, Stonehouse\, GL10 2DG\, United Kingdom
CATEGORIES:Sport
ATTACH;FMTTYPE=image/png:https://stonehousetowncouncil.gov.uk/wp-content/uploads/2024/04/ckc-.png
ORGANIZER;CN="Cotswold Karate Club":MAILTO:cotswoldkarateclub@gmail.com
END:VEVENT
BEGIN:VEVENT
DTSTART;TZID=Europe/London:20270810T190000
DTEND;TZID=Europe/London:20270810T200000
DTSTAMP:20260421T000044
CREATED:20240425T094312Z
LAST-MODIFIED:20240425T094312Z
UID:10007395-1817924400-1817928000@stonehousetowncouncil.gov.uk
SUMMARY:Karate Lessons with Cotswold Karate Club
DESCRIPTION:Karate lessons for those aged 10 and over at\nSt Joseph’s Church Hall\nOldends Lane\nStonehouse. \nTraining Fees are £4 a week\, payable on the night. \nThere are No Joining Fees \nCome and see what you think – First lesson is free.
URL:https://stonehousetowncouncil.gov.uk/event/karate-lessons-with-cotswold-karate-club/2027-08-10/
LOCATION:St Josephs Church Hall\, Oldends Lane\, Stonehouse\, GL10 2DG\, United Kingdom
CATEGORIES:Sport
ATTACH;FMTTYPE=image/png:https://stonehousetowncouncil.gov.uk/wp-content/uploads/2024/04/ckc-.png
ORGANIZER;CN="Cotswold Karate Club":MAILTO:cotswoldkarateclub@gmail.com
END:VEVENT
BEGIN:VEVENT
DTSTART;TZID=Europe/London:20270817T190000
DTEND;TZID=Europe/London:20270817T200000
DTSTAMP:20260421T000044
CREATED:20240425T094312Z
LAST-MODIFIED:20240425T094312Z
UID:10007396-1818529200-1818532800@stonehousetowncouncil.gov.uk
SUMMARY:Karate Lessons with Cotswold Karate Club
DESCRIPTION:Karate lessons for those aged 10 and over at\nSt Joseph’s Church Hall\nOldends Lane\nStonehouse. \nTraining Fees are £4 a week\, payable on the night. \nThere are No Joining Fees \nCome and see what you think – First lesson is free.
URL:https://stonehousetowncouncil.gov.uk/event/karate-lessons-with-cotswold-karate-club/2027-08-17/
LOCATION:St Josephs Church Hall\, Oldends Lane\, Stonehouse\, GL10 2DG\, United Kingdom
CATEGORIES:Sport
ATTACH;FMTTYPE=image/png:https://stonehousetowncouncil.gov.uk/wp-content/uploads/2024/04/ckc-.png
ORGANIZER;CN="Cotswold Karate Club":MAILTO:cotswoldkarateclub@gmail.com
END:VEVENT
BEGIN:VEVENT
DTSTART;TZID=Europe/London:20270824T190000
DTEND;TZID=Europe/London:20270824T200000
DTSTAMP:20260421T000044
CREATED:20240425T094312Z
LAST-MODIFIED:20240425T094312Z
UID:10007397-1819134000-1819137600@stonehousetowncouncil.gov.uk
SUMMARY:Karate Lessons with Cotswold Karate Club
DESCRIPTION:Karate lessons for those aged 10 and over at\nSt Joseph’s Church Hall\nOldends Lane\nStonehouse. \nTraining Fees are £4 a week\, payable on the night. \nThere are No Joining Fees \nCome and see what you think – First lesson is free.
URL:https://stonehousetowncouncil.gov.uk/event/karate-lessons-with-cotswold-karate-club/2027-08-24/
LOCATION:St Josephs Church Hall\, Oldends Lane\, Stonehouse\, GL10 2DG\, United Kingdom
CATEGORIES:Sport
ATTACH;FMTTYPE=image/png:https://stonehousetowncouncil.gov.uk/wp-content/uploads/2024/04/ckc-.png
ORGANIZER;CN="Cotswold Karate Club":MAILTO:cotswoldkarateclub@gmail.com
END:VEVENT
BEGIN:VEVENT
DTSTART;TZID=Europe/London:20270831T190000
DTEND;TZID=Europe/London:20270831T200000
DTSTAMP:20260421T000044
CREATED:20240425T094312Z
LAST-MODIFIED:20240425T094312Z
UID:10007398-1819738800-1819742400@stonehousetowncouncil.gov.uk
SUMMARY:Karate Lessons with Cotswold Karate Club
DESCRIPTION:Karate lessons for those aged 10 and over at\nSt Joseph’s Church Hall\nOldends Lane\nStonehouse. \nTraining Fees are £4 a week\, payable on the night. \nThere are No Joining Fees \nCome and see what you think – First lesson is free.
URL:https://stonehousetowncouncil.gov.uk/event/karate-lessons-with-cotswold-karate-club/2027-08-31/
LOCATION:St Josephs Church Hall\, Oldends Lane\, Stonehouse\, GL10 2DG\, United Kingdom
CATEGORIES:Sport
ATTACH;FMTTYPE=image/png:https://stonehousetowncouncil.gov.uk/wp-content/uploads/2024/04/ckc-.png
ORGANIZER;CN="Cotswold Karate Club":MAILTO:cotswoldkarateclub@gmail.com
END:VEVENT
BEGIN:VEVENT
DTSTART;TZID=Europe/London:20270907T190000
DTEND;TZID=Europe/London:20270907T200000
DTSTAMP:20260421T000044
CREATED:20240425T094312Z
LAST-MODIFIED:20240425T094312Z
UID:10007399-1820343600-1820347200@stonehousetowncouncil.gov.uk
SUMMARY:Karate Lessons with Cotswold Karate Club
DESCRIPTION:Karate lessons for those aged 10 and over at\nSt Joseph’s Church Hall\nOldends Lane\nStonehouse. \nTraining Fees are £4 a week\, payable on the night. \nThere are No Joining Fees \nCome and see what you think – First lesson is free.
URL:https://stonehousetowncouncil.gov.uk/event/karate-lessons-with-cotswold-karate-club/2027-09-07/
LOCATION:St Josephs Church Hall\, Oldends Lane\, Stonehouse\, GL10 2DG\, United Kingdom
CATEGORIES:Sport
ATTACH;FMTTYPE=image/png:https://stonehousetowncouncil.gov.uk/wp-content/uploads/2024/04/ckc-.png
ORGANIZER;CN="Cotswold Karate Club":MAILTO:cotswoldkarateclub@gmail.com
END:VEVENT
BEGIN:VEVENT
DTSTART;TZID=Europe/London:20270914T190000
DTEND;TZID=Europe/London:20270914T200000
DTSTAMP:20260421T000044
CREATED:20240425T094312Z
LAST-MODIFIED:20240425T094312Z
UID:10007400-1820948400-1820952000@stonehousetowncouncil.gov.uk
SUMMARY:Karate Lessons with Cotswold Karate Club
DESCRIPTION:Karate lessons for those aged 10 and over at\nSt Joseph’s Church Hall\nOldends Lane\nStonehouse. \nTraining Fees are £4 a week\, payable on the night. \nThere are No Joining Fees \nCome and see what you think – First lesson is free.
URL:https://stonehousetowncouncil.gov.uk/event/karate-lessons-with-cotswold-karate-club/2027-09-14/
LOCATION:St Josephs Church Hall\, Oldends Lane\, Stonehouse\, GL10 2DG\, United Kingdom
CATEGORIES:Sport
ATTACH;FMTTYPE=image/png:https://stonehousetowncouncil.gov.uk/wp-content/uploads/2024/04/ckc-.png
ORGANIZER;CN="Cotswold Karate Club":MAILTO:cotswoldkarateclub@gmail.com
END:VEVENT
BEGIN:VEVENT
DTSTART;TZID=Europe/London:20270921T190000
DTEND;TZID=Europe/London:20270921T200000
DTSTAMP:20260421T000044
CREATED:20240425T094312Z
LAST-MODIFIED:20240425T094312Z
UID:10007401-1821553200-1821556800@stonehousetowncouncil.gov.uk
SUMMARY:Karate Lessons with Cotswold Karate Club
DESCRIPTION:Karate lessons for those aged 10 and over at\nSt Joseph’s Church Hall\nOldends Lane\nStonehouse. \nTraining Fees are £4 a week\, payable on the night. \nThere are No Joining Fees \nCome and see what you think – First lesson is free.
URL:https://stonehousetowncouncil.gov.uk/event/karate-lessons-with-cotswold-karate-club/2027-09-21/
LOCATION:St Josephs Church Hall\, Oldends Lane\, Stonehouse\, GL10 2DG\, United Kingdom
CATEGORIES:Sport
ATTACH;FMTTYPE=image/png:https://stonehousetowncouncil.gov.uk/wp-content/uploads/2024/04/ckc-.png
ORGANIZER;CN="Cotswold Karate Club":MAILTO:cotswoldkarateclub@gmail.com
END:VEVENT
BEGIN:VEVENT
DTSTART;TZID=Europe/London:20270928T190000
DTEND;TZID=Europe/London:20270928T200000
DTSTAMP:20260421T000044
CREATED:20240425T094312Z
LAST-MODIFIED:20240425T094312Z
UID:10007402-1822158000-1822161600@stonehousetowncouncil.gov.uk
SUMMARY:Karate Lessons with Cotswold Karate Club
DESCRIPTION:Karate lessons for those aged 10 and over at\nSt Joseph’s Church Hall\nOldends Lane\nStonehouse. \nTraining Fees are £4 a week\, payable on the night. \nThere are No Joining Fees \nCome and see what you think – First lesson is free.
URL:https://stonehousetowncouncil.gov.uk/event/karate-lessons-with-cotswold-karate-club/2027-09-28/
LOCATION:St Josephs Church Hall\, Oldends Lane\, Stonehouse\, GL10 2DG\, United Kingdom
CATEGORIES:Sport
ATTACH;FMTTYPE=image/png:https://stonehousetowncouncil.gov.uk/wp-content/uploads/2024/04/ckc-.png
ORGANIZER;CN="Cotswold Karate Club":MAILTO:cotswoldkarateclub@gmail.com
END:VEVENT
BEGIN:VEVENT
DTSTART;TZID=Europe/London:20271005T190000
DTEND;TZID=Europe/London:20271005T200000
DTSTAMP:20260421T000044
CREATED:20240425T094312Z
LAST-MODIFIED:20240425T094312Z
UID:10007403-1822762800-1822766400@stonehousetowncouncil.gov.uk
SUMMARY:Karate Lessons with Cotswold Karate Club
DESCRIPTION:Karate lessons for those aged 10 and over at\nSt Joseph’s Church Hall\nOldends Lane\nStonehouse. \nTraining Fees are £4 a week\, payable on the night. \nThere are No Joining Fees \nCome and see what you think – First lesson is free.
URL:https://stonehousetowncouncil.gov.uk/event/karate-lessons-with-cotswold-karate-club/2027-10-05/
LOCATION:St Josephs Church Hall\, Oldends Lane\, Stonehouse\, GL10 2DG\, United Kingdom
CATEGORIES:Sport
ATTACH;FMTTYPE=image/png:https://stonehousetowncouncil.gov.uk/wp-content/uploads/2024/04/ckc-.png
ORGANIZER;CN="Cotswold Karate Club":MAILTO:cotswoldkarateclub@gmail.com
END:VEVENT
BEGIN:VEVENT
DTSTART;TZID=Europe/London:20271012T190000
DTEND;TZID=Europe/London:20271012T200000
DTSTAMP:20260421T000045
CREATED:20240425T094312Z
LAST-MODIFIED:20240425T094312Z
UID:10007404-1823367600-1823371200@stonehousetowncouncil.gov.uk
SUMMARY:Karate Lessons with Cotswold Karate Club
DESCRIPTION:Karate lessons for those aged 10 and over at\nSt Joseph’s Church Hall\nOldends Lane\nStonehouse. \nTraining Fees are £4 a week\, payable on the night. \nThere are No Joining Fees \nCome and see what you think – First lesson is free.
URL:https://stonehousetowncouncil.gov.uk/event/karate-lessons-with-cotswold-karate-club/2027-10-12/
LOCATION:St Josephs Church Hall\, Oldends Lane\, Stonehouse\, GL10 2DG\, United Kingdom
CATEGORIES:Sport
ATTACH;FMTTYPE=image/png:https://stonehousetowncouncil.gov.uk/wp-content/uploads/2024/04/ckc-.png
ORGANIZER;CN="Cotswold Karate Club":MAILTO:cotswoldkarateclub@gmail.com
END:VEVENT
BEGIN:VEVENT
DTSTART;TZID=Europe/London:20271019T190000
DTEND;TZID=Europe/London:20271019T200000
DTSTAMP:20260421T000045
CREATED:20240425T094312Z
LAST-MODIFIED:20240425T094312Z
UID:10007405-1823972400-1823976000@stonehousetowncouncil.gov.uk
SUMMARY:Karate Lessons with Cotswold Karate Club
DESCRIPTION:Karate lessons for those aged 10 and over at\nSt Joseph’s Church Hall\nOldends Lane\nStonehouse. \nTraining Fees are £4 a week\, payable on the night. \nThere are No Joining Fees \nCome and see what you think – First lesson is free.
URL:https://stonehousetowncouncil.gov.uk/event/karate-lessons-with-cotswold-karate-club/2027-10-19/
LOCATION:St Josephs Church Hall\, Oldends Lane\, Stonehouse\, GL10 2DG\, United Kingdom
CATEGORIES:Sport
ATTACH;FMTTYPE=image/png:https://stonehousetowncouncil.gov.uk/wp-content/uploads/2024/04/ckc-.png
ORGANIZER;CN="Cotswold Karate Club":MAILTO:cotswoldkarateclub@gmail.com
END:VEVENT
BEGIN:VEVENT
DTSTART;TZID=Europe/London:20271026T190000
DTEND;TZID=Europe/London:20271026T200000
DTSTAMP:20260421T000045
CREATED:20240425T094312Z
LAST-MODIFIED:20240425T094312Z
UID:10007406-1824577200-1824580800@stonehousetowncouncil.gov.uk
SUMMARY:Karate Lessons with Cotswold Karate Club
DESCRIPTION:Karate lessons for those aged 10 and over at\nSt Joseph’s Church Hall\nOldends Lane\nStonehouse. \nTraining Fees are £4 a week\, payable on the night. \nThere are No Joining Fees \nCome and see what you think – First lesson is free.
URL:https://stonehousetowncouncil.gov.uk/event/karate-lessons-with-cotswold-karate-club/2027-10-26/
LOCATION:St Josephs Church Hall\, Oldends Lane\, Stonehouse\, GL10 2DG\, United Kingdom
CATEGORIES:Sport
ATTACH;FMTTYPE=image/png:https://stonehousetowncouncil.gov.uk/wp-content/uploads/2024/04/ckc-.png
ORGANIZER;CN="Cotswold Karate Club":MAILTO:cotswoldkarateclub@gmail.com
END:VEVENT
BEGIN:VEVENT
DTSTART;TZID=Europe/London:20271102T190000
DTEND;TZID=Europe/London:20271102T200000
DTSTAMP:20260421T000045
CREATED:20240425T094312Z
LAST-MODIFIED:20240425T094312Z
UID:10007407-1825182000-1825185600@stonehousetowncouncil.gov.uk
SUMMARY:Karate Lessons with Cotswold Karate Club
DESCRIPTION:Karate lessons for those aged 10 and over at\nSt Joseph’s Church Hall\nOldends Lane\nStonehouse. \nTraining Fees are £4 a week\, payable on the night. \nThere are No Joining Fees \nCome and see what you think – First lesson is free.
URL:https://stonehousetowncouncil.gov.uk/event/karate-lessons-with-cotswold-karate-club/2027-11-02/
LOCATION:St Josephs Church Hall\, Oldends Lane\, Stonehouse\, GL10 2DG\, United Kingdom
CATEGORIES:Sport
ATTACH;FMTTYPE=image/png:https://stonehousetowncouncil.gov.uk/wp-content/uploads/2024/04/ckc-.png
ORGANIZER;CN="Cotswold Karate Club":MAILTO:cotswoldkarateclub@gmail.com
END:VEVENT
BEGIN:VEVENT
DTSTART;TZID=Europe/London:20271109T190000
DTEND;TZID=Europe/London:20271109T200000
DTSTAMP:20260421T000045
CREATED:20240425T094312Z
LAST-MODIFIED:20240425T094312Z
UID:10007408-1825786800-1825790400@stonehousetowncouncil.gov.uk
SUMMARY:Karate Lessons with Cotswold Karate Club
DESCRIPTION:Karate lessons for those aged 10 and over at\nSt Joseph’s Church Hall\nOldends Lane\nStonehouse. \nTraining Fees are £4 a week\, payable on the night. \nThere are No Joining Fees \nCome and see what you think – First lesson is free.
URL:https://stonehousetowncouncil.gov.uk/event/karate-lessons-with-cotswold-karate-club/2027-11-09/
LOCATION:St Josephs Church Hall\, Oldends Lane\, Stonehouse\, GL10 2DG\, United Kingdom
CATEGORIES:Sport
ATTACH;FMTTYPE=image/png:https://stonehousetowncouncil.gov.uk/wp-content/uploads/2024/04/ckc-.png
ORGANIZER;CN="Cotswold Karate Club":MAILTO:cotswoldkarateclub@gmail.com
END:VEVENT
BEGIN:VEVENT
DTSTART;TZID=Europe/London:20271116T190000
DTEND;TZID=Europe/London:20271116T200000
DTSTAMP:20260421T000045
CREATED:20240425T094312Z
LAST-MODIFIED:20240425T094312Z
UID:10007409-1826391600-1826395200@stonehousetowncouncil.gov.uk
SUMMARY:Karate Lessons with Cotswold Karate Club
DESCRIPTION:Karate lessons for those aged 10 and over at\nSt Joseph’s Church Hall\nOldends Lane\nStonehouse. \nTraining Fees are £4 a week\, payable on the night. \nThere are No Joining Fees \nCome and see what you think – First lesson is free.
URL:https://stonehousetowncouncil.gov.uk/event/karate-lessons-with-cotswold-karate-club/2027-11-16/
LOCATION:St Josephs Church Hall\, Oldends Lane\, Stonehouse\, GL10 2DG\, United Kingdom
CATEGORIES:Sport
ATTACH;FMTTYPE=image/png:https://stonehousetowncouncil.gov.uk/wp-content/uploads/2024/04/ckc-.png
ORGANIZER;CN="Cotswold Karate Club":MAILTO:cotswoldkarateclub@gmail.com
END:VEVENT
BEGIN:VEVENT
DTSTART;TZID=Europe/London:20271123T190000
DTEND;TZID=Europe/London:20271123T200000
DTSTAMP:20260421T000045
CREATED:20240425T094312Z
LAST-MODIFIED:20240425T094312Z
UID:10007410-1826996400-1827000000@stonehousetowncouncil.gov.uk
SUMMARY:Karate Lessons with Cotswold Karate Club
DESCRIPTION:Karate lessons for those aged 10 and over at\nSt Joseph’s Church Hall\nOldends Lane\nStonehouse. \nTraining Fees are £4 a week\, payable on the night. \nThere are No Joining Fees \nCome and see what you think – First lesson is free.
URL:https://stonehousetowncouncil.gov.uk/event/karate-lessons-with-cotswold-karate-club/2027-11-23/
LOCATION:St Josephs Church Hall\, Oldends Lane\, Stonehouse\, GL10 2DG\, United Kingdom
CATEGORIES:Sport
ATTACH;FMTTYPE=image/png:https://stonehousetowncouncil.gov.uk/wp-content/uploads/2024/04/ckc-.png
ORGANIZER;CN="Cotswold Karate Club":MAILTO:cotswoldkarateclub@gmail.com
END:VEVENT
BEGIN:VEVENT
DTSTART;TZID=Europe/London:20271130T190000
DTEND;TZID=Europe/London:20271130T200000
DTSTAMP:20260421T000045
CREATED:20240425T094312Z
LAST-MODIFIED:20240425T094312Z
UID:10007411-1827601200-1827604800@stonehousetowncouncil.gov.uk
SUMMARY:Karate Lessons with Cotswold Karate Club
DESCRIPTION:Karate lessons for those aged 10 and over at\nSt Joseph’s Church Hall\nOldends Lane\nStonehouse. \nTraining Fees are £4 a week\, payable on the night. \nThere are No Joining Fees \nCome and see what you think – First lesson is free.
URL:https://stonehousetowncouncil.gov.uk/event/karate-lessons-with-cotswold-karate-club/2027-11-30/
LOCATION:St Josephs Church Hall\, Oldends Lane\, Stonehouse\, GL10 2DG\, United Kingdom
CATEGORIES:Sport
ATTACH;FMTTYPE=image/png:https://stonehousetowncouncil.gov.uk/wp-content/uploads/2024/04/ckc-.png
ORGANIZER;CN="Cotswold Karate Club":MAILTO:cotswoldkarateclub@gmail.com
END:VEVENT
BEGIN:VEVENT
DTSTART;TZID=Europe/London:20271207T190000
DTEND;TZID=Europe/London:20271207T200000
DTSTAMP:20260421T000045
CREATED:20240425T094312Z
LAST-MODIFIED:20240425T094312Z
UID:10007412-1828206000-1828209600@stonehousetowncouncil.gov.uk
SUMMARY:Karate Lessons with Cotswold Karate Club
DESCRIPTION:Karate lessons for those aged 10 and over at\nSt Joseph’s Church Hall\nOldends Lane\nStonehouse. \nTraining Fees are £4 a week\, payable on the night. \nThere are No Joining Fees \nCome and see what you think – First lesson is free.
URL:https://stonehousetowncouncil.gov.uk/event/karate-lessons-with-cotswold-karate-club/2027-12-07/
LOCATION:St Josephs Church Hall\, Oldends Lane\, Stonehouse\, GL10 2DG\, United Kingdom
CATEGORIES:Sport
ATTACH;FMTTYPE=image/png:https://stonehousetowncouncil.gov.uk/wp-content/uploads/2024/04/ckc-.png
ORGANIZER;CN="Cotswold Karate Club":MAILTO:cotswoldkarateclub@gmail.com
END:VEVENT
BEGIN:VEVENT
DTSTART;TZID=Europe/London:20271214T190000
DTEND;TZID=Europe/London:20271214T200000
DTSTAMP:20260421T000045
CREATED:20240425T094312Z
LAST-MODIFIED:20240425T094312Z
UID:10007413-1828810800-1828814400@stonehousetowncouncil.gov.uk
SUMMARY:Karate Lessons with Cotswold Karate Club
DESCRIPTION:Karate lessons for those aged 10 and over at\nSt Joseph’s Church Hall\nOldends Lane\nStonehouse. \nTraining Fees are £4 a week\, payable on the night. \nThere are No Joining Fees \nCome and see what you think – First lesson is free.
URL:https://stonehousetowncouncil.gov.uk/event/karate-lessons-with-cotswold-karate-club/2027-12-14/
LOCATION:St Josephs Church Hall\, Oldends Lane\, Stonehouse\, GL10 2DG\, United Kingdom
CATEGORIES:Sport
ATTACH;FMTTYPE=image/png:https://stonehousetowncouncil.gov.uk/wp-content/uploads/2024/04/ckc-.png
ORGANIZER;CN="Cotswold Karate Club":MAILTO:cotswoldkarateclub@gmail.com
END:VEVENT
BEGIN:VEVENT
DTSTART;TZID=Europe/London:20271221T190000
DTEND;TZID=Europe/London:20271221T200000
DTSTAMP:20260421T000045
CREATED:20240425T094312Z
LAST-MODIFIED:20240425T094312Z
UID:10007414-1829415600-1829419200@stonehousetowncouncil.gov.uk
SUMMARY:Karate Lessons with Cotswold Karate Club
DESCRIPTION:Karate lessons for those aged 10 and over at\nSt Joseph’s Church Hall\nOldends Lane\nStonehouse. \nTraining Fees are £4 a week\, payable on the night. \nThere are No Joining Fees \nCome and see what you think – First lesson is free.
URL:https://stonehousetowncouncil.gov.uk/event/karate-lessons-with-cotswold-karate-club/2027-12-21/
LOCATION:St Josephs Church Hall\, Oldends Lane\, Stonehouse\, GL10 2DG\, United Kingdom
CATEGORIES:Sport
ATTACH;FMTTYPE=image/png:https://stonehousetowncouncil.gov.uk/wp-content/uploads/2024/04/ckc-.png
ORGANIZER;CN="Cotswold Karate Club":MAILTO:cotswoldkarateclub@gmail.com
END:VEVENT
BEGIN:VEVENT
DTSTART;TZID=Europe/London:20271228T190000
DTEND;TZID=Europe/London:20271228T200000
DTSTAMP:20260421T000045
CREATED:20240425T094312Z
LAST-MODIFIED:20240425T094312Z
UID:10007415-1830020400-1830024000@stonehousetowncouncil.gov.uk
SUMMARY:Karate Lessons with Cotswold Karate Club
DESCRIPTION:Karate lessons for those aged 10 and over at\nSt Joseph’s Church Hall\nOldends Lane\nStonehouse. \nTraining Fees are £4 a week\, payable on the night. \nThere are No Joining Fees \nCome and see what you think – First lesson is free.
URL:https://stonehousetowncouncil.gov.uk/event/karate-lessons-with-cotswold-karate-club/2027-12-28/
LOCATION:St Josephs Church Hall\, Oldends Lane\, Stonehouse\, GL10 2DG\, United Kingdom
CATEGORIES:Sport
ATTACH;FMTTYPE=image/png:https://stonehousetowncouncil.gov.uk/wp-content/uploads/2024/04/ckc-.png
ORGANIZER;CN="Cotswold Karate Club":MAILTO:cotswoldkarateclub@gmail.com
END:VEVENT
BEGIN:VEVENT
DTSTART;TZID=Europe/London:20280104T190000
DTEND;TZID=Europe/London:20280104T200000
DTSTAMP:20260421T000045
CREATED:20240425T094312Z
LAST-MODIFIED:20240425T094312Z
UID:10007416-1830625200-1830628800@stonehousetowncouncil.gov.uk
SUMMARY:Karate Lessons with Cotswold Karate Club
DESCRIPTION:Karate lessons for those aged 10 and over at\nSt Joseph’s Church Hall\nOldends Lane\nStonehouse. \nTraining Fees are £4 a week\, payable on the night. \nThere are No Joining Fees \nCome and see what you think – First lesson is free.
URL:https://stonehousetowncouncil.gov.uk/event/karate-lessons-with-cotswold-karate-club/2028-01-04/
LOCATION:St Josephs Church Hall\, Oldends Lane\, Stonehouse\, GL10 2DG\, United Kingdom
CATEGORIES:Sport
ATTACH;FMTTYPE=image/png:https://stonehousetowncouncil.gov.uk/wp-content/uploads/2024/04/ckc-.png
ORGANIZER;CN="Cotswold Karate Club":MAILTO:cotswoldkarateclub@gmail.com
END:VEVENT
BEGIN:VEVENT
DTSTART;TZID=Europe/London:20280111T190000
DTEND;TZID=Europe/London:20280111T200000
DTSTAMP:20260421T000045
CREATED:20240425T094312Z
LAST-MODIFIED:20240425T094312Z
UID:10007417-1831230000-1831233600@stonehousetowncouncil.gov.uk
SUMMARY:Karate Lessons with Cotswold Karate Club
DESCRIPTION:Karate lessons for those aged 10 and over at\nSt Joseph’s Church Hall\nOldends Lane\nStonehouse. \nTraining Fees are £4 a week\, payable on the night. \nThere are No Joining Fees \nCome and see what you think – First lesson is free.
URL:https://stonehousetowncouncil.gov.uk/event/karate-lessons-with-cotswold-karate-club/2028-01-11/
LOCATION:St Josephs Church Hall\, Oldends Lane\, Stonehouse\, GL10 2DG\, United Kingdom
CATEGORIES:Sport
ATTACH;FMTTYPE=image/png:https://stonehousetowncouncil.gov.uk/wp-content/uploads/2024/04/ckc-.png
ORGANIZER;CN="Cotswold Karate Club":MAILTO:cotswoldkarateclub@gmail.com
END:VEVENT
BEGIN:VEVENT
DTSTART;TZID=Europe/London:20280118T190000
DTEND;TZID=Europe/London:20280118T200000
DTSTAMP:20260421T000045
CREATED:20240425T094312Z
LAST-MODIFIED:20240425T094312Z
UID:10007418-1831834800-1831838400@stonehousetowncouncil.gov.uk
SUMMARY:Karate Lessons with Cotswold Karate Club
DESCRIPTION:Karate lessons for those aged 10 and over at\nSt Joseph’s Church Hall\nOldends Lane\nStonehouse. \nTraining Fees are £4 a week\, payable on the night. \nThere are No Joining Fees \nCome and see what you think – First lesson is free.
URL:https://stonehousetowncouncil.gov.uk/event/karate-lessons-with-cotswold-karate-club/2028-01-18/
LOCATION:St Josephs Church Hall\, Oldends Lane\, Stonehouse\, GL10 2DG\, United Kingdom
CATEGORIES:Sport
ATTACH;FMTTYPE=image/png:https://stonehousetowncouncil.gov.uk/wp-content/uploads/2024/04/ckc-.png
ORGANIZER;CN="Cotswold Karate Club":MAILTO:cotswoldkarateclub@gmail.com
END:VEVENT
BEGIN:VEVENT
DTSTART;TZID=Europe/London:20280125T190000
DTEND;TZID=Europe/London:20280125T200000
DTSTAMP:20260421T000045
CREATED:20240425T094312Z
LAST-MODIFIED:20240425T094312Z
UID:10007419-1832439600-1832443200@stonehousetowncouncil.gov.uk
SUMMARY:Karate Lessons with Cotswold Karate Club
DESCRIPTION:Karate lessons for those aged 10 and over at\nSt Joseph’s Church Hall\nOldends Lane\nStonehouse. \nTraining Fees are £4 a week\, payable on the night. \nThere are No Joining Fees \nCome and see what you think – First lesson is free.
URL:https://stonehousetowncouncil.gov.uk/event/karate-lessons-with-cotswold-karate-club/2028-01-25/
LOCATION:St Josephs Church Hall\, Oldends Lane\, Stonehouse\, GL10 2DG\, United Kingdom
CATEGORIES:Sport
ATTACH;FMTTYPE=image/png:https://stonehousetowncouncil.gov.uk/wp-content/uploads/2024/04/ckc-.png
ORGANIZER;CN="Cotswold Karate Club":MAILTO:cotswoldkarateclub@gmail.com
END:VEVENT
BEGIN:VEVENT
DTSTART;TZID=Europe/London:20280201T190000
DTEND;TZID=Europe/London:20280201T200000
DTSTAMP:20260421T000045
CREATED:20240425T094312Z
LAST-MODIFIED:20240425T094312Z
UID:10007420-1833044400-1833048000@stonehousetowncouncil.gov.uk
SUMMARY:Karate Lessons with Cotswold Karate Club
DESCRIPTION:Karate lessons for those aged 10 and over at\nSt Joseph’s Church Hall\nOldends Lane\nStonehouse. \nTraining Fees are £4 a week\, payable on the night. \nThere are No Joining Fees \nCome and see what you think – First lesson is free.
URL:https://stonehousetowncouncil.gov.uk/event/karate-lessons-with-cotswold-karate-club/2028-02-01/
LOCATION:St Josephs Church Hall\, Oldends Lane\, Stonehouse\, GL10 2DG\, United Kingdom
CATEGORIES:Sport
ATTACH;FMTTYPE=image/png:https://stonehousetowncouncil.gov.uk/wp-content/uploads/2024/04/ckc-.png
ORGANIZER;CN="Cotswold Karate Club":MAILTO:cotswoldkarateclub@gmail.com
END:VEVENT
BEGIN:VEVENT
DTSTART;TZID=Europe/London:20280208T190000
DTEND;TZID=Europe/London:20280208T200000
DTSTAMP:20260421T000045
CREATED:20240425T094312Z
LAST-MODIFIED:20240425T094312Z
UID:10007421-1833649200-1833652800@stonehousetowncouncil.gov.uk
SUMMARY:Karate Lessons with Cotswold Karate Club
DESCRIPTION:Karate lessons for those aged 10 and over at\nSt Joseph’s Church Hall\nOldends Lane\nStonehouse. \nTraining Fees are £4 a week\, payable on the night. \nThere are No Joining Fees \nCome and see what you think – First lesson is free.
URL:https://stonehousetowncouncil.gov.uk/event/karate-lessons-with-cotswold-karate-club/2028-02-08/
LOCATION:St Josephs Church Hall\, Oldends Lane\, Stonehouse\, GL10 2DG\, United Kingdom
CATEGORIES:Sport
ATTACH;FMTTYPE=image/png:https://stonehousetowncouncil.gov.uk/wp-content/uploads/2024/04/ckc-.png
ORGANIZER;CN="Cotswold Karate Club":MAILTO:cotswoldkarateclub@gmail.com
END:VEVENT
BEGIN:VEVENT
DTSTART;TZID=Europe/London:20280215T190000
DTEND;TZID=Europe/London:20280215T200000
DTSTAMP:20260421T000045
CREATED:20240425T094312Z
LAST-MODIFIED:20240425T094312Z
UID:10007422-1834254000-1834257600@stonehousetowncouncil.gov.uk
SUMMARY:Karate Lessons with Cotswold Karate Club
DESCRIPTION:Karate lessons for those aged 10 and over at\nSt Joseph’s Church Hall\nOldends Lane\nStonehouse. \nTraining Fees are £4 a week\, payable on the night. \nThere are No Joining Fees \nCome and see what you think – First lesson is free.
URL:https://stonehousetowncouncil.gov.uk/event/karate-lessons-with-cotswold-karate-club/2028-02-15/
LOCATION:St Josephs Church Hall\, Oldends Lane\, Stonehouse\, GL10 2DG\, United Kingdom
CATEGORIES:Sport
ATTACH;FMTTYPE=image/png:https://stonehousetowncouncil.gov.uk/wp-content/uploads/2024/04/ckc-.png
ORGANIZER;CN="Cotswold Karate Club":MAILTO:cotswoldkarateclub@gmail.com
END:VEVENT
END:VCALENDAR