BEGIN:VCALENDAR
VERSION:2.0
PRODID:-//Stonehouse Town Council - ECPv6.15.20//NONSGML v1.0//EN
CALSCALE:GREGORIAN
METHOD:PUBLISH
X-WR-CALNAME:Stonehouse Town Council
X-ORIGINAL-URL:https://stonehousetowncouncil.gov.uk
X-WR-CALDESC:Events for Stonehouse Town Council
REFRESH-INTERVAL;VALUE=DURATION:PT1H
X-Robots-Tag:noindex
X-PUBLISHED-TTL:PT1H
BEGIN:VTIMEZONE
TZID:Europe/London
BEGIN:DAYLIGHT
TZOFFSETFROM:+0000
TZOFFSETTO:+0100
TZNAME:BST
DTSTART:20270328T010000
END:DAYLIGHT
BEGIN:STANDARD
TZOFFSETFROM:+0100
TZOFFSETTO:+0000
TZNAME:GMT
DTSTART:20271031T010000
END:STANDARD
BEGIN:DAYLIGHT
TZOFFSETFROM:+0000
TZOFFSETTO:+0100
TZNAME:BST
DTSTART:20280326T010000
END:DAYLIGHT
BEGIN:STANDARD
TZOFFSETFROM:+0100
TZOFFSETTO:+0000
TZNAME:GMT
DTSTART:20281029T010000
END:STANDARD
BEGIN:DAYLIGHT
TZOFFSETFROM:+0000
TZOFFSETTO:+0100
TZNAME:BST
DTSTART:20290325T010000
END:DAYLIGHT
BEGIN:STANDARD
TZOFFSETFROM:+0100
TZOFFSETTO:+0000
TZNAME:GMT
DTSTART:20291028T010000
END:STANDARD
BEGIN:DAYLIGHT
TZOFFSETFROM:+0000
TZOFFSETTO:+0100
TZNAME:BST
DTSTART:20300331T010000
END:DAYLIGHT
BEGIN:STANDARD
TZOFFSETFROM:+0100
TZOFFSETTO:+0000
TZNAME:GMT
DTSTART:20301027T010000
END:STANDARD
END:VTIMEZONE
BEGIN:VEVENT
DTSTART;TZID=Europe/London:20281128T190000
DTEND;TZID=Europe/London:20281128T200000
DTSTAMP:20260423T014926
CREATED:20240425T094312Z
LAST-MODIFIED:20240425T094312Z
UID:10007463-1859050800-1859054400@stonehousetowncouncil.gov.uk
SUMMARY:Karate Lessons with Cotswold Karate Club
DESCRIPTION:Karate lessons for those aged 10 and over at\nSt Joseph’s Church Hall\nOldends Lane\nStonehouse. \nTraining Fees are £4 a week\, payable on the night. \nThere are No Joining Fees \nCome and see what you think – First lesson is free.
URL:https://stonehousetowncouncil.gov.uk/event/karate-lessons-with-cotswold-karate-club/2028-11-28/
LOCATION:St Josephs Church Hall\, Oldends Lane\, Stonehouse\, GL10 2DG\, United Kingdom
CATEGORIES:Sport
ATTACH;FMTTYPE=image/png:https://stonehousetowncouncil.gov.uk/wp-content/uploads/2024/04/ckc-.png
ORGANIZER;CN="Cotswold Karate Club":MAILTO:cotswoldkarateclub@gmail.com
END:VEVENT
BEGIN:VEVENT
DTSTART;TZID=Europe/London:20281205T190000
DTEND;TZID=Europe/London:20281205T200000
DTSTAMP:20260423T014926
CREATED:20240425T094312Z
LAST-MODIFIED:20240425T094312Z
UID:10007464-1859655600-1859659200@stonehousetowncouncil.gov.uk
SUMMARY:Karate Lessons with Cotswold Karate Club
DESCRIPTION:Karate lessons for those aged 10 and over at\nSt Joseph’s Church Hall\nOldends Lane\nStonehouse. \nTraining Fees are £4 a week\, payable on the night. \nThere are No Joining Fees \nCome and see what you think – First lesson is free.
URL:https://stonehousetowncouncil.gov.uk/event/karate-lessons-with-cotswold-karate-club/2028-12-05/
LOCATION:St Josephs Church Hall\, Oldends Lane\, Stonehouse\, GL10 2DG\, United Kingdom
CATEGORIES:Sport
ATTACH;FMTTYPE=image/png:https://stonehousetowncouncil.gov.uk/wp-content/uploads/2024/04/ckc-.png
ORGANIZER;CN="Cotswold Karate Club":MAILTO:cotswoldkarateclub@gmail.com
END:VEVENT
BEGIN:VEVENT
DTSTART;TZID=Europe/London:20281212T190000
DTEND;TZID=Europe/London:20281212T200000
DTSTAMP:20260423T014926
CREATED:20240425T094312Z
LAST-MODIFIED:20240425T094312Z
UID:10007465-1860260400-1860264000@stonehousetowncouncil.gov.uk
SUMMARY:Karate Lessons with Cotswold Karate Club
DESCRIPTION:Karate lessons for those aged 10 and over at\nSt Joseph’s Church Hall\nOldends Lane\nStonehouse. \nTraining Fees are £4 a week\, payable on the night. \nThere are No Joining Fees \nCome and see what you think – First lesson is free.
URL:https://stonehousetowncouncil.gov.uk/event/karate-lessons-with-cotswold-karate-club/2028-12-12/
LOCATION:St Josephs Church Hall\, Oldends Lane\, Stonehouse\, GL10 2DG\, United Kingdom
CATEGORIES:Sport
ATTACH;FMTTYPE=image/png:https://stonehousetowncouncil.gov.uk/wp-content/uploads/2024/04/ckc-.png
ORGANIZER;CN="Cotswold Karate Club":MAILTO:cotswoldkarateclub@gmail.com
END:VEVENT
BEGIN:VEVENT
DTSTART;TZID=Europe/London:20281219T190000
DTEND;TZID=Europe/London:20281219T200000
DTSTAMP:20260423T014926
CREATED:20240425T094312Z
LAST-MODIFIED:20240425T094312Z
UID:10007466-1860865200-1860868800@stonehousetowncouncil.gov.uk
SUMMARY:Karate Lessons with Cotswold Karate Club
DESCRIPTION:Karate lessons for those aged 10 and over at\nSt Joseph’s Church Hall\nOldends Lane\nStonehouse. \nTraining Fees are £4 a week\, payable on the night. \nThere are No Joining Fees \nCome and see what you think – First lesson is free.
URL:https://stonehousetowncouncil.gov.uk/event/karate-lessons-with-cotswold-karate-club/2028-12-19/
LOCATION:St Josephs Church Hall\, Oldends Lane\, Stonehouse\, GL10 2DG\, United Kingdom
CATEGORIES:Sport
ATTACH;FMTTYPE=image/png:https://stonehousetowncouncil.gov.uk/wp-content/uploads/2024/04/ckc-.png
ORGANIZER;CN="Cotswold Karate Club":MAILTO:cotswoldkarateclub@gmail.com
END:VEVENT
BEGIN:VEVENT
DTSTART;TZID=Europe/London:20281226T190000
DTEND;TZID=Europe/London:20281226T200000
DTSTAMP:20260423T014926
CREATED:20240425T094312Z
LAST-MODIFIED:20240425T094312Z
UID:10007467-1861470000-1861473600@stonehousetowncouncil.gov.uk
SUMMARY:Karate Lessons with Cotswold Karate Club
DESCRIPTION:Karate lessons for those aged 10 and over at\nSt Joseph’s Church Hall\nOldends Lane\nStonehouse. \nTraining Fees are £4 a week\, payable on the night. \nThere are No Joining Fees \nCome and see what you think – First lesson is free.
URL:https://stonehousetowncouncil.gov.uk/event/karate-lessons-with-cotswold-karate-club/2028-12-26/
LOCATION:St Josephs Church Hall\, Oldends Lane\, Stonehouse\, GL10 2DG\, United Kingdom
CATEGORIES:Sport
ATTACH;FMTTYPE=image/png:https://stonehousetowncouncil.gov.uk/wp-content/uploads/2024/04/ckc-.png
ORGANIZER;CN="Cotswold Karate Club":MAILTO:cotswoldkarateclub@gmail.com
END:VEVENT
BEGIN:VEVENT
DTSTART;TZID=Europe/London:20290102T190000
DTEND;TZID=Europe/London:20290102T200000
DTSTAMP:20260423T014926
CREATED:20240425T094312Z
LAST-MODIFIED:20240425T094312Z
UID:10007468-1862074800-1862078400@stonehousetowncouncil.gov.uk
SUMMARY:Karate Lessons with Cotswold Karate Club
DESCRIPTION:Karate lessons for those aged 10 and over at\nSt Joseph’s Church Hall\nOldends Lane\nStonehouse. \nTraining Fees are £4 a week\, payable on the night. \nThere are No Joining Fees \nCome and see what you think – First lesson is free.
URL:https://stonehousetowncouncil.gov.uk/event/karate-lessons-with-cotswold-karate-club/2029-01-02/
LOCATION:St Josephs Church Hall\, Oldends Lane\, Stonehouse\, GL10 2DG\, United Kingdom
CATEGORIES:Sport
ATTACH;FMTTYPE=image/png:https://stonehousetowncouncil.gov.uk/wp-content/uploads/2024/04/ckc-.png
ORGANIZER;CN="Cotswold Karate Club":MAILTO:cotswoldkarateclub@gmail.com
END:VEVENT
BEGIN:VEVENT
DTSTART;TZID=Europe/London:20290109T190000
DTEND;TZID=Europe/London:20290109T200000
DTSTAMP:20260423T014926
CREATED:20240425T094312Z
LAST-MODIFIED:20240425T094312Z
UID:10007469-1862679600-1862683200@stonehousetowncouncil.gov.uk
SUMMARY:Karate Lessons with Cotswold Karate Club
DESCRIPTION:Karate lessons for those aged 10 and over at\nSt Joseph’s Church Hall\nOldends Lane\nStonehouse. \nTraining Fees are £4 a week\, payable on the night. \nThere are No Joining Fees \nCome and see what you think – First lesson is free.
URL:https://stonehousetowncouncil.gov.uk/event/karate-lessons-with-cotswold-karate-club/2029-01-09/
LOCATION:St Josephs Church Hall\, Oldends Lane\, Stonehouse\, GL10 2DG\, United Kingdom
CATEGORIES:Sport
ATTACH;FMTTYPE=image/png:https://stonehousetowncouncil.gov.uk/wp-content/uploads/2024/04/ckc-.png
ORGANIZER;CN="Cotswold Karate Club":MAILTO:cotswoldkarateclub@gmail.com
END:VEVENT
BEGIN:VEVENT
DTSTART;TZID=Europe/London:20290116T190000
DTEND;TZID=Europe/London:20290116T200000
DTSTAMP:20260423T014926
CREATED:20240425T094312Z
LAST-MODIFIED:20240425T094312Z
UID:10007470-1863284400-1863288000@stonehousetowncouncil.gov.uk
SUMMARY:Karate Lessons with Cotswold Karate Club
DESCRIPTION:Karate lessons for those aged 10 and over at\nSt Joseph’s Church Hall\nOldends Lane\nStonehouse. \nTraining Fees are £4 a week\, payable on the night. \nThere are No Joining Fees \nCome and see what you think – First lesson is free.
URL:https://stonehousetowncouncil.gov.uk/event/karate-lessons-with-cotswold-karate-club/2029-01-16/
LOCATION:St Josephs Church Hall\, Oldends Lane\, Stonehouse\, GL10 2DG\, United Kingdom
CATEGORIES:Sport
ATTACH;FMTTYPE=image/png:https://stonehousetowncouncil.gov.uk/wp-content/uploads/2024/04/ckc-.png
ORGANIZER;CN="Cotswold Karate Club":MAILTO:cotswoldkarateclub@gmail.com
END:VEVENT
BEGIN:VEVENT
DTSTART;TZID=Europe/London:20290123T190000
DTEND;TZID=Europe/London:20290123T200000
DTSTAMP:20260423T014926
CREATED:20240425T094312Z
LAST-MODIFIED:20240425T094312Z
UID:10007471-1863889200-1863892800@stonehousetowncouncil.gov.uk
SUMMARY:Karate Lessons with Cotswold Karate Club
DESCRIPTION:Karate lessons for those aged 10 and over at\nSt Joseph’s Church Hall\nOldends Lane\nStonehouse. \nTraining Fees are £4 a week\, payable on the night. \nThere are No Joining Fees \nCome and see what you think – First lesson is free.
URL:https://stonehousetowncouncil.gov.uk/event/karate-lessons-with-cotswold-karate-club/2029-01-23/
LOCATION:St Josephs Church Hall\, Oldends Lane\, Stonehouse\, GL10 2DG\, United Kingdom
CATEGORIES:Sport
ATTACH;FMTTYPE=image/png:https://stonehousetowncouncil.gov.uk/wp-content/uploads/2024/04/ckc-.png
ORGANIZER;CN="Cotswold Karate Club":MAILTO:cotswoldkarateclub@gmail.com
END:VEVENT
BEGIN:VEVENT
DTSTART;TZID=Europe/London:20290130T190000
DTEND;TZID=Europe/London:20290130T200000
DTSTAMP:20260423T014926
CREATED:20240425T094312Z
LAST-MODIFIED:20240425T094312Z
UID:10007472-1864494000-1864497600@stonehousetowncouncil.gov.uk
SUMMARY:Karate Lessons with Cotswold Karate Club
DESCRIPTION:Karate lessons for those aged 10 and over at\nSt Joseph’s Church Hall\nOldends Lane\nStonehouse. \nTraining Fees are £4 a week\, payable on the night. \nThere are No Joining Fees \nCome and see what you think – First lesson is free.
URL:https://stonehousetowncouncil.gov.uk/event/karate-lessons-with-cotswold-karate-club/2029-01-30/
LOCATION:St Josephs Church Hall\, Oldends Lane\, Stonehouse\, GL10 2DG\, United Kingdom
CATEGORIES:Sport
ATTACH;FMTTYPE=image/png:https://stonehousetowncouncil.gov.uk/wp-content/uploads/2024/04/ckc-.png
ORGANIZER;CN="Cotswold Karate Club":MAILTO:cotswoldkarateclub@gmail.com
END:VEVENT
BEGIN:VEVENT
DTSTART;TZID=Europe/London:20290206T190000
DTEND;TZID=Europe/London:20290206T200000
DTSTAMP:20260423T014926
CREATED:20240425T094312Z
LAST-MODIFIED:20240425T094312Z
UID:10007473-1865098800-1865102400@stonehousetowncouncil.gov.uk
SUMMARY:Karate Lessons with Cotswold Karate Club
DESCRIPTION:Karate lessons for those aged 10 and over at\nSt Joseph’s Church Hall\nOldends Lane\nStonehouse. \nTraining Fees are £4 a week\, payable on the night. \nThere are No Joining Fees \nCome and see what you think – First lesson is free.
URL:https://stonehousetowncouncil.gov.uk/event/karate-lessons-with-cotswold-karate-club/2029-02-06/
LOCATION:St Josephs Church Hall\, Oldends Lane\, Stonehouse\, GL10 2DG\, United Kingdom
CATEGORIES:Sport
ATTACH;FMTTYPE=image/png:https://stonehousetowncouncil.gov.uk/wp-content/uploads/2024/04/ckc-.png
ORGANIZER;CN="Cotswold Karate Club":MAILTO:cotswoldkarateclub@gmail.com
END:VEVENT
BEGIN:VEVENT
DTSTART;TZID=Europe/London:20290213T190000
DTEND;TZID=Europe/London:20290213T200000
DTSTAMP:20260423T014926
CREATED:20240425T094312Z
LAST-MODIFIED:20240425T094312Z
UID:10007474-1865703600-1865707200@stonehousetowncouncil.gov.uk
SUMMARY:Karate Lessons with Cotswold Karate Club
DESCRIPTION:Karate lessons for those aged 10 and over at\nSt Joseph’s Church Hall\nOldends Lane\nStonehouse. \nTraining Fees are £4 a week\, payable on the night. \nThere are No Joining Fees \nCome and see what you think – First lesson is free.
URL:https://stonehousetowncouncil.gov.uk/event/karate-lessons-with-cotswold-karate-club/2029-02-13/
LOCATION:St Josephs Church Hall\, Oldends Lane\, Stonehouse\, GL10 2DG\, United Kingdom
CATEGORIES:Sport
ATTACH;FMTTYPE=image/png:https://stonehousetowncouncil.gov.uk/wp-content/uploads/2024/04/ckc-.png
ORGANIZER;CN="Cotswold Karate Club":MAILTO:cotswoldkarateclub@gmail.com
END:VEVENT
BEGIN:VEVENT
DTSTART;TZID=Europe/London:20290220T190000
DTEND;TZID=Europe/London:20290220T200000
DTSTAMP:20260423T014926
CREATED:20240425T094312Z
LAST-MODIFIED:20240425T094312Z
UID:10007475-1866308400-1866312000@stonehousetowncouncil.gov.uk
SUMMARY:Karate Lessons with Cotswold Karate Club
DESCRIPTION:Karate lessons for those aged 10 and over at\nSt Joseph’s Church Hall\nOldends Lane\nStonehouse. \nTraining Fees are £4 a week\, payable on the night. \nThere are No Joining Fees \nCome and see what you think – First lesson is free.
URL:https://stonehousetowncouncil.gov.uk/event/karate-lessons-with-cotswold-karate-club/2029-02-20/
LOCATION:St Josephs Church Hall\, Oldends Lane\, Stonehouse\, GL10 2DG\, United Kingdom
CATEGORIES:Sport
ATTACH;FMTTYPE=image/png:https://stonehousetowncouncil.gov.uk/wp-content/uploads/2024/04/ckc-.png
ORGANIZER;CN="Cotswold Karate Club":MAILTO:cotswoldkarateclub@gmail.com
END:VEVENT
BEGIN:VEVENT
DTSTART;TZID=Europe/London:20290227T190000
DTEND;TZID=Europe/London:20290227T200000
DTSTAMP:20260423T014926
CREATED:20240425T094312Z
LAST-MODIFIED:20240425T094312Z
UID:10007476-1866913200-1866916800@stonehousetowncouncil.gov.uk
SUMMARY:Karate Lessons with Cotswold Karate Club
DESCRIPTION:Karate lessons for those aged 10 and over at\nSt Joseph’s Church Hall\nOldends Lane\nStonehouse. \nTraining Fees are £4 a week\, payable on the night. \nThere are No Joining Fees \nCome and see what you think – First lesson is free.
URL:https://stonehousetowncouncil.gov.uk/event/karate-lessons-with-cotswold-karate-club/2029-02-27/
LOCATION:St Josephs Church Hall\, Oldends Lane\, Stonehouse\, GL10 2DG\, United Kingdom
CATEGORIES:Sport
ATTACH;FMTTYPE=image/png:https://stonehousetowncouncil.gov.uk/wp-content/uploads/2024/04/ckc-.png
ORGANIZER;CN="Cotswold Karate Club":MAILTO:cotswoldkarateclub@gmail.com
END:VEVENT
BEGIN:VEVENT
DTSTART;TZID=Europe/London:20290306T190000
DTEND;TZID=Europe/London:20290306T200000
DTSTAMP:20260423T014926
CREATED:20240425T094312Z
LAST-MODIFIED:20240425T094312Z
UID:10007477-1867518000-1867521600@stonehousetowncouncil.gov.uk
SUMMARY:Karate Lessons with Cotswold Karate Club
DESCRIPTION:Karate lessons for those aged 10 and over at\nSt Joseph’s Church Hall\nOldends Lane\nStonehouse. \nTraining Fees are £4 a week\, payable on the night. \nThere are No Joining Fees \nCome and see what you think – First lesson is free.
URL:https://stonehousetowncouncil.gov.uk/event/karate-lessons-with-cotswold-karate-club/2029-03-06/
LOCATION:St Josephs Church Hall\, Oldends Lane\, Stonehouse\, GL10 2DG\, United Kingdom
CATEGORIES:Sport
ATTACH;FMTTYPE=image/png:https://stonehousetowncouncil.gov.uk/wp-content/uploads/2024/04/ckc-.png
ORGANIZER;CN="Cotswold Karate Club":MAILTO:cotswoldkarateclub@gmail.com
END:VEVENT
BEGIN:VEVENT
DTSTART;TZID=Europe/London:20290313T190000
DTEND;TZID=Europe/London:20290313T200000
DTSTAMP:20260423T014926
CREATED:20240425T094312Z
LAST-MODIFIED:20240425T094312Z
UID:10007478-1868122800-1868126400@stonehousetowncouncil.gov.uk
SUMMARY:Karate Lessons with Cotswold Karate Club
DESCRIPTION:Karate lessons for those aged 10 and over at\nSt Joseph’s Church Hall\nOldends Lane\nStonehouse. \nTraining Fees are £4 a week\, payable on the night. \nThere are No Joining Fees \nCome and see what you think – First lesson is free.
URL:https://stonehousetowncouncil.gov.uk/event/karate-lessons-with-cotswold-karate-club/2029-03-13/
LOCATION:St Josephs Church Hall\, Oldends Lane\, Stonehouse\, GL10 2DG\, United Kingdom
CATEGORIES:Sport
ATTACH;FMTTYPE=image/png:https://stonehousetowncouncil.gov.uk/wp-content/uploads/2024/04/ckc-.png
ORGANIZER;CN="Cotswold Karate Club":MAILTO:cotswoldkarateclub@gmail.com
END:VEVENT
BEGIN:VEVENT
DTSTART;TZID=Europe/London:20290320T190000
DTEND;TZID=Europe/London:20290320T200000
DTSTAMP:20260423T014926
CREATED:20240425T094312Z
LAST-MODIFIED:20240425T094312Z
UID:10007479-1868727600-1868731200@stonehousetowncouncil.gov.uk
SUMMARY:Karate Lessons with Cotswold Karate Club
DESCRIPTION:Karate lessons for those aged 10 and over at\nSt Joseph’s Church Hall\nOldends Lane\nStonehouse. \nTraining Fees are £4 a week\, payable on the night. \nThere are No Joining Fees \nCome and see what you think – First lesson is free.
URL:https://stonehousetowncouncil.gov.uk/event/karate-lessons-with-cotswold-karate-club/2029-03-20/
LOCATION:St Josephs Church Hall\, Oldends Lane\, Stonehouse\, GL10 2DG\, United Kingdom
CATEGORIES:Sport
ATTACH;FMTTYPE=image/png:https://stonehousetowncouncil.gov.uk/wp-content/uploads/2024/04/ckc-.png
ORGANIZER;CN="Cotswold Karate Club":MAILTO:cotswoldkarateclub@gmail.com
END:VEVENT
BEGIN:VEVENT
DTSTART;TZID=Europe/London:20290327T190000
DTEND;TZID=Europe/London:20290327T200000
DTSTAMP:20260423T014926
CREATED:20240425T094312Z
LAST-MODIFIED:20240425T094312Z
UID:10007480-1869332400-1869336000@stonehousetowncouncil.gov.uk
SUMMARY:Karate Lessons with Cotswold Karate Club
DESCRIPTION:Karate lessons for those aged 10 and over at\nSt Joseph’s Church Hall\nOldends Lane\nStonehouse. \nTraining Fees are £4 a week\, payable on the night. \nThere are No Joining Fees \nCome and see what you think – First lesson is free.
URL:https://stonehousetowncouncil.gov.uk/event/karate-lessons-with-cotswold-karate-club/2029-03-27/
LOCATION:St Josephs Church Hall\, Oldends Lane\, Stonehouse\, GL10 2DG\, United Kingdom
CATEGORIES:Sport
ATTACH;FMTTYPE=image/png:https://stonehousetowncouncil.gov.uk/wp-content/uploads/2024/04/ckc-.png
ORGANIZER;CN="Cotswold Karate Club":MAILTO:cotswoldkarateclub@gmail.com
END:VEVENT
BEGIN:VEVENT
DTSTART;TZID=Europe/London:20290403T190000
DTEND;TZID=Europe/London:20290403T200000
DTSTAMP:20260423T014926
CREATED:20240425T094312Z
LAST-MODIFIED:20240425T094312Z
UID:10007481-1869937200-1869940800@stonehousetowncouncil.gov.uk
SUMMARY:Karate Lessons with Cotswold Karate Club
DESCRIPTION:Karate lessons for those aged 10 and over at\nSt Joseph’s Church Hall\nOldends Lane\nStonehouse. \nTraining Fees are £4 a week\, payable on the night. \nThere are No Joining Fees \nCome and see what you think – First lesson is free.
URL:https://stonehousetowncouncil.gov.uk/event/karate-lessons-with-cotswold-karate-club/2029-04-03/
LOCATION:St Josephs Church Hall\, Oldends Lane\, Stonehouse\, GL10 2DG\, United Kingdom
CATEGORIES:Sport
ATTACH;FMTTYPE=image/png:https://stonehousetowncouncil.gov.uk/wp-content/uploads/2024/04/ckc-.png
ORGANIZER;CN="Cotswold Karate Club":MAILTO:cotswoldkarateclub@gmail.com
END:VEVENT
BEGIN:VEVENT
DTSTART;TZID=Europe/London:20290410T190000
DTEND;TZID=Europe/London:20290410T200000
DTSTAMP:20260423T014926
CREATED:20240425T094312Z
LAST-MODIFIED:20240425T094312Z
UID:10007482-1870542000-1870545600@stonehousetowncouncil.gov.uk
SUMMARY:Karate Lessons with Cotswold Karate Club
DESCRIPTION:Karate lessons for those aged 10 and over at\nSt Joseph’s Church Hall\nOldends Lane\nStonehouse. \nTraining Fees are £4 a week\, payable on the night. \nThere are No Joining Fees \nCome and see what you think – First lesson is free.
URL:https://stonehousetowncouncil.gov.uk/event/karate-lessons-with-cotswold-karate-club/2029-04-10/
LOCATION:St Josephs Church Hall\, Oldends Lane\, Stonehouse\, GL10 2DG\, United Kingdom
CATEGORIES:Sport
ATTACH;FMTTYPE=image/png:https://stonehousetowncouncil.gov.uk/wp-content/uploads/2024/04/ckc-.png
ORGANIZER;CN="Cotswold Karate Club":MAILTO:cotswoldkarateclub@gmail.com
END:VEVENT
BEGIN:VEVENT
DTSTART;TZID=Europe/London:20290417T190000
DTEND;TZID=Europe/London:20290417T200000
DTSTAMP:20260423T014926
CREATED:20240425T094312Z
LAST-MODIFIED:20240425T094312Z
UID:10007483-1871146800-1871150400@stonehousetowncouncil.gov.uk
SUMMARY:Karate Lessons with Cotswold Karate Club
DESCRIPTION:Karate lessons for those aged 10 and over at\nSt Joseph’s Church Hall\nOldends Lane\nStonehouse. \nTraining Fees are £4 a week\, payable on the night. \nThere are No Joining Fees \nCome and see what you think – First lesson is free.
URL:https://stonehousetowncouncil.gov.uk/event/karate-lessons-with-cotswold-karate-club/2029-04-17/
LOCATION:St Josephs Church Hall\, Oldends Lane\, Stonehouse\, GL10 2DG\, United Kingdom
CATEGORIES:Sport
ATTACH;FMTTYPE=image/png:https://stonehousetowncouncil.gov.uk/wp-content/uploads/2024/04/ckc-.png
ORGANIZER;CN="Cotswold Karate Club":MAILTO:cotswoldkarateclub@gmail.com
END:VEVENT
BEGIN:VEVENT
DTSTART;TZID=Europe/London:20290424T190000
DTEND;TZID=Europe/London:20290424T200000
DTSTAMP:20260423T014926
CREATED:20240425T094312Z
LAST-MODIFIED:20240425T094312Z
UID:10007485-1871751600-1871755200@stonehousetowncouncil.gov.uk
SUMMARY:Karate Lessons with Cotswold Karate Club
DESCRIPTION:Karate lessons for those aged 10 and over at\nSt Joseph’s Church Hall\nOldends Lane\nStonehouse. \nTraining Fees are £4 a week\, payable on the night. \nThere are No Joining Fees \nCome and see what you think – First lesson is free.
URL:https://stonehousetowncouncil.gov.uk/event/karate-lessons-with-cotswold-karate-club/2029-04-24/
LOCATION:St Josephs Church Hall\, Oldends Lane\, Stonehouse\, GL10 2DG\, United Kingdom
CATEGORIES:Sport
ATTACH;FMTTYPE=image/png:https://stonehousetowncouncil.gov.uk/wp-content/uploads/2024/04/ckc-.png
ORGANIZER;CN="Cotswold Karate Club":MAILTO:cotswoldkarateclub@gmail.com
END:VEVENT
END:VCALENDAR