BEGIN:VCALENDAR
VERSION:2.0
PRODID:-//Stonehouse Town Council - ECPv6.15.20//NONSGML v1.0//EN
CALSCALE:GREGORIAN
METHOD:PUBLISH
X-WR-CALNAME:Stonehouse Town Council
X-ORIGINAL-URL:https://stonehousetowncouncil.gov.uk
X-WR-CALDESC:Events for Stonehouse Town Council
REFRESH-INTERVAL;VALUE=DURATION:PT1H
X-Robots-Tag:noindex
X-PUBLISHED-TTL:PT1H
BEGIN:VTIMEZONE
TZID:Europe/London
BEGIN:DAYLIGHT
TZOFFSETFROM:+0000
TZOFFSETTO:+0100
TZNAME:BST
DTSTART:20230326T010000
END:DAYLIGHT
BEGIN:STANDARD
TZOFFSETFROM:+0100
TZOFFSETTO:+0000
TZNAME:GMT
DTSTART:20231029T010000
END:STANDARD
BEGIN:DAYLIGHT
TZOFFSETFROM:+0000
TZOFFSETTO:+0100
TZNAME:BST
DTSTART:20240331T010000
END:DAYLIGHT
BEGIN:STANDARD
TZOFFSETFROM:+0100
TZOFFSETTO:+0000
TZNAME:GMT
DTSTART:20241027T010000
END:STANDARD
BEGIN:DAYLIGHT
TZOFFSETFROM:+0000
TZOFFSETTO:+0100
TZNAME:BST
DTSTART:20250330T010000
END:DAYLIGHT
BEGIN:STANDARD
TZOFFSETFROM:+0100
TZOFFSETTO:+0000
TZNAME:GMT
DTSTART:20251026T010000
END:STANDARD
BEGIN:DAYLIGHT
TZOFFSETFROM:+0000
TZOFFSETTO:+0100
TZNAME:BST
DTSTART:20260329T010000
END:DAYLIGHT
BEGIN:STANDARD
TZOFFSETFROM:+0100
TZOFFSETTO:+0000
TZNAME:GMT
DTSTART:20261025T010000
END:STANDARD
BEGIN:DAYLIGHT
TZOFFSETFROM:+0000
TZOFFSETTO:+0100
TZNAME:BST
DTSTART:20270328T010000
END:DAYLIGHT
BEGIN:STANDARD
TZOFFSETFROM:+0100
TZOFFSETTO:+0000
TZNAME:GMT
DTSTART:20271031T010000
END:STANDARD
END:VTIMEZONE
BEGIN:VEVENT
DTSTART;VALUE=DATE:20240716
DTEND;VALUE=DATE:20240717
DTSTAMP:20260422T005001
CREATED:20240711T122249Z
LAST-MODIFIED:20240711T123317Z
UID:10007773-1721088000-1721174399@stonehousetowncouncil.gov.uk
SUMMARY:Flower Sculpture Trail
DESCRIPTION:Discover the flower sculptures along the trail and vote for your favourite sculpture.\nPick up a trail map from The Old Chapel Garden on Saturday 13th July (2-4:30pm) or from Stonehouse Town Council weekdays between 15th -26th July or by emailing contactus@stonehousetowncouncil.gov.uk\nReturn your entries to Stonehouse Town Council by 26th July.\nBrought to you by Stonehouse Town Council in support of Stonehouse in Bloom.
URL:https://stonehousetowncouncil.gov.uk/event/flower-sculpture-trail/2024-07-16/
CATEGORIES:Community,Free,Stonehouse in Bloom,Stonehouse Town Council
ATTACH;FMTTYPE=image/jpeg:https://stonehousetowncouncil.gov.uk/wp-content/uploads/2024/07/SIB-Flower-Sculpture-Trail-Poster-2024.jpg
ORGANIZER;CN="Stonehouse Town Council":MAILTO:contactus@stonehousetowncouncil.gov.uk
END:VEVENT
BEGIN:VEVENT
DTSTART;VALUE=DATE:20240717
DTEND;VALUE=DATE:20240718
DTSTAMP:20260422T005001
CREATED:20240711T122249Z
LAST-MODIFIED:20240711T123317Z
UID:10007774-1721174400-1721260799@stonehousetowncouncil.gov.uk
SUMMARY:Flower Sculpture Trail
DESCRIPTION:Discover the flower sculptures along the trail and vote for your favourite sculpture.\nPick up a trail map from The Old Chapel Garden on Saturday 13th July (2-4:30pm) or from Stonehouse Town Council weekdays between 15th -26th July or by emailing contactus@stonehousetowncouncil.gov.uk\nReturn your entries to Stonehouse Town Council by 26th July.\nBrought to you by Stonehouse Town Council in support of Stonehouse in Bloom.
URL:https://stonehousetowncouncil.gov.uk/event/flower-sculpture-trail/2024-07-17/
CATEGORIES:Community,Free,Stonehouse in Bloom,Stonehouse Town Council
ATTACH;FMTTYPE=image/jpeg:https://stonehousetowncouncil.gov.uk/wp-content/uploads/2024/07/SIB-Flower-Sculpture-Trail-Poster-2024.jpg
ORGANIZER;CN="Stonehouse Town Council":MAILTO:contactus@stonehousetowncouncil.gov.uk
END:VEVENT
BEGIN:VEVENT
DTSTART;VALUE=DATE:20240718
DTEND;VALUE=DATE:20240719
DTSTAMP:20260422T005001
CREATED:20240711T122249Z
LAST-MODIFIED:20240711T123317Z
UID:10007775-1721260800-1721347199@stonehousetowncouncil.gov.uk
SUMMARY:Flower Sculpture Trail
DESCRIPTION:Discover the flower sculptures along the trail and vote for your favourite sculpture.\nPick up a trail map from The Old Chapel Garden on Saturday 13th July (2-4:30pm) or from Stonehouse Town Council weekdays between 15th -26th July or by emailing contactus@stonehousetowncouncil.gov.uk\nReturn your entries to Stonehouse Town Council by 26th July.\nBrought to you by Stonehouse Town Council in support of Stonehouse in Bloom.
URL:https://stonehousetowncouncil.gov.uk/event/flower-sculpture-trail/2024-07-18/
CATEGORIES:Community,Free,Stonehouse in Bloom,Stonehouse Town Council
ATTACH;FMTTYPE=image/jpeg:https://stonehousetowncouncil.gov.uk/wp-content/uploads/2024/07/SIB-Flower-Sculpture-Trail-Poster-2024.jpg
ORGANIZER;CN="Stonehouse Town Council":MAILTO:contactus@stonehousetowncouncil.gov.uk
END:VEVENT
BEGIN:VEVENT
DTSTART;VALUE=DATE:20240719
DTEND;VALUE=DATE:20240720
DTSTAMP:20260422T005001
CREATED:20240711T122249Z
LAST-MODIFIED:20240711T123317Z
UID:10007776-1721347200-1721433599@stonehousetowncouncil.gov.uk
SUMMARY:Flower Sculpture Trail
DESCRIPTION:Discover the flower sculptures along the trail and vote for your favourite sculpture.\nPick up a trail map from The Old Chapel Garden on Saturday 13th July (2-4:30pm) or from Stonehouse Town Council weekdays between 15th -26th July or by emailing contactus@stonehousetowncouncil.gov.uk\nReturn your entries to Stonehouse Town Council by 26th July.\nBrought to you by Stonehouse Town Council in support of Stonehouse in Bloom.
URL:https://stonehousetowncouncil.gov.uk/event/flower-sculpture-trail/2024-07-19/
CATEGORIES:Community,Free,Stonehouse in Bloom,Stonehouse Town Council
ATTACH;FMTTYPE=image/jpeg:https://stonehousetowncouncil.gov.uk/wp-content/uploads/2024/07/SIB-Flower-Sculpture-Trail-Poster-2024.jpg
ORGANIZER;CN="Stonehouse Town Council":MAILTO:contactus@stonehousetowncouncil.gov.uk
END:VEVENT
BEGIN:VEVENT
DTSTART;VALUE=DATE:20240720
DTEND;VALUE=DATE:20240721
DTSTAMP:20260422T005001
CREATED:20240711T122249Z
LAST-MODIFIED:20240711T123317Z
UID:10007777-1721433600-1721519999@stonehousetowncouncil.gov.uk
SUMMARY:Flower Sculpture Trail
DESCRIPTION:Discover the flower sculptures along the trail and vote for your favourite sculpture.\nPick up a trail map from The Old Chapel Garden on Saturday 13th July (2-4:30pm) or from Stonehouse Town Council weekdays between 15th -26th July or by emailing contactus@stonehousetowncouncil.gov.uk\nReturn your entries to Stonehouse Town Council by 26th July.\nBrought to you by Stonehouse Town Council in support of Stonehouse in Bloom.
URL:https://stonehousetowncouncil.gov.uk/event/flower-sculpture-trail/2024-07-20/
CATEGORIES:Community,Free,Stonehouse in Bloom,Stonehouse Town Council
ATTACH;FMTTYPE=image/jpeg:https://stonehousetowncouncil.gov.uk/wp-content/uploads/2024/07/SIB-Flower-Sculpture-Trail-Poster-2024.jpg
ORGANIZER;CN="Stonehouse Town Council":MAILTO:contactus@stonehousetowncouncil.gov.uk
END:VEVENT
BEGIN:VEVENT
DTSTART;VALUE=DATE:20240721
DTEND;VALUE=DATE:20240722
DTSTAMP:20260422T005001
CREATED:20240711T122249Z
LAST-MODIFIED:20240711T123317Z
UID:10007778-1721520000-1721606399@stonehousetowncouncil.gov.uk
SUMMARY:Flower Sculpture Trail
DESCRIPTION:Discover the flower sculptures along the trail and vote for your favourite sculpture.\nPick up a trail map from The Old Chapel Garden on Saturday 13th July (2-4:30pm) or from Stonehouse Town Council weekdays between 15th -26th July or by emailing contactus@stonehousetowncouncil.gov.uk\nReturn your entries to Stonehouse Town Council by 26th July.\nBrought to you by Stonehouse Town Council in support of Stonehouse in Bloom.
URL:https://stonehousetowncouncil.gov.uk/event/flower-sculpture-trail/2024-07-21/
CATEGORIES:Community,Free,Stonehouse in Bloom,Stonehouse Town Council
ATTACH;FMTTYPE=image/jpeg:https://stonehousetowncouncil.gov.uk/wp-content/uploads/2024/07/SIB-Flower-Sculpture-Trail-Poster-2024.jpg
ORGANIZER;CN="Stonehouse Town Council":MAILTO:contactus@stonehousetowncouncil.gov.uk
END:VEVENT
BEGIN:VEVENT
DTSTART;VALUE=DATE:20240722
DTEND;VALUE=DATE:20240723
DTSTAMP:20260422T005001
CREATED:20240711T122249Z
LAST-MODIFIED:20240711T123317Z
UID:10007779-1721606400-1721692799@stonehousetowncouncil.gov.uk
SUMMARY:Flower Sculpture Trail
DESCRIPTION:Discover the flower sculptures along the trail and vote for your favourite sculpture.\nPick up a trail map from The Old Chapel Garden on Saturday 13th July (2-4:30pm) or from Stonehouse Town Council weekdays between 15th -26th July or by emailing contactus@stonehousetowncouncil.gov.uk\nReturn your entries to Stonehouse Town Council by 26th July.\nBrought to you by Stonehouse Town Council in support of Stonehouse in Bloom.
URL:https://stonehousetowncouncil.gov.uk/event/flower-sculpture-trail/2024-07-22/
CATEGORIES:Community,Free,Stonehouse in Bloom,Stonehouse Town Council
ATTACH;FMTTYPE=image/jpeg:https://stonehousetowncouncil.gov.uk/wp-content/uploads/2024/07/SIB-Flower-Sculpture-Trail-Poster-2024.jpg
ORGANIZER;CN="Stonehouse Town Council":MAILTO:contactus@stonehousetowncouncil.gov.uk
END:VEVENT
BEGIN:VEVENT
DTSTART;VALUE=DATE:20240723
DTEND;VALUE=DATE:20240724
DTSTAMP:20260422T005001
CREATED:20240711T122249Z
LAST-MODIFIED:20240711T123317Z
UID:10007780-1721692800-1721779199@stonehousetowncouncil.gov.uk
SUMMARY:Flower Sculpture Trail
DESCRIPTION:Discover the flower sculptures along the trail and vote for your favourite sculpture.\nPick up a trail map from The Old Chapel Garden on Saturday 13th July (2-4:30pm) or from Stonehouse Town Council weekdays between 15th -26th July or by emailing contactus@stonehousetowncouncil.gov.uk\nReturn your entries to Stonehouse Town Council by 26th July.\nBrought to you by Stonehouse Town Council in support of Stonehouse in Bloom.
URL:https://stonehousetowncouncil.gov.uk/event/flower-sculpture-trail/2024-07-23/
CATEGORIES:Community,Free,Stonehouse in Bloom,Stonehouse Town Council
ATTACH;FMTTYPE=image/jpeg:https://stonehousetowncouncil.gov.uk/wp-content/uploads/2024/07/SIB-Flower-Sculpture-Trail-Poster-2024.jpg
ORGANIZER;CN="Stonehouse Town Council":MAILTO:contactus@stonehousetowncouncil.gov.uk
END:VEVENT
BEGIN:VEVENT
DTSTART;VALUE=DATE:20240723
DTEND;VALUE=DATE:20240724
DTSTAMP:20260422T005001
CREATED:20240717T105311Z
LAST-MODIFIED:20240717T105311Z
UID:10008164-1721692800-1721779199@stonehousetowncouncil.gov.uk
SUMMARY:Stonehouse in Bloom Regional Judging
DESCRIPTION:
URL:https://stonehousetowncouncil.gov.uk/event/stonehouse-in-bloom-regional-judging/
CATEGORIES:Community,Stonehouse in Bloom,Stonehouse Town Council
ATTACH;FMTTYPE=image/jpeg:https://stonehousetowncouncil.gov.uk/wp-content/uploads/2024/07/SIB-Reg-Nat-Judging-Poster-for-Town-A4.jpg
END:VEVENT
BEGIN:VEVENT
DTSTART;VALUE=DATE:20240724
DTEND;VALUE=DATE:20240725
DTSTAMP:20260422T005001
CREATED:20240711T122249Z
LAST-MODIFIED:20240711T123317Z
UID:10007781-1721779200-1721865599@stonehousetowncouncil.gov.uk
SUMMARY:Flower Sculpture Trail
DESCRIPTION:Discover the flower sculptures along the trail and vote for your favourite sculpture.\nPick up a trail map from The Old Chapel Garden on Saturday 13th July (2-4:30pm) or from Stonehouse Town Council weekdays between 15th -26th July or by emailing contactus@stonehousetowncouncil.gov.uk\nReturn your entries to Stonehouse Town Council by 26th July.\nBrought to you by Stonehouse Town Council in support of Stonehouse in Bloom.
URL:https://stonehousetowncouncil.gov.uk/event/flower-sculpture-trail/2024-07-24/
CATEGORIES:Community,Free,Stonehouse in Bloom,Stonehouse Town Council
ATTACH;FMTTYPE=image/jpeg:https://stonehousetowncouncil.gov.uk/wp-content/uploads/2024/07/SIB-Flower-Sculpture-Trail-Poster-2024.jpg
ORGANIZER;CN="Stonehouse Town Council":MAILTO:contactus@stonehousetowncouncil.gov.uk
END:VEVENT
BEGIN:VEVENT
DTSTART;VALUE=DATE:20240725
DTEND;VALUE=DATE:20240726
DTSTAMP:20260422T005001
CREATED:20240711T122249Z
LAST-MODIFIED:20240711T123317Z
UID:10007782-1721865600-1721951999@stonehousetowncouncil.gov.uk
SUMMARY:Flower Sculpture Trail
DESCRIPTION:Discover the flower sculptures along the trail and vote for your favourite sculpture.\nPick up a trail map from The Old Chapel Garden on Saturday 13th July (2-4:30pm) or from Stonehouse Town Council weekdays between 15th -26th July or by emailing contactus@stonehousetowncouncil.gov.uk\nReturn your entries to Stonehouse Town Council by 26th July.\nBrought to you by Stonehouse Town Council in support of Stonehouse in Bloom.
URL:https://stonehousetowncouncil.gov.uk/event/flower-sculpture-trail/2024-07-25/
CATEGORIES:Community,Free,Stonehouse in Bloom,Stonehouse Town Council
ATTACH;FMTTYPE=image/jpeg:https://stonehousetowncouncil.gov.uk/wp-content/uploads/2024/07/SIB-Flower-Sculpture-Trail-Poster-2024.jpg
ORGANIZER;CN="Stonehouse Town Council":MAILTO:contactus@stonehousetowncouncil.gov.uk
END:VEVENT
BEGIN:VEVENT
DTSTART;VALUE=DATE:20240726
DTEND;VALUE=DATE:20240727
DTSTAMP:20260422T005001
CREATED:20240711T122249Z
LAST-MODIFIED:20240711T123317Z
UID:10007783-1721952000-1722038399@stonehousetowncouncil.gov.uk
SUMMARY:Flower Sculpture Trail
DESCRIPTION:Discover the flower sculptures along the trail and vote for your favourite sculpture.\nPick up a trail map from The Old Chapel Garden on Saturday 13th July (2-4:30pm) or from Stonehouse Town Council weekdays between 15th -26th July or by emailing contactus@stonehousetowncouncil.gov.uk\nReturn your entries to Stonehouse Town Council by 26th July.\nBrought to you by Stonehouse Town Council in support of Stonehouse in Bloom.
URL:https://stonehousetowncouncil.gov.uk/event/flower-sculpture-trail/2024-07-26/
CATEGORIES:Community,Free,Stonehouse in Bloom,Stonehouse Town Council
ATTACH;FMTTYPE=image/jpeg:https://stonehousetowncouncil.gov.uk/wp-content/uploads/2024/07/SIB-Flower-Sculpture-Trail-Poster-2024.jpg
ORGANIZER;CN="Stonehouse Town Council":MAILTO:contactus@stonehousetowncouncil.gov.uk
END:VEVENT
BEGIN:VEVENT
DTSTART;VALUE=DATE:20240730
DTEND;VALUE=DATE:20240731
DTSTAMP:20260422T005001
CREATED:20240717T105449Z
LAST-MODIFIED:20240717T105449Z
UID:10008165-1722297600-1722383999@stonehousetowncouncil.gov.uk
SUMMARY:Stonehouse in Bloom National Judging
DESCRIPTION:
URL:https://stonehousetowncouncil.gov.uk/event/stonehouse-in-bloom-national-judging/
CATEGORIES:Community,Stonehouse in Bloom,Stonehouse Town Council
ATTACH;FMTTYPE=image/jpeg:https://stonehousetowncouncil.gov.uk/wp-content/uploads/2024/07/SIB-Reg-Nat-Judging-Poster-for-Town-A4.jpg
END:VEVENT
BEGIN:VEVENT
DTSTART;TZID=Europe/London:20240914T140000
DTEND;TZID=Europe/London:20240914T163000
DTSTAMP:20260422T005001
CREATED:20240906T103527Z
LAST-MODIFIED:20240906T103527Z
UID:10008544-1726322400-1726331400@stonehousetowncouncil.gov.uk
SUMMARY:Stonehouse in Bloom Afternoon Tea
DESCRIPTION:Please come and join us a week Saturday for some tasty cakes\, refreshments and live music from The Klarinets\, all in aid of Stonehouse in Bloom.\nWhy not take part in Stonehouse Walking Festival’s Wildlife Highways Walk\, that finishes in The Old Chapel Garden the same day\, starting at 1pm – Ship Inn to St Cyr’s to The Old Chapel Garden. You could finish your walk with some lovely cake! You will have walked off some calories beforehand… surely! Book the walk here  \nParking available in the main High Street car park\, although we encourage you to take public transport where viable. Public toilets are also within the car park. The Old Chapel Garden is wheelchair/mobility scooter accessible. \nWe look forward to seeing you there!
URL:https://stonehousetowncouncil.gov.uk/event/stonehouse-in-bloom-afternoon-tea-2/
LOCATION:The Old Chapel Garden\, High Street\, Stonehouse\, GL10 2NA\, United Kingdom
CATEGORIES:Canal,Community,Fundraising,Stonehouse in Bloom,Walking Festival
ATTACH;FMTTYPE=image/jpeg:https://stonehousetowncouncil.gov.uk/wp-content/uploads/2024/09/SIB-Poster-for-Afternoon-Teas-14-09-24.jpg
ORGANIZER;CN="Stonehouse in Bloom":MAILTO:deborah.curtis647580@gmail.com
END:VEVENT
BEGIN:VEVENT
DTSTART;TZID=Europe/London:20250215T143000
DTEND;TZID=Europe/London:20250215T163000
DTSTAMP:20260422T005001
CREATED:20250131T124334Z
LAST-MODIFIED:20250131T124334Z
UID:10008572-1739629800-1739637000@stonehousetowncouncil.gov.uk
SUMMARY:Stonehouse in Bloom Cream Tea
DESCRIPTION:Cream Teas on 15th February from 2:30pm in Stonehouse Library \nStonehouse Elastic Band playing\nFirst 2025 fundraiser\nBring a friend or neighbour (or come and make some new friends) for an afternoon of friendship and fun!\nAll funds raised to support Stonehouse in Bloom
URL:https://stonehousetowncouncil.gov.uk/event/stonehouse-in-bloom-cream-tea/
LOCATION:Stonehouse Library\, High Street\, Stonehouse\, GL10 2NG\, United Kingdom
CATEGORIES:Community,Fundraising,Stonehouse in Bloom
ATTACH;FMTTYPE=image/jpeg:https://stonehousetowncouncil.gov.uk/wp-content/uploads/2025/01/Stonehouse-in-Bloom-Cream-Tea-15th-Feb-2025-Poster.jpg
ORGANIZER;CN="Stonehouse in Bloom":MAILTO:deborah.curtis647580@gmail.com
END:VEVENT
BEGIN:VEVENT
DTSTART;TZID=Europe/London:20250517T143000
DTEND;TZID=Europe/London:20250517T170000
DTSTAMP:20260422T005001
CREATED:20250507T125832Z
LAST-MODIFIED:20250507T125832Z
UID:10008576-1747492200-1747501200@stonehousetowncouncil.gov.uk
SUMMARY:Stonehouse in Bloom Cream Tea
DESCRIPTION:Cream Teas on 17th May from 2:30pm in Stonehouse Library\nDelicious and wide variety of cakes and teas\, coffees etc.\nBring a friend or neighbour (or come and make some new friends) for an afternoon of friendship and fun!\nAll funds raised to support Stonehouse in Bloom
URL:https://stonehousetowncouncil.gov.uk/event/stonehouse-in-bloom-cream-tea-2/
LOCATION:Stonehouse Library\, High Street\, Stonehouse\, GL10 2NG\, United Kingdom
CATEGORIES:Events,Fundraising,Stonehouse in Bloom
ATTACH;FMTTYPE=image/jpeg:https://stonehousetowncouncil.gov.uk/wp-content/uploads/2025/05/Stonehouse-in-Bloom-Cream-Tea-17th-May-2025-Poster.jpg
END:VEVENT
BEGIN:VEVENT
DTSTART;TZID=Europe/London:20250713T140000
DTEND;TZID=Europe/London:20250713T160000
DTSTAMP:20260422T005001
CREATED:20250710T112839Z
LAST-MODIFIED:20250710T112928Z
UID:10008961-1752415200-1752422400@stonehousetowncouncil.gov.uk
SUMMARY:Community Litter Pick
DESCRIPTION:We need as many volunteers as possible for our next Community Litter Pick on Sunday 13th July. Starting at the Pod\, Oldends Lane at 2pm.\nThis will be just two days before Stonehouse is judged for the Heart of England in Bloom 2025 competition. Please come along\, get involved and help make Stonehouse sparkle!
URL:https://stonehousetowncouncil.gov.uk/event/community-litter-pick/
LOCATION:Oldends Lane Playing Field\, Oldends Lane\, Stonehouse\, Gloucestershire\, GL10 2DG\, United Kingdom
CATEGORIES:Community,Environment,Events,Free,Stonehouse in Bloom,Stonehouse Town Council
ATTACH;FMTTYPE=image/jpeg:https://stonehousetowncouncil.gov.uk/wp-content/uploads/2025/07/STC-Litter-Pick-July-2025.jpg
ORGANIZER;CN="Stonehouse Town Council":MAILTO:contactus@stonehousetowncouncil.gov.uk
END:VEVENT
BEGIN:VEVENT
DTSTART;VALUE=DATE:20250714
DTEND;VALUE=DATE:20250726
DTSTAMP:20260422T005001
CREATED:20250803T110745Z
LAST-MODIFIED:20250803T110948Z
UID:10008604-1752451200-1753487999@stonehousetowncouncil.gov.uk
SUMMARY:Flower Sculpture Trail
DESCRIPTION:Pick up a trail map from\nStonehouse Town Council weekdays between 14th -25th July\nThe Old Chapel Garden on Saturday 19th July (2 – 4:30pm)\ncontactus@stonehousetowncouncil.gov.uk \nDiscover the Flower Sculptures along the Trail and vote for your favourite Sculpture\nReturn your entries to Stonehouse Town Council by 26th July\nBrought to you by Stonehouse Town Council in support of Stonehouse in Bloom
URL:https://stonehousetowncouncil.gov.uk/event/flower-sculpture-trail-2-2/
LOCATION:Stonehouse\, United Kingdom
CATEGORIES:Community,Free,Stonehouse in Bloom,Stonehouse Town Council
ATTACH;FMTTYPE=image/jpeg:https://stonehousetowncouncil.gov.uk/wp-content/uploads/2025/07/SIB-Flower-Sculpture-Trail-2025.jpg
ORGANIZER;CN="Stonehouse Town Council":MAILTO:contactus@stonehousetowncouncil.gov.uk
END:VEVENT
BEGIN:VEVENT
DTSTART;VALUE=DATE:20250715
DTEND;VALUE=DATE:20250716
DTSTAMP:20260422T005001
CREATED:20250710T105036Z
LAST-MODIFIED:20250710T105036Z
UID:10008580-1752537600-1752623999@stonehousetowncouncil.gov.uk
SUMMARY:Stonehouse in Bloom Judging Day
DESCRIPTION:
URL:https://stonehousetowncouncil.gov.uk/event/stonehouse-in-bloom-judging-day/
LOCATION:Stonehouse\, United Kingdom
CATEGORIES:Community,Stonehouse in Bloom
ATTACH;FMTTYPE=image/jpeg:https://stonehousetowncouncil.gov.uk/wp-content/uploads/2025/07/SIB-Regional-Welcome-Day-Pre-judging-2025.jpg
ORGANIZER;CN="Stonehouse in Bloom":MAILTO:deborah.curtis647580@gmail.com
END:VEVENT
BEGIN:VEVENT
DTSTART;TZID=Europe/London:20250719T140000
DTEND;TZID=Europe/London:20250719T163000
DTSTAMP:20260422T005001
CREATED:20250710T105559Z
LAST-MODIFIED:20250716T115148Z
UID:10008581-1752933600-1752942600@stonehousetowncouncil.gov.uk
SUMMARY:Stonehouse in Bloom Afternoon Tea
DESCRIPTION:Please come and join us in The Old Chapel Garden (Stonehouse Library if poor weather) a week Saturday for some tasty cakes\, refreshments and live music from The Klarinets\, all in aid of Stonehouse in Bloom. \nParking available in the main High Street car park\, although we encourage you to take public transport where viable. Public toilets are also within the car park. The Old Chapel Garden is wheelchair/mobility scooter accessible. \nWe look forward to seeing you there!
URL:https://stonehousetowncouncil.gov.uk/event/stonehouse-in-bloom-afternoon-tea-3/
LOCATION:The Old Chapel Garden\, High Street\, Stonehouse\, GL10 2NA\, United Kingdom
CATEGORIES:Community,Stonehouse in Bloom
ATTACH;FMTTYPE=image/jpeg:https://stonehousetowncouncil.gov.uk/wp-content/uploads/2025/07/SIB-Afternoon-Tea-July-2025.jpg
ORGANIZER;CN="Stonehouse in Bloom":MAILTO:deborah.curtis647580@gmail.com
END:VEVENT
BEGIN:VEVENT
DTSTART;TZID=Europe/London:20250914T143000
DTEND;TZID=Europe/London:20250914T170000
DTSTAMP:20260422T005001
CREATED:20250908T104703Z
LAST-MODIFIED:20250912T175857Z
UID:10009349-1757860200-1757869200@stonehousetowncouncil.gov.uk
SUMMARY:Stonehouse in Bloom Afternoon Tea
DESCRIPTION:Afternoon Tea\nSunday 14th September 2 – 5pm\nIn The Library (change of venue due to bad weather forecast) \nTo coincide with the end of the day’s walks and start of the Stonehouse Walking Festival’ Festival Finale’ Walk at 5pm. Why not fuel up on tea and cake if participating\, or just indulge in some if you are not! \nPlease come and join us for some tasty cakes\, refreshments and live music from The Klarinets\, all in aid of Stonehouse in Bloom. Keeping our green-fingers crossed for not really wet weather. \nYou’ll also be able to buy some of our fabulous SIB cards (Spring and Summer sets for £5/pack – great as gifts).\nParking available in the main High Street car park\, although we encourage you to take public transport where viable. Public toilets are also within the car park and Library. The Library is wheelchair/mobility scooter accessible. \nWe look forward to seeing you there!
URL:https://stonehousetowncouncil.gov.uk/event/stonehouse-in-bloom-afternoon-tea-4/
LOCATION:Stonehouse Library\, High Street\, Stonehouse\, GL10 2NG\, United Kingdom
CATEGORIES:Fundraising,Stonehouse in Bloom
ATTACH;FMTTYPE=image/jpeg:https://stonehousetowncouncil.gov.uk/wp-content/uploads/2025/09/SIB-Afternoon-Tea-Sept-25.jpg
ORGANIZER;CN="Stonehouse in Bloom":MAILTO:deborah.curtis647580@gmail.com
END:VEVENT
BEGIN:VEVENT
DTSTART;TZID=Europe/London:20251101T143000
DTEND;TZID=Europe/London:20251101T163000
DTSTAMP:20260422T005001
CREATED:20251031T105453Z
LAST-MODIFIED:20251031T105453Z
UID:10009350-1762007400-1762014600@stonehousetowncouncil.gov.uk
SUMMARY:Stonehouse in Bloom Tea & Cake
DESCRIPTION:Tea & Cake Event\nThis Saturday 1st November 2:30-4:30pm\nStonehouse Library\nWith the days getting darker and danker\, we thought a ‘Tea & Cake’ event may brighten up the town!\nJoin us for some yummy baked delights and refreshments.\nWe’ll also have musical accompaniment from ‘The Elastic Band’.\nThere will also be Stonehouse in Bloom card sets (£5 each) and brand new Stonehouse in Bloom Tea Towels (£10 each) – see image.\nIt will be a great relaxing afternoon in aid of Stonehouse in Bloom.\nWe look forward to seeing you there!
URL:https://stonehousetowncouncil.gov.uk/event/stonehouse-in-bloom-tea-cake/
LOCATION:Stonehouse Library\, High Street\, Stonehouse\, GL10 2NG\, United Kingdom
CATEGORIES:Community,Fundraising,Stonehouse in Bloom
ATTACH;FMTTYPE=image/jpeg:https://stonehousetowncouncil.gov.uk/wp-content/uploads/2025/10/SIB-Tea-and-Cake-Nov-25-scaled.jpg
ORGANIZER;CN="Stonehouse in Bloom":MAILTO:deborah.curtis647580@gmail.com
END:VEVENT
BEGIN:VEVENT
DTSTART;TZID=Europe/London:20260228T143000
DTEND;TZID=Europe/London:20260228T163000
DTSTAMP:20260422T005001
CREATED:20260223T180302Z
LAST-MODIFIED:20260223T180302Z
UID:10009868-1772289000-1772296200@stonehousetowncouncil.gov.uk
SUMMARY:Stonehouse in Bloom Tea & Cake
DESCRIPTION:Tea & Cake Event\nSaturday 28th February 2:30-4:30pm\nStonehouse Library\nIt’s that time… cake\, community and convivial company in Stonehouse.\nJoin us for some yummy baked delights and refreshments.\nWe’ll also have musical accompaniment from ‘The Elastic Band’.\nThere will be new ‘Springtime’ Stonehouse in Bloom greetings cards sets (£5 each) and we’ve restocked our beautiful Stonehouse in Bloom Tea Towels (£10 each). We can take both cash and card payments.\nIt will be a great relaxing afternoon in aid of Stonehouse in Bloom.\nWe look forward to seeing you there!
URL:https://stonehousetowncouncil.gov.uk/event/stonehouse-in-bloom-tea-cake-2/
LOCATION:Stonehouse Library\, High Street\, Stonehouse\, GL10 2NG\, United Kingdom
CATEGORIES:Community,Fundraising,Stonehouse in Bloom
ATTACH;FMTTYPE=image/jpeg:https://stonehousetowncouncil.gov.uk/wp-content/uploads/2026/02/SIB-Tea-and-Cake-Feb-26.jpg
ORGANIZER;CN="Stonehouse in Bloom":MAILTO:deborah.curtis647580@gmail.com
END:VEVENT
END:VCALENDAR