BEGIN:VCALENDAR
VERSION:2.0
PRODID:-//Stonehouse Town Council - ECPv6.15.20//NONSGML v1.0//EN
CALSCALE:GREGORIAN
METHOD:PUBLISH
X-WR-CALNAME:Stonehouse Town Council
X-ORIGINAL-URL:https://stonehousetowncouncil.gov.uk
X-WR-CALDESC:Events for Stonehouse Town Council
REFRESH-INTERVAL;VALUE=DURATION:PT1H
X-Robots-Tag:noindex
X-PUBLISHED-TTL:PT1H
BEGIN:VTIMEZONE
TZID:Europe/London
BEGIN:DAYLIGHT
TZOFFSETFROM:+0000
TZOFFSETTO:+0100
TZNAME:BST
DTSTART:20220327T010000
END:DAYLIGHT
BEGIN:STANDARD
TZOFFSETFROM:+0100
TZOFFSETTO:+0000
TZNAME:GMT
DTSTART:20221030T010000
END:STANDARD
BEGIN:DAYLIGHT
TZOFFSETFROM:+0000
TZOFFSETTO:+0100
TZNAME:BST
DTSTART:20230326T010000
END:DAYLIGHT
BEGIN:STANDARD
TZOFFSETFROM:+0100
TZOFFSETTO:+0000
TZNAME:GMT
DTSTART:20231029T010000
END:STANDARD
BEGIN:DAYLIGHT
TZOFFSETFROM:+0000
TZOFFSETTO:+0100
TZNAME:BST
DTSTART:20240331T010000
END:DAYLIGHT
BEGIN:STANDARD
TZOFFSETFROM:+0100
TZOFFSETTO:+0000
TZNAME:GMT
DTSTART:20241027T010000
END:STANDARD
BEGIN:DAYLIGHT
TZOFFSETFROM:+0000
TZOFFSETTO:+0100
TZNAME:BST
DTSTART:20250330T010000
END:DAYLIGHT
BEGIN:STANDARD
TZOFFSETFROM:+0100
TZOFFSETTO:+0000
TZNAME:GMT
DTSTART:20251026T010000
END:STANDARD
END:VTIMEZONE
BEGIN:VEVENT
DTSTART;TZID=Europe/London:20240514T190000
DTEND;TZID=Europe/London:20240514T200000
DTSTAMP:20260422T003051
CREATED:20240425T094312Z
LAST-MODIFIED:20240425T094312Z
UID:10007226-1715713200-1715716800@stonehousetowncouncil.gov.uk
SUMMARY:Karate Lessons with Cotswold Karate Club
DESCRIPTION:Karate lessons for those aged 10 and over at\nSt Joseph’s Church Hall\nOldends Lane\nStonehouse. \nTraining Fees are £4 a week\, payable on the night. \nThere are No Joining Fees \nCome and see what you think – First lesson is free.
URL:https://stonehousetowncouncil.gov.uk/event/karate-lessons-with-cotswold-karate-club/2024-05-14/
LOCATION:St Josephs Church Hall\, Oldends Lane\, Stonehouse\, GL10 2DG\, United Kingdom
CATEGORIES:Sport
ATTACH;FMTTYPE=image/png:https://stonehousetowncouncil.gov.uk/wp-content/uploads/2024/04/ckc-.png
ORGANIZER;CN="Cotswold Karate Club":MAILTO:cotswoldkarateclub@gmail.com
END:VEVENT
BEGIN:VEVENT
DTSTART;TZID=Europe/London:20240513T193000
DTEND;TZID=Europe/London:20240513T204500
DTSTAMP:20260422T003051
CREATED:20240404T131540Z
LAST-MODIFIED:20240404T131541Z
UID:10006965-1715628600-1715633100@stonehousetowncouncil.gov.uk
SUMMARY:Stonehouse Community Choir
DESCRIPTION:Come and join the Stonehouse Community Choir on Monday evenings. \nAll abilities welcome
URL:https://stonehousetowncouncil.gov.uk/event/stonehouse-community-choir/2024-05-13/
LOCATION:St Josephs Church Hall\, Oldends Lane\, Stonehouse\, GL10 2DG\, United Kingdom
ATTACH;FMTTYPE=image/jpeg:https://stonehousetowncouncil.gov.uk/wp-content/uploads/2024/04/Comm-Choir-scaled.jpg
END:VEVENT
BEGIN:VEVENT
DTSTART;TZID=Europe/London:20240507T190000
DTEND;TZID=Europe/London:20240507T200000
DTSTAMP:20260422T003051
CREATED:20240425T094312Z
LAST-MODIFIED:20240425T094312Z
UID:10007225-1715108400-1715112000@stonehousetowncouncil.gov.uk
SUMMARY:Karate Lessons with Cotswold Karate Club
DESCRIPTION:Karate lessons for those aged 10 and over at\nSt Joseph’s Church Hall\nOldends Lane\nStonehouse. \nTraining Fees are £4 a week\, payable on the night. \nThere are No Joining Fees \nCome and see what you think – First lesson is free.
URL:https://stonehousetowncouncil.gov.uk/event/karate-lessons-with-cotswold-karate-club/2024-05-07/
LOCATION:St Josephs Church Hall\, Oldends Lane\, Stonehouse\, GL10 2DG\, United Kingdom
CATEGORIES:Sport
ATTACH;FMTTYPE=image/png:https://stonehousetowncouncil.gov.uk/wp-content/uploads/2024/04/ckc-.png
ORGANIZER;CN="Cotswold Karate Club":MAILTO:cotswoldkarateclub@gmail.com
END:VEVENT
BEGIN:VEVENT
DTSTART;TZID=Europe/London:20240506T193000
DTEND;TZID=Europe/London:20240506T204500
DTSTAMP:20260422T003051
CREATED:20240404T131540Z
LAST-MODIFIED:20240404T131541Z
UID:10006964-1715023800-1715028300@stonehousetowncouncil.gov.uk
SUMMARY:Stonehouse Community Choir
DESCRIPTION:Come and join the Stonehouse Community Choir on Monday evenings. \nAll abilities welcome
URL:https://stonehousetowncouncil.gov.uk/event/stonehouse-community-choir/2024-05-06/
LOCATION:St Josephs Church Hall\, Oldends Lane\, Stonehouse\, GL10 2DG\, United Kingdom
ATTACH;FMTTYPE=image/jpeg:https://stonehousetowncouncil.gov.uk/wp-content/uploads/2024/04/Comm-Choir-scaled.jpg
END:VEVENT
BEGIN:VEVENT
DTSTART;TZID=Europe/London:20240430T190000
DTEND;TZID=Europe/London:20240430T200000
DTSTAMP:20260422T003051
CREATED:20240425T094312Z
LAST-MODIFIED:20240425T094312Z
UID:10007224-1714503600-1714507200@stonehousetowncouncil.gov.uk
SUMMARY:Karate Lessons with Cotswold Karate Club
DESCRIPTION:Karate lessons for those aged 10 and over at\nSt Joseph’s Church Hall\nOldends Lane\nStonehouse. \nTraining Fees are £4 a week\, payable on the night. \nThere are No Joining Fees \nCome and see what you think – First lesson is free.
URL:https://stonehousetowncouncil.gov.uk/event/karate-lessons-with-cotswold-karate-club/2024-04-30/
LOCATION:St Josephs Church Hall\, Oldends Lane\, Stonehouse\, GL10 2DG\, United Kingdom
CATEGORIES:Sport
ATTACH;FMTTYPE=image/png:https://stonehousetowncouncil.gov.uk/wp-content/uploads/2024/04/ckc-.png
ORGANIZER;CN="Cotswold Karate Club":MAILTO:cotswoldkarateclub@gmail.com
END:VEVENT
BEGIN:VEVENT
DTSTART;TZID=Europe/London:20240429T193000
DTEND;TZID=Europe/London:20240429T204500
DTSTAMP:20260422T003051
CREATED:20240404T131540Z
LAST-MODIFIED:20240404T131541Z
UID:10006963-1714419000-1714423500@stonehousetowncouncil.gov.uk
SUMMARY:Stonehouse Community Choir
DESCRIPTION:Come and join the Stonehouse Community Choir on Monday evenings. \nAll abilities welcome
URL:https://stonehousetowncouncil.gov.uk/event/stonehouse-community-choir/2024-04-29/
LOCATION:St Josephs Church Hall\, Oldends Lane\, Stonehouse\, GL10 2DG\, United Kingdom
ATTACH;FMTTYPE=image/jpeg:https://stonehousetowncouncil.gov.uk/wp-content/uploads/2024/04/Comm-Choir-scaled.jpg
END:VEVENT
BEGIN:VEVENT
DTSTART;TZID=Europe/London:20240422T193000
DTEND;TZID=Europe/London:20240422T204500
DTSTAMP:20260422T003051
CREATED:20240404T131540Z
LAST-MODIFIED:20240404T131541Z
UID:10006962-1713814200-1713818700@stonehousetowncouncil.gov.uk
SUMMARY:Stonehouse Community Choir
DESCRIPTION:Come and join the Stonehouse Community Choir on Monday evenings. \nAll abilities welcome
URL:https://stonehousetowncouncil.gov.uk/event/stonehouse-community-choir/2024-04-22/
LOCATION:St Josephs Church Hall\, Oldends Lane\, Stonehouse\, GL10 2DG\, United Kingdom
ATTACH;FMTTYPE=image/jpeg:https://stonehousetowncouncil.gov.uk/wp-content/uploads/2024/04/Comm-Choir-scaled.jpg
END:VEVENT
BEGIN:VEVENT
DTSTART;TZID=Europe/London:20240415T193000
DTEND;TZID=Europe/London:20240415T204500
DTSTAMP:20260422T003051
CREATED:20240404T131540Z
LAST-MODIFIED:20240404T131541Z
UID:10006961-1713209400-1713213900@stonehousetowncouncil.gov.uk
SUMMARY:Stonehouse Community Choir
DESCRIPTION:Come and join the Stonehouse Community Choir on Monday evenings. \nAll abilities welcome
URL:https://stonehousetowncouncil.gov.uk/event/stonehouse-community-choir/2024-04-15/
LOCATION:St Josephs Church Hall\, Oldends Lane\, Stonehouse\, GL10 2DG\, United Kingdom
ATTACH;FMTTYPE=image/jpeg:https://stonehousetowncouncil.gov.uk/wp-content/uploads/2024/04/Comm-Choir-scaled.jpg
END:VEVENT
BEGIN:VEVENT
DTSTART;TZID=Europe/London:20240410T193000
DTEND;TZID=Europe/London:20240410T203000
DTSTAMP:20260422T003051
CREATED:20240404T112015Z
LAST-MODIFIED:20240404T112015Z
UID:10006698-1712777400-1712781000@stonehousetowncouncil.gov.uk
SUMMARY:Stonehouse History Group - Steven Blake
DESCRIPTION:The remarkable John Bellamy: the story of a Gloucestershire travelling showman.\nEveryone welcome\, £2 members £3 non members\nVisit www.stonehousehistorygroup.org.uk to find out more.
URL:https://stonehousetowncouncil.gov.uk/event/stonehouse-history-group-steven-blake/
LOCATION:Stonehouse Park Federation\, Elm Road\, Stonehouse\, Gloucestershire\, GL10 2NP\, United Kingdom
CATEGORIES:Community
END:VEVENT
BEGIN:VEVENT
DTSTART;TZID=Europe/London:20240408T193000
DTEND;TZID=Europe/London:20240408T204500
DTSTAMP:20260422T003051
CREATED:20240404T131540Z
LAST-MODIFIED:20240404T131541Z
UID:10006960-1712604600-1712609100@stonehousetowncouncil.gov.uk
SUMMARY:Stonehouse Community Choir
DESCRIPTION:Come and join the Stonehouse Community Choir on Monday evenings. \nAll abilities welcome
URL:https://stonehousetowncouncil.gov.uk/event/stonehouse-community-choir/2024-04-08/
LOCATION:St Josephs Church Hall\, Oldends Lane\, Stonehouse\, GL10 2DG\, United Kingdom
ATTACH;FMTTYPE=image/jpeg:https://stonehousetowncouncil.gov.uk/wp-content/uploads/2024/04/Comm-Choir-scaled.jpg
END:VEVENT
BEGIN:VEVENT
DTSTART;TZID=Europe/London:20231216T110000
DTEND;TZID=Europe/London:20231216T120000
DTSTAMP:20260422T003051
CREATED:20231205T122919Z
LAST-MODIFIED:20231205T122919Z
UID:10006693-1702724400-1702728000@stonehousetowncouncil.gov.uk
SUMMARY:Carol Service
DESCRIPTION:All welcome. On the Town Green
URL:https://stonehousetowncouncil.gov.uk/event/carol-service/
LOCATION:Town Green
CATEGORIES:Christmas,Community,Events
END:VEVENT
BEGIN:VEVENT
DTSTART;TZID=Europe/London:20231215T170000
DTEND;TZID=Europe/London:20231215T190000
DTSTAMP:20260422T003051
CREATED:20231121T124141Z
LAST-MODIFIED:20231121T124141Z
UID:10006691-1702659600-1702666800@stonehousetowncouncil.gov.uk
SUMMARY:Christmas Carol Float
DESCRIPTION:Stonehouse Christmas Carol Float is coming to town! Brought to you by Stonehouse Rotary Club and Stonehouse Town Council.\nThursday 14th & Friday 15th December. Come and see Father Christmas from 5pm. Cash donations will be gratefully received!\nPlease refer to the ‘Map of the Route’\, on Stonehouse Town Council’s website and social media (coming very soon!)\, to see which streets Father Christmas will be visiting.
URL:https://stonehousetowncouncil.gov.uk/event/christmas-carol-float/
CATEGORIES:Christmas,Community,Fundraising
ORGANIZER;CN="Stonehouse Town Council":MAILTO:contactus@stonehousetowncouncil.gov.uk
END:VEVENT
BEGIN:VEVENT
DTSTART;TZID=Europe/London:20231214T170000
DTEND;TZID=Europe/London:20231214T190000
DTSTAMP:20260422T003051
CREATED:20231121T124029Z
LAST-MODIFIED:20231121T124202Z
UID:10006690-1702573200-1702580400@stonehousetowncouncil.gov.uk
SUMMARY:Christmas Carol Float
DESCRIPTION:Stonehouse Christmas Carol Float is coming to town! Brought to you by Stonehouse Rotary Club and Stonehouse Town Council.\nThursday 14th & Friday 15th December. Come and see Father Christmas from 5pm. Cash donations will be gratefully received!\nPlease refer to the ‘Map of the Route’\, on Stonehouse Town Council’s website and social media (coming very soon!)\, to see which streets Father Christmas will be visiting.
URL:https://stonehousetowncouncil.gov.uk/event/rotary-christmas-carol-float/
CATEGORIES:Christmas,Community,Fundraising
ORGANIZER;CN="Stonehouse Town Council":MAILTO:contactus@stonehousetowncouncil.gov.uk
END:VEVENT
BEGIN:VEVENT
DTSTART;TZID=Europe/London:20231118T140000
DTEND;TZID=Europe/London:20231118T180000
DTSTAMP:20260422T003051
CREATED:20230907T161213Z
LAST-MODIFIED:20231019T124412Z
UID:10006683-1700316000-1700330400@stonehousetowncouncil.gov.uk
SUMMARY:Goodwill Fest
DESCRIPTION:
URL:https://stonehousetowncouncil.gov.uk/event/goodwill-fest/
LOCATION:Stonehouse High Street
CATEGORIES:Christmas
ORGANIZER;CN="Stonehouse Town Council":MAILTO:contactus@stonehousetowncouncil.gov.uk
END:VEVENT
BEGIN:VEVENT
DTSTART;TZID=Europe/London:20231112T104500
DTEND;TZID=Europe/London:20231112T121500
DTSTAMP:20260422T003051
CREATED:20231110T125422Z
LAST-MODIFIED:20231110T125422Z
UID:10006689-1699785900-1699791300@stonehousetowncouncil.gov.uk
SUMMARY:Remembrance Sunday Service
DESCRIPTION:Parade of contingents from Regent Street to the Memorial Green starting at 11:45am and the service on the Memorial Green begins at 12noon\, to include a One-Minute Silence and the laying of commemoration wreaths at the memorial. Public are welcome to join us along the parade route and on the High Street side of the Memorial Green for the service itself.
URL:https://stonehousetowncouncil.gov.uk/event/remembrance-sunday-service/
LOCATION:Memorial Green\, High Street\, Stonehouse\, GL10 2NA
CATEGORIES:Remembrance
END:VEVENT
BEGIN:VEVENT
DTSTART;TZID=Europe/London:20231111T104500
DTEND;TZID=Europe/London:20231111T111500
DTSTAMP:20260422T003051
CREATED:20231110T125011Z
LAST-MODIFIED:20231110T125011Z
UID:10006688-1699699500-1699701300@stonehousetowncouncil.gov.uk
SUMMARY:Remembrance Service of Commemoration
DESCRIPTION:A short service of commemoration commencing at 10:45am and including the roll-call of names on the memorial. Followed by a two-minute silence at 11am.
URL:https://stonehousetowncouncil.gov.uk/event/remembrance-service-of-commemoration/
LOCATION:Memorial Green\, High Street\, Stonehouse\, GL10 2NA
CATEGORIES:Remembrance
END:VEVENT
BEGIN:VEVENT
DTSTART;TZID=Europe/London:20231103T100000
DTEND;TZID=Europe/London:20231103T123000
DTSTAMP:20260422T003051
CREATED:20231030T150108Z
LAST-MODIFIED:20231030T150108Z
UID:10006687-1699005600-1699014600@stonehousetowncouncil.gov.uk
SUMMARY:Card & a Cuppa
DESCRIPTION:Join me for a bit of crafting fun\, a cuppa and a natter! No experience necessary\, step by step instructions and all materials provided. Suitable for beginners through to experienced crafters.\nMake a card\, try out a new hobby\, socialise with other crafters\, try Stampin’ Up! products and have some quality ‘me’ time. \nAll for only £5 including a drink\nAt Bridge Cafe (Old Lloyd’s Bank) Stonehouse
URL:https://stonehousetowncouncil.gov.uk/event/card-a-cuppa/
LOCATION:Bridge Cafe\, Stonehouse High Street
ATTACH;FMTTYPE=image/jpeg:https://stonehousetowncouncil.gov.uk/wp-content/uploads/2023/10/inbound399364363243144158-scaled.jpg
ORGANIZER;CN="Inkspired Crafts":MAILTO:mel@inkspiredcrafts.co.uk
END:VEVENT
BEGIN:VEVENT
DTSTART;TZID=Europe/London:20231103T090000
DTEND;TZID=Europe/London:20231103T110000
DTSTAMP:20260422T003051
CREATED:20231019T124259Z
LAST-MODIFIED:20251104T161138Z
UID:10006684-1699002000-1699009200@stonehousetowncouncil.gov.uk
SUMMARY:Copy of Wake Up\, Wind Down - Church to Church Walk (Women's Event)
DESCRIPTION:Book here \nThis event is part of the Wake Up Wind Down series – morning and twilight events on the Stroud canal that promote wellbeing and connection with nature for those who identify as female. \nJoin us for a circular morning walk from Stonehouse to Eastington and back following the canal and river. The route will include two historic churches – St Cyr’s\, Stonehouse and St Michael and All Angels\, Eastington\, set in beautiful locations alongside the water. The walk will be lead by Ruth Powell\, Stroud Valley’s Project. \nWe will finish back at Stonehouse Court Hotel where refreshments will be provided. \nStart/Finish: Meet outside the entrance to Stonehouse Court Hotel \nLength: 3 miles\, expected to take around an 1 hr 15 mins. \nAccessibility: This is a relatively flat walk with some narrow and uneven stretches of footpath. If you would like to find out more about the event or if there is anything we can do to make your experience more enjoyable please contact sarah.burgess@stroud.gov.uk. \nParking: Parking is available at Stonehouse Court Hotel. \nIf you are no longer able to make the event\, please cancel your ticket through Eventbrite so that someone else can attend. \nThis event is supported by the National Lottery Heritage Fund.
URL:https://stonehousetowncouncil.gov.uk/event/copy-of-wake-up-wind-down-church-to-church-walk-womens-event/
LOCATION:Stonehouse Court Hotel\, Bristol Road\, Stonehouse\, Gloucestershire\, GL10 3RA
CATEGORIES:Canal
ORGANIZER;CN="Cotswold Canals Connected":MAILTO:mail@cotswoldcanals.org
END:VEVENT
BEGIN:VEVENT
DTSTART;TZID=Europe/London:20230908T180000
DTEND;TZID=Europe/London:20230917T180000
DTSTAMP:20260422T003051
CREATED:20230907T160214Z
LAST-MODIFIED:20230907T160214Z
UID:10006682-1694196000-1694973600@stonehousetowncouncil.gov.uk
SUMMARY:Stonehouse Walking Festival
DESCRIPTION:
URL:https://stonehousetowncouncil.gov.uk/event/stonehouse-walking-festival/
CATEGORIES:Walking Festival
ORGANIZER;CN="Stonehouse Walking Festival":MAILTO:stonehousewalkfest@gmail.com
END:VEVENT
END:VCALENDAR