BEGIN:VCALENDAR
VERSION:2.0
PRODID:-//Stonehouse Town Council - ECPv6.15.20//NONSGML v1.0//EN
CALSCALE:GREGORIAN
METHOD:PUBLISH
X-WR-CALNAME:Stonehouse Town Council
X-ORIGINAL-URL:https://stonehousetowncouncil.gov.uk
X-WR-CALDESC:Events for Stonehouse Town Council
REFRESH-INTERVAL;VALUE=DURATION:PT1H
X-Robots-Tag:noindex
X-PUBLISHED-TTL:PT1H
BEGIN:VTIMEZONE
TZID:Europe/London
BEGIN:DAYLIGHT
TZOFFSETFROM:+0000
TZOFFSETTO:+0100
TZNAME:BST
DTSTART:20230326T010000
END:DAYLIGHT
BEGIN:STANDARD
TZOFFSETFROM:+0100
TZOFFSETTO:+0000
TZNAME:GMT
DTSTART:20231029T010000
END:STANDARD
BEGIN:DAYLIGHT
TZOFFSETFROM:+0000
TZOFFSETTO:+0100
TZNAME:BST
DTSTART:20240331T010000
END:DAYLIGHT
BEGIN:STANDARD
TZOFFSETFROM:+0100
TZOFFSETTO:+0000
TZNAME:GMT
DTSTART:20241027T010000
END:STANDARD
BEGIN:DAYLIGHT
TZOFFSETFROM:+0000
TZOFFSETTO:+0100
TZNAME:BST
DTSTART:20250330T010000
END:DAYLIGHT
BEGIN:STANDARD
TZOFFSETFROM:+0100
TZOFFSETTO:+0000
TZNAME:GMT
DTSTART:20251026T010000
END:STANDARD
END:VTIMEZONE
BEGIN:VEVENT
DTSTART;TZID=Europe/London:20241021T193000
DTEND;TZID=Europe/London:20241021T204500
DTSTAMP:20260421T042434
CREATED:20240404T131540Z
LAST-MODIFIED:20240404T131541Z
UID:10006988-1729539000-1729543500@stonehousetowncouncil.gov.uk
SUMMARY:Stonehouse Community Choir
DESCRIPTION:Come and join the Stonehouse Community Choir on Monday evenings. \nAll abilities welcome
URL:https://stonehousetowncouncil.gov.uk/event/stonehouse-community-choir/2024-10-21/
LOCATION:St Josephs Church Hall\, Oldends Lane\, Stonehouse\, GL10 2DG\, United Kingdom
ATTACH;FMTTYPE=image/jpeg:https://stonehousetowncouncil.gov.uk/wp-content/uploads/2024/04/Comm-Choir-scaled.jpg
END:VEVENT
BEGIN:VEVENT
DTSTART;TZID=Europe/London:20241015T190000
DTEND;TZID=Europe/London:20241015T200000
DTSTAMP:20260421T042434
CREATED:20240425T094312Z
LAST-MODIFIED:20240425T094312Z
UID:10007248-1729018800-1729022400@stonehousetowncouncil.gov.uk
SUMMARY:Karate Lessons with Cotswold Karate Club
DESCRIPTION:Karate lessons for those aged 10 and over at\nSt Joseph’s Church Hall\nOldends Lane\nStonehouse. \nTraining Fees are £4 a week\, payable on the night. \nThere are No Joining Fees \nCome and see what you think – First lesson is free.
URL:https://stonehousetowncouncil.gov.uk/event/karate-lessons-with-cotswold-karate-club/2024-10-15/
LOCATION:St Josephs Church Hall\, Oldends Lane\, Stonehouse\, GL10 2DG\, United Kingdom
CATEGORIES:Sport
ATTACH;FMTTYPE=image/png:https://stonehousetowncouncil.gov.uk/wp-content/uploads/2024/04/ckc-.png
ORGANIZER;CN="Cotswold Karate Club":MAILTO:cotswoldkarateclub@gmail.com
END:VEVENT
BEGIN:VEVENT
DTSTART;TZID=Europe/London:20241014T193000
DTEND;TZID=Europe/London:20241014T204500
DTSTAMP:20260421T042434
CREATED:20240404T131540Z
LAST-MODIFIED:20240404T131541Z
UID:10006987-1728934200-1728938700@stonehousetowncouncil.gov.uk
SUMMARY:Stonehouse Community Choir
DESCRIPTION:Come and join the Stonehouse Community Choir on Monday evenings. \nAll abilities welcome
URL:https://stonehousetowncouncil.gov.uk/event/stonehouse-community-choir/2024-10-14/
LOCATION:St Josephs Church Hall\, Oldends Lane\, Stonehouse\, GL10 2DG\, United Kingdom
ATTACH;FMTTYPE=image/jpeg:https://stonehousetowncouncil.gov.uk/wp-content/uploads/2024/04/Comm-Choir-scaled.jpg
END:VEVENT
BEGIN:VEVENT
DTSTART;TZID=Europe/London:20241008T190000
DTEND;TZID=Europe/London:20241008T200000
DTSTAMP:20260421T042434
CREATED:20240425T094312Z
LAST-MODIFIED:20240425T094312Z
UID:10007247-1728414000-1728417600@stonehousetowncouncil.gov.uk
SUMMARY:Karate Lessons with Cotswold Karate Club
DESCRIPTION:Karate lessons for those aged 10 and over at\nSt Joseph’s Church Hall\nOldends Lane\nStonehouse. \nTraining Fees are £4 a week\, payable on the night. \nThere are No Joining Fees \nCome and see what you think – First lesson is free.
URL:https://stonehousetowncouncil.gov.uk/event/karate-lessons-with-cotswold-karate-club/2024-10-08/
LOCATION:St Josephs Church Hall\, Oldends Lane\, Stonehouse\, GL10 2DG\, United Kingdom
CATEGORIES:Sport
ATTACH;FMTTYPE=image/png:https://stonehousetowncouncil.gov.uk/wp-content/uploads/2024/04/ckc-.png
ORGANIZER;CN="Cotswold Karate Club":MAILTO:cotswoldkarateclub@gmail.com
END:VEVENT
BEGIN:VEVENT
DTSTART;TZID=Europe/London:20241007T193000
DTEND;TZID=Europe/London:20241007T204500
DTSTAMP:20260421T042434
CREATED:20240404T131540Z
LAST-MODIFIED:20240404T131541Z
UID:10006986-1728329400-1728333900@stonehousetowncouncil.gov.uk
SUMMARY:Stonehouse Community Choir
DESCRIPTION:Come and join the Stonehouse Community Choir on Monday evenings. \nAll abilities welcome
URL:https://stonehousetowncouncil.gov.uk/event/stonehouse-community-choir/2024-10-07/
LOCATION:St Josephs Church Hall\, Oldends Lane\, Stonehouse\, GL10 2DG\, United Kingdom
ATTACH;FMTTYPE=image/jpeg:https://stonehousetowncouncil.gov.uk/wp-content/uploads/2024/04/Comm-Choir-scaled.jpg
END:VEVENT
BEGIN:VEVENT
DTSTART;TZID=Europe/London:20241001T190000
DTEND;TZID=Europe/London:20241001T200000
DTSTAMP:20260421T042434
CREATED:20240425T094312Z
LAST-MODIFIED:20240425T094312Z
UID:10007246-1727809200-1727812800@stonehousetowncouncil.gov.uk
SUMMARY:Karate Lessons with Cotswold Karate Club
DESCRIPTION:Karate lessons for those aged 10 and over at\nSt Joseph’s Church Hall\nOldends Lane\nStonehouse. \nTraining Fees are £4 a week\, payable on the night. \nThere are No Joining Fees \nCome and see what you think – First lesson is free.
URL:https://stonehousetowncouncil.gov.uk/event/karate-lessons-with-cotswold-karate-club/2024-10-01/
LOCATION:St Josephs Church Hall\, Oldends Lane\, Stonehouse\, GL10 2DG\, United Kingdom
CATEGORIES:Sport
ATTACH;FMTTYPE=image/png:https://stonehousetowncouncil.gov.uk/wp-content/uploads/2024/04/ckc-.png
ORGANIZER;CN="Cotswold Karate Club":MAILTO:cotswoldkarateclub@gmail.com
END:VEVENT
BEGIN:VEVENT
DTSTART;TZID=Europe/London:20240930T193000
DTEND;TZID=Europe/London:20240930T204500
DTSTAMP:20260421T042434
CREATED:20240404T131540Z
LAST-MODIFIED:20240404T131541Z
UID:10006985-1727724600-1727729100@stonehousetowncouncil.gov.uk
SUMMARY:Stonehouse Community Choir
DESCRIPTION:Come and join the Stonehouse Community Choir on Monday evenings. \nAll abilities welcome
URL:https://stonehousetowncouncil.gov.uk/event/stonehouse-community-choir/2024-09-30/
LOCATION:St Josephs Church Hall\, Oldends Lane\, Stonehouse\, GL10 2DG\, United Kingdom
ATTACH;FMTTYPE=image/jpeg:https://stonehousetowncouncil.gov.uk/wp-content/uploads/2024/04/Comm-Choir-scaled.jpg
END:VEVENT
BEGIN:VEVENT
DTSTART;TZID=Europe/London:20240924T190000
DTEND;TZID=Europe/London:20240924T200000
DTSTAMP:20260421T042434
CREATED:20240425T094312Z
LAST-MODIFIED:20240425T094312Z
UID:10007245-1727204400-1727208000@stonehousetowncouncil.gov.uk
SUMMARY:Karate Lessons with Cotswold Karate Club
DESCRIPTION:Karate lessons for those aged 10 and over at\nSt Joseph’s Church Hall\nOldends Lane\nStonehouse. \nTraining Fees are £4 a week\, payable on the night. \nThere are No Joining Fees \nCome and see what you think – First lesson is free.
URL:https://stonehousetowncouncil.gov.uk/event/karate-lessons-with-cotswold-karate-club/2024-09-24/
LOCATION:St Josephs Church Hall\, Oldends Lane\, Stonehouse\, GL10 2DG\, United Kingdom
CATEGORIES:Sport
ATTACH;FMTTYPE=image/png:https://stonehousetowncouncil.gov.uk/wp-content/uploads/2024/04/ckc-.png
ORGANIZER;CN="Cotswold Karate Club":MAILTO:cotswoldkarateclub@gmail.com
END:VEVENT
BEGIN:VEVENT
DTSTART;TZID=Europe/London:20240923T193000
DTEND;TZID=Europe/London:20240923T204500
DTSTAMP:20260421T042434
CREATED:20240404T131540Z
LAST-MODIFIED:20240404T131541Z
UID:10006984-1727119800-1727124300@stonehousetowncouncil.gov.uk
SUMMARY:Stonehouse Community Choir
DESCRIPTION:Come and join the Stonehouse Community Choir on Monday evenings. \nAll abilities welcome
URL:https://stonehousetowncouncil.gov.uk/event/stonehouse-community-choir/2024-09-23/
LOCATION:St Josephs Church Hall\, Oldends Lane\, Stonehouse\, GL10 2DG\, United Kingdom
ATTACH;FMTTYPE=image/jpeg:https://stonehousetowncouncil.gov.uk/wp-content/uploads/2024/04/Comm-Choir-scaled.jpg
END:VEVENT
BEGIN:VEVENT
DTSTART;TZID=Europe/London:20240917T190000
DTEND;TZID=Europe/London:20240917T200000
DTSTAMP:20260421T042434
CREATED:20240425T094312Z
LAST-MODIFIED:20240425T094312Z
UID:10007244-1726599600-1726603200@stonehousetowncouncil.gov.uk
SUMMARY:Karate Lessons with Cotswold Karate Club
DESCRIPTION:Karate lessons for those aged 10 and over at\nSt Joseph’s Church Hall\nOldends Lane\nStonehouse. \nTraining Fees are £4 a week\, payable on the night. \nThere are No Joining Fees \nCome and see what you think – First lesson is free.
URL:https://stonehousetowncouncil.gov.uk/event/karate-lessons-with-cotswold-karate-club/2024-09-17/
LOCATION:St Josephs Church Hall\, Oldends Lane\, Stonehouse\, GL10 2DG\, United Kingdom
CATEGORIES:Sport
ATTACH;FMTTYPE=image/png:https://stonehousetowncouncil.gov.uk/wp-content/uploads/2024/04/ckc-.png
ORGANIZER;CN="Cotswold Karate Club":MAILTO:cotswoldkarateclub@gmail.com
END:VEVENT
BEGIN:VEVENT
DTSTART;TZID=Europe/London:20240917T100000
DTEND;TZID=Europe/London:20240917T120000
DTSTAMP:20260421T042434
CREATED:20240816T114530Z
LAST-MODIFIED:20240816T114540Z
UID:10008168-1726567200-1726574400@stonehousetowncouncil.gov.uk
SUMMARY:Macmillan Coffee Morning
DESCRIPTION:Save the date!\nStonehouse Town Council and members of the community are holding a Macmillan Coffee (and cake!) Morning on Tuesday 17th September\, 10am – 12 midday\, in the Library. All welcome!
URL:https://stonehousetowncouncil.gov.uk/event/macmillan-coffee-morning/
LOCATION:Stonehouse Library\, High Street\, Stonehouse\, GL10 2NG\, United Kingdom
CATEGORIES:Charity,Community,Fundraising,Stonehouse Town Council
ATTACH;FMTTYPE=image/jpeg:https://stonehousetowncouncil.gov.uk/wp-content/uploads/2024/08/Macmillan-Coffee-Morning-every-cake-matters-poster-2024.jpg
ORGANIZER;CN="Stonehouse Town Council":MAILTO:contactus@stonehousetowncouncil.gov.uk
END:VEVENT
BEGIN:VEVENT
DTSTART;TZID=Europe/London:20240916T193000
DTEND;TZID=Europe/London:20240916T204500
DTSTAMP:20260421T042434
CREATED:20240404T131540Z
LAST-MODIFIED:20240404T131541Z
UID:10006983-1726515000-1726519500@stonehousetowncouncil.gov.uk
SUMMARY:Stonehouse Community Choir
DESCRIPTION:Come and join the Stonehouse Community Choir on Monday evenings. \nAll abilities welcome
URL:https://stonehousetowncouncil.gov.uk/event/stonehouse-community-choir/2024-09-16/
LOCATION:St Josephs Church Hall\, Oldends Lane\, Stonehouse\, GL10 2DG\, United Kingdom
ATTACH;FMTTYPE=image/jpeg:https://stonehousetowncouncil.gov.uk/wp-content/uploads/2024/04/Comm-Choir-scaled.jpg
END:VEVENT
BEGIN:VEVENT
DTSTART;TZID=Europe/London:20240914T140000
DTEND;TZID=Europe/London:20240914T163000
DTSTAMP:20260421T042434
CREATED:20240906T103527Z
LAST-MODIFIED:20240906T103527Z
UID:10008544-1726322400-1726331400@stonehousetowncouncil.gov.uk
SUMMARY:Stonehouse in Bloom Afternoon Tea
DESCRIPTION:Please come and join us a week Saturday for some tasty cakes\, refreshments and live music from The Klarinets\, all in aid of Stonehouse in Bloom.\nWhy not take part in Stonehouse Walking Festival’s Wildlife Highways Walk\, that finishes in The Old Chapel Garden the same day\, starting at 1pm – Ship Inn to St Cyr’s to The Old Chapel Garden. You could finish your walk with some lovely cake! You will have walked off some calories beforehand… surely! Book the walk here  \nParking available in the main High Street car park\, although we encourage you to take public transport where viable. Public toilets are also within the car park. The Old Chapel Garden is wheelchair/mobility scooter accessible. \nWe look forward to seeing you there!
URL:https://stonehousetowncouncil.gov.uk/event/stonehouse-in-bloom-afternoon-tea-2/
LOCATION:The Old Chapel Garden\, High Street\, Stonehouse\, GL10 2NA\, United Kingdom
CATEGORIES:Canal,Community,Fundraising,Stonehouse in Bloom,Walking Festival
ATTACH;FMTTYPE=image/jpeg:https://stonehousetowncouncil.gov.uk/wp-content/uploads/2024/09/SIB-Poster-for-Afternoon-Teas-14-09-24.jpg
ORGANIZER;CN="Stonehouse in Bloom":MAILTO:deborah.curtis647580@gmail.com
END:VEVENT
BEGIN:VEVENT
DTSTART;TZID=Europe/London:20240910T190000
DTEND;TZID=Europe/London:20240910T200000
DTSTAMP:20260421T042434
CREATED:20240425T094312Z
LAST-MODIFIED:20240425T094312Z
UID:10007243-1725994800-1725998400@stonehousetowncouncil.gov.uk
SUMMARY:Karate Lessons with Cotswold Karate Club
DESCRIPTION:Karate lessons for those aged 10 and over at\nSt Joseph’s Church Hall\nOldends Lane\nStonehouse. \nTraining Fees are £4 a week\, payable on the night. \nThere are No Joining Fees \nCome and see what you think – First lesson is free.
URL:https://stonehousetowncouncil.gov.uk/event/karate-lessons-with-cotswold-karate-club/2024-09-10/
LOCATION:St Josephs Church Hall\, Oldends Lane\, Stonehouse\, GL10 2DG\, United Kingdom
CATEGORIES:Sport
ATTACH;FMTTYPE=image/png:https://stonehousetowncouncil.gov.uk/wp-content/uploads/2024/04/ckc-.png
ORGANIZER;CN="Cotswold Karate Club":MAILTO:cotswoldkarateclub@gmail.com
END:VEVENT
BEGIN:VEVENT
DTSTART;TZID=Europe/London:20240909T193000
DTEND;TZID=Europe/London:20240909T204500
DTSTAMP:20260421T042434
CREATED:20240404T131540Z
LAST-MODIFIED:20240404T131541Z
UID:10006982-1725910200-1725914700@stonehousetowncouncil.gov.uk
SUMMARY:Stonehouse Community Choir
DESCRIPTION:Come and join the Stonehouse Community Choir on Monday evenings. \nAll abilities welcome
URL:https://stonehousetowncouncil.gov.uk/event/stonehouse-community-choir/2024-09-09/
LOCATION:St Josephs Church Hall\, Oldends Lane\, Stonehouse\, GL10 2DG\, United Kingdom
ATTACH;FMTTYPE=image/jpeg:https://stonehousetowncouncil.gov.uk/wp-content/uploads/2024/04/Comm-Choir-scaled.jpg
END:VEVENT
BEGIN:VEVENT
DTSTART;TZID=Europe/London:20240903T190000
DTEND;TZID=Europe/London:20240903T200000
DTSTAMP:20260421T042434
CREATED:20240425T094312Z
LAST-MODIFIED:20240425T094312Z
UID:10007242-1725390000-1725393600@stonehousetowncouncil.gov.uk
SUMMARY:Karate Lessons with Cotswold Karate Club
DESCRIPTION:Karate lessons for those aged 10 and over at\nSt Joseph’s Church Hall\nOldends Lane\nStonehouse. \nTraining Fees are £4 a week\, payable on the night. \nThere are No Joining Fees \nCome and see what you think – First lesson is free.
URL:https://stonehousetowncouncil.gov.uk/event/karate-lessons-with-cotswold-karate-club/2024-09-03/
LOCATION:St Josephs Church Hall\, Oldends Lane\, Stonehouse\, GL10 2DG\, United Kingdom
CATEGORIES:Sport
ATTACH;FMTTYPE=image/png:https://stonehousetowncouncil.gov.uk/wp-content/uploads/2024/04/ckc-.png
ORGANIZER;CN="Cotswold Karate Club":MAILTO:cotswoldkarateclub@gmail.com
END:VEVENT
BEGIN:VEVENT
DTSTART;TZID=Europe/London:20240902T193000
DTEND;TZID=Europe/London:20240902T204500
DTSTAMP:20260421T042434
CREATED:20240404T131540Z
LAST-MODIFIED:20240404T131541Z
UID:10006981-1725305400-1725309900@stonehousetowncouncil.gov.uk
SUMMARY:Stonehouse Community Choir
DESCRIPTION:Come and join the Stonehouse Community Choir on Monday evenings. \nAll abilities welcome
URL:https://stonehousetowncouncil.gov.uk/event/stonehouse-community-choir/2024-09-02/
LOCATION:St Josephs Church Hall\, Oldends Lane\, Stonehouse\, GL10 2DG\, United Kingdom
ATTACH;FMTTYPE=image/jpeg:https://stonehousetowncouncil.gov.uk/wp-content/uploads/2024/04/Comm-Choir-scaled.jpg
END:VEVENT
BEGIN:VEVENT
DTSTART;TZID=Europe/London:20240901T110000
DTEND;TZID=Europe/London:20240901T160000
DTSTAMP:20260421T042434
CREATED:20240815T155810Z
LAST-MODIFIED:20240815T160101Z
UID:10008166-1725188400-1725206400@stonehousetowncouncil.gov.uk
SUMMARY:Stonehouse Canal Festival
DESCRIPTION:The festival is spread across three venues\, St. Cyr’s Church\, Stonehouse Court Hotel and The Ocean Canalside.
URL:https://stonehousetowncouncil.gov.uk/event/stonehouse-canal-festival/
LOCATION:St Cyr’s Church\, Church Lane\, Stonehouse\, GL10 3QP\, United Kingdom
CATEGORIES:Canal,Community,Events,Free
ATTACH;FMTTYPE=image/jpeg:https://stonehousetowncouncil.gov.uk/wp-content/uploads/2024/08/Stonehouse-Canal-Festival-2024.jpg
END:VEVENT
BEGIN:VEVENT
DTSTART;TZID=Europe/London:20240827T190000
DTEND;TZID=Europe/London:20240827T200000
DTSTAMP:20260421T042434
CREATED:20240425T094312Z
LAST-MODIFIED:20240425T094312Z
UID:10007241-1724785200-1724788800@stonehousetowncouncil.gov.uk
SUMMARY:Karate Lessons with Cotswold Karate Club
DESCRIPTION:Karate lessons for those aged 10 and over at\nSt Joseph’s Church Hall\nOldends Lane\nStonehouse. \nTraining Fees are £4 a week\, payable on the night. \nThere are No Joining Fees \nCome and see what you think – First lesson is free.
URL:https://stonehousetowncouncil.gov.uk/event/karate-lessons-with-cotswold-karate-club/2024-08-27/
LOCATION:St Josephs Church Hall\, Oldends Lane\, Stonehouse\, GL10 2DG\, United Kingdom
CATEGORIES:Sport
ATTACH;FMTTYPE=image/png:https://stonehousetowncouncil.gov.uk/wp-content/uploads/2024/04/ckc-.png
ORGANIZER;CN="Cotswold Karate Club":MAILTO:cotswoldkarateclub@gmail.com
END:VEVENT
BEGIN:VEVENT
DTSTART;TZID=Europe/London:20240826T193000
DTEND;TZID=Europe/London:20240826T204500
DTSTAMP:20260421T042434
CREATED:20240404T131540Z
LAST-MODIFIED:20240404T131541Z
UID:10006980-1724700600-1724705100@stonehousetowncouncil.gov.uk
SUMMARY:Stonehouse Community Choir
DESCRIPTION:Come and join the Stonehouse Community Choir on Monday evenings. \nAll abilities welcome
URL:https://stonehousetowncouncil.gov.uk/event/stonehouse-community-choir/2024-08-26/
LOCATION:St Josephs Church Hall\, Oldends Lane\, Stonehouse\, GL10 2DG\, United Kingdom
ATTACH;FMTTYPE=image/jpeg:https://stonehousetowncouncil.gov.uk/wp-content/uploads/2024/04/Comm-Choir-scaled.jpg
END:VEVENT
BEGIN:VEVENT
DTSTART;TZID=Europe/London:20240820T190000
DTEND;TZID=Europe/London:20240820T200000
DTSTAMP:20260421T042434
CREATED:20240425T094312Z
LAST-MODIFIED:20240425T094312Z
UID:10007240-1724180400-1724184000@stonehousetowncouncil.gov.uk
SUMMARY:Karate Lessons with Cotswold Karate Club
DESCRIPTION:Karate lessons for those aged 10 and over at\nSt Joseph’s Church Hall\nOldends Lane\nStonehouse. \nTraining Fees are £4 a week\, payable on the night. \nThere are No Joining Fees \nCome and see what you think – First lesson is free.
URL:https://stonehousetowncouncil.gov.uk/event/karate-lessons-with-cotswold-karate-club/2024-08-20/
LOCATION:St Josephs Church Hall\, Oldends Lane\, Stonehouse\, GL10 2DG\, United Kingdom
CATEGORIES:Sport
ATTACH;FMTTYPE=image/png:https://stonehousetowncouncil.gov.uk/wp-content/uploads/2024/04/ckc-.png
ORGANIZER;CN="Cotswold Karate Club":MAILTO:cotswoldkarateclub@gmail.com
END:VEVENT
BEGIN:VEVENT
DTSTART;TZID=Europe/London:20240819T193000
DTEND;TZID=Europe/London:20240819T204500
DTSTAMP:20260421T042434
CREATED:20240404T131540Z
LAST-MODIFIED:20240404T131541Z
UID:10006979-1724095800-1724100300@stonehousetowncouncil.gov.uk
SUMMARY:Stonehouse Community Choir
DESCRIPTION:Come and join the Stonehouse Community Choir on Monday evenings. \nAll abilities welcome
URL:https://stonehousetowncouncil.gov.uk/event/stonehouse-community-choir/2024-08-19/
LOCATION:St Josephs Church Hall\, Oldends Lane\, Stonehouse\, GL10 2DG\, United Kingdom
ATTACH;FMTTYPE=image/jpeg:https://stonehousetowncouncil.gov.uk/wp-content/uploads/2024/04/Comm-Choir-scaled.jpg
END:VEVENT
BEGIN:VEVENT
DTSTART;TZID=Europe/London:20240813T190000
DTEND;TZID=Europe/London:20240813T200000
DTSTAMP:20260421T042434
CREATED:20240425T094312Z
LAST-MODIFIED:20240425T094312Z
UID:10007239-1723575600-1723579200@stonehousetowncouncil.gov.uk
SUMMARY:Karate Lessons with Cotswold Karate Club
DESCRIPTION:Karate lessons for those aged 10 and over at\nSt Joseph’s Church Hall\nOldends Lane\nStonehouse. \nTraining Fees are £4 a week\, payable on the night. \nThere are No Joining Fees \nCome and see what you think – First lesson is free.
URL:https://stonehousetowncouncil.gov.uk/event/karate-lessons-with-cotswold-karate-club/2024-08-13/
LOCATION:St Josephs Church Hall\, Oldends Lane\, Stonehouse\, GL10 2DG\, United Kingdom
CATEGORIES:Sport
ATTACH;FMTTYPE=image/png:https://stonehousetowncouncil.gov.uk/wp-content/uploads/2024/04/ckc-.png
ORGANIZER;CN="Cotswold Karate Club":MAILTO:cotswoldkarateclub@gmail.com
END:VEVENT
BEGIN:VEVENT
DTSTART;TZID=Europe/London:20240812T193000
DTEND;TZID=Europe/London:20240812T204500
DTSTAMP:20260421T042434
CREATED:20240404T131540Z
LAST-MODIFIED:20240404T131541Z
UID:10006978-1723491000-1723495500@stonehousetowncouncil.gov.uk
SUMMARY:Stonehouse Community Choir
DESCRIPTION:Come and join the Stonehouse Community Choir on Monday evenings. \nAll abilities welcome
URL:https://stonehousetowncouncil.gov.uk/event/stonehouse-community-choir/2024-08-12/
LOCATION:St Josephs Church Hall\, Oldends Lane\, Stonehouse\, GL10 2DG\, United Kingdom
ATTACH;FMTTYPE=image/jpeg:https://stonehousetowncouncil.gov.uk/wp-content/uploads/2024/04/Comm-Choir-scaled.jpg
END:VEVENT
BEGIN:VEVENT
DTSTART;TZID=Europe/London:20240806T190000
DTEND;TZID=Europe/London:20240806T200000
DTSTAMP:20260421T042434
CREATED:20240425T094312Z
LAST-MODIFIED:20240425T094312Z
UID:10007238-1722970800-1722974400@stonehousetowncouncil.gov.uk
SUMMARY:Karate Lessons with Cotswold Karate Club
DESCRIPTION:Karate lessons for those aged 10 and over at\nSt Joseph’s Church Hall\nOldends Lane\nStonehouse. \nTraining Fees are £4 a week\, payable on the night. \nThere are No Joining Fees \nCome and see what you think – First lesson is free.
URL:https://stonehousetowncouncil.gov.uk/event/karate-lessons-with-cotswold-karate-club/2024-08-06/
LOCATION:St Josephs Church Hall\, Oldends Lane\, Stonehouse\, GL10 2DG\, United Kingdom
CATEGORIES:Sport
ATTACH;FMTTYPE=image/png:https://stonehousetowncouncil.gov.uk/wp-content/uploads/2024/04/ckc-.png
ORGANIZER;CN="Cotswold Karate Club":MAILTO:cotswoldkarateclub@gmail.com
END:VEVENT
BEGIN:VEVENT
DTSTART;TZID=Europe/London:20240805T193000
DTEND;TZID=Europe/London:20240805T204500
DTSTAMP:20260421T042434
CREATED:20240404T131540Z
LAST-MODIFIED:20240404T131541Z
UID:10006977-1722886200-1722890700@stonehousetowncouncil.gov.uk
SUMMARY:Stonehouse Community Choir
DESCRIPTION:Come and join the Stonehouse Community Choir on Monday evenings. \nAll abilities welcome
URL:https://stonehousetowncouncil.gov.uk/event/stonehouse-community-choir/2024-08-05/
LOCATION:St Josephs Church Hall\, Oldends Lane\, Stonehouse\, GL10 2DG\, United Kingdom
ATTACH;FMTTYPE=image/jpeg:https://stonehousetowncouncil.gov.uk/wp-content/uploads/2024/04/Comm-Choir-scaled.jpg
END:VEVENT
BEGIN:VEVENT
DTSTART;TZID=Europe/London:20240730T190000
DTEND;TZID=Europe/London:20240730T200000
DTSTAMP:20260421T042434
CREATED:20240425T094312Z
LAST-MODIFIED:20240425T094312Z
UID:10007237-1722366000-1722369600@stonehousetowncouncil.gov.uk
SUMMARY:Karate Lessons with Cotswold Karate Club
DESCRIPTION:Karate lessons for those aged 10 and over at\nSt Joseph’s Church Hall\nOldends Lane\nStonehouse. \nTraining Fees are £4 a week\, payable on the night. \nThere are No Joining Fees \nCome and see what you think – First lesson is free.
URL:https://stonehousetowncouncil.gov.uk/event/karate-lessons-with-cotswold-karate-club/2024-07-30/
LOCATION:St Josephs Church Hall\, Oldends Lane\, Stonehouse\, GL10 2DG\, United Kingdom
CATEGORIES:Sport
ATTACH;FMTTYPE=image/png:https://stonehousetowncouncil.gov.uk/wp-content/uploads/2024/04/ckc-.png
ORGANIZER;CN="Cotswold Karate Club":MAILTO:cotswoldkarateclub@gmail.com
END:VEVENT
BEGIN:VEVENT
DTSTART;VALUE=DATE:20240730
DTEND;VALUE=DATE:20240731
DTSTAMP:20260421T042434
CREATED:20240717T105449Z
LAST-MODIFIED:20240717T105449Z
UID:10008165-1722297600-1722383999@stonehousetowncouncil.gov.uk
SUMMARY:Stonehouse in Bloom National Judging
DESCRIPTION:
URL:https://stonehousetowncouncil.gov.uk/event/stonehouse-in-bloom-national-judging/
CATEGORIES:Community,Stonehouse in Bloom,Stonehouse Town Council
ATTACH;FMTTYPE=image/jpeg:https://stonehousetowncouncil.gov.uk/wp-content/uploads/2024/07/SIB-Reg-Nat-Judging-Poster-for-Town-A4.jpg
END:VEVENT
BEGIN:VEVENT
DTSTART;TZID=Europe/London:20240729T193000
DTEND;TZID=Europe/London:20240729T204500
DTSTAMP:20260421T042434
CREATED:20240404T131540Z
LAST-MODIFIED:20240404T131541Z
UID:10006976-1722281400-1722285900@stonehousetowncouncil.gov.uk
SUMMARY:Stonehouse Community Choir
DESCRIPTION:Come and join the Stonehouse Community Choir on Monday evenings. \nAll abilities welcome
URL:https://stonehousetowncouncil.gov.uk/event/stonehouse-community-choir/2024-07-29/
LOCATION:St Josephs Church Hall\, Oldends Lane\, Stonehouse\, GL10 2DG\, United Kingdom
ATTACH;FMTTYPE=image/jpeg:https://stonehousetowncouncil.gov.uk/wp-content/uploads/2024/04/Comm-Choir-scaled.jpg
END:VEVENT
BEGIN:VEVENT
DTSTART;VALUE=DATE:20240726
DTEND;VALUE=DATE:20240727
DTSTAMP:20260421T042434
CREATED:20240711T122249Z
LAST-MODIFIED:20240711T123317Z
UID:10007783-1721952000-1722038399@stonehousetowncouncil.gov.uk
SUMMARY:Flower Sculpture Trail
DESCRIPTION:Discover the flower sculptures along the trail and vote for your favourite sculpture.\nPick up a trail map from The Old Chapel Garden on Saturday 13th July (2-4:30pm) or from Stonehouse Town Council weekdays between 15th -26th July or by emailing contactus@stonehousetowncouncil.gov.uk\nReturn your entries to Stonehouse Town Council by 26th July.\nBrought to you by Stonehouse Town Council in support of Stonehouse in Bloom.
URL:https://stonehousetowncouncil.gov.uk/event/flower-sculpture-trail/2024-07-26/
CATEGORIES:Community,Free,Stonehouse in Bloom,Stonehouse Town Council
ATTACH;FMTTYPE=image/jpeg:https://stonehousetowncouncil.gov.uk/wp-content/uploads/2024/07/SIB-Flower-Sculpture-Trail-Poster-2024.jpg
ORGANIZER;CN="Stonehouse Town Council":MAILTO:contactus@stonehousetowncouncil.gov.uk
END:VEVENT
END:VCALENDAR