BEGIN:VCALENDAR
VERSION:2.0
PRODID:-//Stonehouse Town Council - ECPv6.15.20//NONSGML v1.0//EN
CALSCALE:GREGORIAN
METHOD:PUBLISH
X-WR-CALNAME:Stonehouse Town Council
X-ORIGINAL-URL:https://stonehousetowncouncil.gov.uk
X-WR-CALDESC:Events for Stonehouse Town Council
REFRESH-INTERVAL;VALUE=DURATION:PT1H
X-Robots-Tag:noindex
X-PUBLISHED-TTL:PT1H
BEGIN:VTIMEZONE
TZID:Europe/London
BEGIN:DAYLIGHT
TZOFFSETFROM:+0000
TZOFFSETTO:+0100
TZNAME:BST
DTSTART:20240331T010000
END:DAYLIGHT
BEGIN:STANDARD
TZOFFSETFROM:+0100
TZOFFSETTO:+0000
TZNAME:GMT
DTSTART:20241027T010000
END:STANDARD
BEGIN:DAYLIGHT
TZOFFSETFROM:+0000
TZOFFSETTO:+0100
TZNAME:BST
DTSTART:20250330T010000
END:DAYLIGHT
BEGIN:STANDARD
TZOFFSETFROM:+0100
TZOFFSETTO:+0000
TZNAME:GMT
DTSTART:20251026T010000
END:STANDARD
BEGIN:DAYLIGHT
TZOFFSETFROM:+0000
TZOFFSETTO:+0100
TZNAME:BST
DTSTART:20260329T010000
END:DAYLIGHT
BEGIN:STANDARD
TZOFFSETFROM:+0100
TZOFFSETTO:+0000
TZNAME:GMT
DTSTART:20261025T010000
END:STANDARD
END:VTIMEZONE
BEGIN:VEVENT
DTSTART;TZID=Europe/London:20250401T190000
DTEND;TZID=Europe/London:20250401T200000
DTSTAMP:20260420T111113
CREATED:20240425T094312Z
LAST-MODIFIED:20240425T094312Z
UID:10007272-1743534000-1743537600@stonehousetowncouncil.gov.uk
SUMMARY:Karate Lessons with Cotswold Karate Club
DESCRIPTION:Karate lessons for those aged 10 and over at\nSt Joseph’s Church Hall\nOldends Lane\nStonehouse. \nTraining Fees are £4 a week\, payable on the night. \nThere are No Joining Fees \nCome and see what you think – First lesson is free.
URL:https://stonehousetowncouncil.gov.uk/event/karate-lessons-with-cotswold-karate-club/2025-04-01/
LOCATION:St Josephs Church Hall\, Oldends Lane\, Stonehouse\, GL10 2DG\, United Kingdom
CATEGORIES:Sport
ATTACH;FMTTYPE=image/png:https://stonehousetowncouncil.gov.uk/wp-content/uploads/2024/04/ckc-.png
ORGANIZER;CN="Cotswold Karate Club":MAILTO:cotswoldkarateclub@gmail.com
END:VEVENT
BEGIN:VEVENT
DTSTART;TZID=Europe/London:20250407T193000
DTEND;TZID=Europe/London:20250407T204500
DTSTAMP:20260420T111113
CREATED:20240404T131540Z
LAST-MODIFIED:20240404T131541Z
UID:10007012-1744054200-1744058700@stonehousetowncouncil.gov.uk
SUMMARY:Stonehouse Community Choir
DESCRIPTION:Come and join the Stonehouse Community Choir on Monday evenings. \nAll abilities welcome
URL:https://stonehousetowncouncil.gov.uk/event/stonehouse-community-choir/2025-04-07/
LOCATION:St Josephs Church Hall\, Oldends Lane\, Stonehouse\, GL10 2DG\, United Kingdom
ATTACH;FMTTYPE=image/jpeg:https://stonehousetowncouncil.gov.uk/wp-content/uploads/2024/04/Comm-Choir-scaled.jpg
END:VEVENT
BEGIN:VEVENT
DTSTART;TZID=Europe/London:20250408T190000
DTEND;TZID=Europe/London:20250408T200000
DTSTAMP:20260420T111113
CREATED:20240425T094312Z
LAST-MODIFIED:20240425T094312Z
UID:10007273-1744138800-1744142400@stonehousetowncouncil.gov.uk
SUMMARY:Karate Lessons with Cotswold Karate Club
DESCRIPTION:Karate lessons for those aged 10 and over at\nSt Joseph’s Church Hall\nOldends Lane\nStonehouse. \nTraining Fees are £4 a week\, payable on the night. \nThere are No Joining Fees \nCome and see what you think – First lesson is free.
URL:https://stonehousetowncouncil.gov.uk/event/karate-lessons-with-cotswold-karate-club/2025-04-08/
LOCATION:St Josephs Church Hall\, Oldends Lane\, Stonehouse\, GL10 2DG\, United Kingdom
CATEGORIES:Sport
ATTACH;FMTTYPE=image/png:https://stonehousetowncouncil.gov.uk/wp-content/uploads/2024/04/ckc-.png
ORGANIZER;CN="Cotswold Karate Club":MAILTO:cotswoldkarateclub@gmail.com
END:VEVENT
BEGIN:VEVENT
DTSTART;TZID=Europe/London:20250414T193000
DTEND;TZID=Europe/London:20250414T204500
DTSTAMP:20260420T111113
CREATED:20240404T131540Z
LAST-MODIFIED:20240404T131541Z
UID:10007013-1744659000-1744663500@stonehousetowncouncil.gov.uk
SUMMARY:Stonehouse Community Choir
DESCRIPTION:Come and join the Stonehouse Community Choir on Monday evenings. \nAll abilities welcome
URL:https://stonehousetowncouncil.gov.uk/event/stonehouse-community-choir/2025-04-14/
LOCATION:St Josephs Church Hall\, Oldends Lane\, Stonehouse\, GL10 2DG\, United Kingdom
ATTACH;FMTTYPE=image/jpeg:https://stonehousetowncouncil.gov.uk/wp-content/uploads/2024/04/Comm-Choir-scaled.jpg
END:VEVENT
BEGIN:VEVENT
DTSTART;TZID=Europe/London:20250415T190000
DTEND;TZID=Europe/London:20250415T200000
DTSTAMP:20260420T111113
CREATED:20240425T094312Z
LAST-MODIFIED:20240425T094312Z
UID:10007274-1744743600-1744747200@stonehousetowncouncil.gov.uk
SUMMARY:Karate Lessons with Cotswold Karate Club
DESCRIPTION:Karate lessons for those aged 10 and over at\nSt Joseph’s Church Hall\nOldends Lane\nStonehouse. \nTraining Fees are £4 a week\, payable on the night. \nThere are No Joining Fees \nCome and see what you think – First lesson is free.
URL:https://stonehousetowncouncil.gov.uk/event/karate-lessons-with-cotswold-karate-club/2025-04-15/
LOCATION:St Josephs Church Hall\, Oldends Lane\, Stonehouse\, GL10 2DG\, United Kingdom
CATEGORIES:Sport
ATTACH;FMTTYPE=image/png:https://stonehousetowncouncil.gov.uk/wp-content/uploads/2024/04/ckc-.png
ORGANIZER;CN="Cotswold Karate Club":MAILTO:cotswoldkarateclub@gmail.com
END:VEVENT
BEGIN:VEVENT
DTSTART;TZID=Europe/London:20250417T190000
DTEND;TZID=Europe/London:20250417T210000
DTSTAMP:20260420T111113
CREATED:20250328T154327Z
LAST-MODIFIED:20250328T154327Z
UID:10008575-1744916400-1744923600@stonehousetowncouncil.gov.uk
SUMMARY:Annual Town & Civic Awards Meeting
DESCRIPTION:
URL:https://stonehousetowncouncil.gov.uk/event/annual-town-civic-awards-meeting/
LOCATION:Stonehouse Town Council\, 1 Queen's Road\, Stonehouse\, Gloucestershire\, GL10 2QA\, United Kingdom
CATEGORIES:Celebration,Community,Stonehouse Town Council
ORGANIZER;CN="Stonehouse Town Council":MAILTO:contactus@stonehousetowncouncil.gov.uk
END:VEVENT
BEGIN:VEVENT
DTSTART;TZID=Europe/London:20250421T193000
DTEND;TZID=Europe/London:20250421T204500
DTSTAMP:20260420T111113
CREATED:20240404T131540Z
LAST-MODIFIED:20240404T131541Z
UID:10007014-1745263800-1745268300@stonehousetowncouncil.gov.uk
SUMMARY:Stonehouse Community Choir
DESCRIPTION:Come and join the Stonehouse Community Choir on Monday evenings. \nAll abilities welcome
URL:https://stonehousetowncouncil.gov.uk/event/stonehouse-community-choir/2025-04-21/
LOCATION:St Josephs Church Hall\, Oldends Lane\, Stonehouse\, GL10 2DG\, United Kingdom
ATTACH;FMTTYPE=image/jpeg:https://stonehousetowncouncil.gov.uk/wp-content/uploads/2024/04/Comm-Choir-scaled.jpg
END:VEVENT
BEGIN:VEVENT
DTSTART;TZID=Europe/London:20250422T190000
DTEND;TZID=Europe/London:20250422T200000
DTSTAMP:20260420T111113
CREATED:20240425T094312Z
LAST-MODIFIED:20240425T094312Z
UID:10007275-1745348400-1745352000@stonehousetowncouncil.gov.uk
SUMMARY:Karate Lessons with Cotswold Karate Club
DESCRIPTION:Karate lessons for those aged 10 and over at\nSt Joseph’s Church Hall\nOldends Lane\nStonehouse. \nTraining Fees are £4 a week\, payable on the night. \nThere are No Joining Fees \nCome and see what you think – First lesson is free.
URL:https://stonehousetowncouncil.gov.uk/event/karate-lessons-with-cotswold-karate-club/2025-04-22/
LOCATION:St Josephs Church Hall\, Oldends Lane\, Stonehouse\, GL10 2DG\, United Kingdom
CATEGORIES:Sport
ATTACH;FMTTYPE=image/png:https://stonehousetowncouncil.gov.uk/wp-content/uploads/2024/04/ckc-.png
ORGANIZER;CN="Cotswold Karate Club":MAILTO:cotswoldkarateclub@gmail.com
END:VEVENT
BEGIN:VEVENT
DTSTART;TZID=Europe/London:20250428T193000
DTEND;TZID=Europe/London:20250428T204500
DTSTAMP:20260420T111113
CREATED:20240404T131540Z
LAST-MODIFIED:20240404T131541Z
UID:10007015-1745868600-1745873100@stonehousetowncouncil.gov.uk
SUMMARY:Stonehouse Community Choir
DESCRIPTION:Come and join the Stonehouse Community Choir on Monday evenings. \nAll abilities welcome
URL:https://stonehousetowncouncil.gov.uk/event/stonehouse-community-choir/2025-04-28/
LOCATION:St Josephs Church Hall\, Oldends Lane\, Stonehouse\, GL10 2DG\, United Kingdom
ATTACH;FMTTYPE=image/jpeg:https://stonehousetowncouncil.gov.uk/wp-content/uploads/2024/04/Comm-Choir-scaled.jpg
END:VEVENT
BEGIN:VEVENT
DTSTART;TZID=Europe/London:20250429T190000
DTEND;TZID=Europe/London:20250429T200000
DTSTAMP:20260420T111113
CREATED:20240425T094312Z
LAST-MODIFIED:20240425T094312Z
UID:10007276-1745953200-1745956800@stonehousetowncouncil.gov.uk
SUMMARY:Karate Lessons with Cotswold Karate Club
DESCRIPTION:Karate lessons for those aged 10 and over at\nSt Joseph’s Church Hall\nOldends Lane\nStonehouse. \nTraining Fees are £4 a week\, payable on the night. \nThere are No Joining Fees \nCome and see what you think – First lesson is free.
URL:https://stonehousetowncouncil.gov.uk/event/karate-lessons-with-cotswold-karate-club/2025-04-29/
LOCATION:St Josephs Church Hall\, Oldends Lane\, Stonehouse\, GL10 2DG\, United Kingdom
CATEGORIES:Sport
ATTACH;FMTTYPE=image/png:https://stonehousetowncouncil.gov.uk/wp-content/uploads/2024/04/ckc-.png
ORGANIZER;CN="Cotswold Karate Club":MAILTO:cotswoldkarateclub@gmail.com
END:VEVENT
END:VCALENDAR